| Back to Build/check report for BioC 3.22: simplified long |
|
This page was generated on 2025-11-13 11:55 -0500 (Thu, 13 Nov 2025).
| Hostname | OS | Arch (*) | R version | Installed pkgs |
|---|---|---|---|---|
| taishan | Linux (openEuler 24.03 LTS) | aarch64 | 4.5.0 (2025-04-11) -- "How About a Twenty-Six" | 4668 |
| Click on any hostname to see more info about the system (e.g. compilers) (*) as reported by 'uname -p', except on Windows and Mac OS X | ||||
| Package 1475/2361 | Hostname | OS / Arch | INSTALL | BUILD | CHECK | BUILD BIN | ||||||||
| notameViz 1.0.0 (landing page) Vilhelm Suksi
| taishan | Linux (openEuler 24.03 LTS) / aarch64 | OK | OK | OK | |||||||||
|
To the developers/maintainers of the notameViz package: - Allow up to 24 hours (and sometimes 48 hours) for your latest push to git@git.bioconductor.org:packages/notameViz.git to reflect on this report. See Troubleshooting Build Report for more information. - Use the following Renviron settings to reproduce errors and warnings. - If 'R CMD check' started to fail recently on the Linux builder(s) over a missing dependency, add the missing dependency to 'Suggests:' in your DESCRIPTION file. See Renviron.bioc for more information. - See Martin Grigorov's blog post for how to debug Linux ARM64 related issues on a x86_64 host. |
| Package: notameViz |
| Version: 1.0.0 |
| Command: /home/biocbuild/R/R/bin/R CMD check --install=check:notameViz.install-out.txt --library=/home/biocbuild/R/R/site-library --no-vignettes --timings notameViz_1.0.0.tar.gz |
| StartedAt: 2025-11-11 12:34:32 -0000 (Tue, 11 Nov 2025) |
| EndedAt: 2025-11-11 12:40:51 -0000 (Tue, 11 Nov 2025) |
| EllapsedTime: 378.6 seconds |
| RetCode: 0 |
| Status: OK |
| CheckDir: notameViz.Rcheck |
| Warnings: 0 |
##############################################################################
##############################################################################
###
### Running command:
###
### /home/biocbuild/R/R/bin/R CMD check --install=check:notameViz.install-out.txt --library=/home/biocbuild/R/R/site-library --no-vignettes --timings notameViz_1.0.0.tar.gz
###
##############################################################################
##############################################################################
* using log directory ‘/home/biocbuild/bbs-3.22-bioc/meat/notameViz.Rcheck’
* using R version 4.5.0 (2025-04-11)
* using platform: aarch64-unknown-linux-gnu
* R was compiled by
aarch64-unknown-linux-gnu-gcc (GCC) 14.2.0
GNU Fortran (GCC) 14.2.0
* running under: openEuler 24.03 (LTS)
* using session charset: UTF-8
* using option ‘--no-vignettes’
* checking for file ‘notameViz/DESCRIPTION’ ... OK
* checking extension type ... Package
* this is package ‘notameViz’ version ‘1.0.0’
* package encoding: UTF-8
* checking package namespace information ... OK
* checking package dependencies ... OK
* checking if this is a source package ... OK
* checking if there is a namespace ... OK
* checking for hidden files and directories ... OK
* checking for portable file names ... OK
* checking for sufficient/correct file permissions ... OK
* checking whether package ‘notameViz’ can be installed ... OK
* checking installed package size ... OK
* checking package directory ... OK
* checking ‘build’ directory ... OK
* checking DESCRIPTION meta-information ... NOTE
License stub is invalid DCF.
* checking top-level files ... OK
* checking for left-over files ... OK
* checking index information ... OK
* checking package subdirectories ... OK
* checking code files for non-ASCII characters ... OK
* checking R files for syntax errors ... OK
* checking whether the package can be loaded ... OK
* checking whether the package can be loaded with stated dependencies ... OK
* checking whether the package can be unloaded cleanly ... OK
* checking whether the namespace can be loaded with stated dependencies ... OK
* checking whether the namespace can be unloaded cleanly ... OK
* checking loading without being on the library search path ... OK
* checking dependencies in R code ... OK
* checking S3 generic/method consistency ... OK
* checking replacement functions ... OK
* checking foreign function calls ... OK
* checking R code for possible problems ... OK
* checking Rd files ... OK
* checking Rd metadata ... OK
* checking Rd cross-references ... NOTE
Found the following Rd file(s) with Rd \link{} targets missing package
anchors:
save_dc_plots.Rd: correct_drift
Please provide package anchors for all Rd \link{} targets not in the
package itself and the base packages.
* checking for missing documentation entries ... OK
* checking for code/documentation mismatches ... OK
* checking Rd \usage sections ... OK
* checking Rd contents ... OK
* checking for unstated dependencies in examples ... OK
* checking files in ‘vignettes’ ... OK
* checking examples ... OK
Examples with CPU (user + system) or elapsed time > 5s
user system elapsed
save_QC_plots 17.341 3.368 17.519
plot_injection_lm 14.841 4.950 8.595
save_batch_plots 12.435 0.316 12.796
save_group_boxplots 10.635 0.172 10.874
save_group_lineplots 9.779 0.064 9.870
manhattan_plot 7.779 1.298 5.857
plot_effect_heatmap 7.583 1.459 5.167
mz_rt_plot 6.638 1.659 4.935
save_beeswarm_plots 7.925 0.206 8.156
plot_p_histogram 4.781 1.597 3.057
volcano_plot 4.746 1.552 2.507
save_subject_line_plots 4.620 0.374 5.017
* checking for unstated dependencies in ‘tests’ ... OK
* checking tests ...
Running ‘testthat.R’
OK
* checking for unstated dependencies in vignettes ... OK
* checking package vignettes ... OK
* checking running R code from vignettes ... SKIPPED
* checking re-building of vignette outputs ... SKIPPED
* checking PDF version of manual ... OK
* DONE
Status: 2 NOTEs
See
‘/home/biocbuild/bbs-3.22-bioc/meat/notameViz.Rcheck/00check.log’
for details.
notameViz.Rcheck/00install.out
############################################################################## ############################################################################## ### ### Running command: ### ### /home/biocbuild/R/R/bin/R CMD INSTALL notameViz ### ############################################################################## ############################################################################## * installing to library ‘/home/biocbuild/R/R-4.5.0/site-library’ * installing *source* package ‘notameViz’ ... ** this is package ‘notameViz’ version ‘1.0.0’ ** using staged installation ** R ** inst ** byte-compile and prepare package for lazy loading ** help *** installing help indices ** building package indices ** installing vignettes ** testing if installed package can be loaded from temporary location ** testing if installed package can be loaded from final location ** testing if installed package keeps a record of temporary installation path * DONE (notameViz)
notameViz.Rcheck/tests/testthat.Rout
R version 4.5.0 (2025-04-11) -- "How About a Twenty-Six"
Copyright (C) 2025 The R Foundation for Statistical Computing
Platform: aarch64-unknown-linux-gnu
R is free software and comes with ABSOLUTELY NO WARRANTY.
You are welcome to redistribute it under certain conditions.
Type 'license()' or 'licence()' for distribution details.
R is a collaborative project with many contributors.
Type 'contributors()' for more information and
'citation()' on how to cite R or R packages in publications.
Type 'demo()' for some demos, 'help()' for on-line help, or
'help.start()' for an HTML browser interface to help.
Type 'q()' to quit R.
> library(testthat)
> library(notameViz)
Loading required package: ggplot2
Loading required package: SummarizedExperiment
Loading required package: MatrixGenerics
Loading required package: matrixStats
Attaching package: 'MatrixGenerics'
The following objects are masked from 'package:matrixStats':
colAlls, colAnyNAs, colAnys, colAvgsPerRowSet, colCollapse,
colCounts, colCummaxs, colCummins, colCumprods, colCumsums,
colDiffs, colIQRDiffs, colIQRs, colLogSumExps, colMadDiffs,
colMads, colMaxs, colMeans2, colMedians, colMins, colOrderStats,
colProds, colQuantiles, colRanges, colRanks, colSdDiffs, colSds,
colSums2, colTabulates, colVarDiffs, colVars, colWeightedMads,
colWeightedMeans, colWeightedMedians, colWeightedSds,
colWeightedVars, rowAlls, rowAnyNAs, rowAnys, rowAvgsPerColSet,
rowCollapse, rowCounts, rowCummaxs, rowCummins, rowCumprods,
rowCumsums, rowDiffs, rowIQRDiffs, rowIQRs, rowLogSumExps,
rowMadDiffs, rowMads, rowMaxs, rowMeans2, rowMedians, rowMins,
rowOrderStats, rowProds, rowQuantiles, rowRanges, rowRanks,
rowSdDiffs, rowSds, rowSums2, rowTabulates, rowVarDiffs, rowVars,
rowWeightedMads, rowWeightedMeans, rowWeightedMedians,
rowWeightedSds, rowWeightedVars
Loading required package: GenomicRanges
Loading required package: stats4
Loading required package: BiocGenerics
Loading required package: generics
Attaching package: 'generics'
The following objects are masked from 'package:base':
as.difftime, as.factor, as.ordered, intersect, is.element, setdiff,
setequal, union
Attaching package: 'BiocGenerics'
The following objects are masked from 'package:stats':
IQR, mad, sd, var, xtabs
The following objects are masked from 'package:base':
Filter, Find, Map, Position, Reduce, anyDuplicated, aperm, append,
as.data.frame, basename, cbind, colnames, dirname, do.call,
duplicated, eval, evalq, get, grep, grepl, is.unsorted, lapply,
mapply, match, mget, order, paste, pmax, pmax.int, pmin, pmin.int,
rank, rbind, rownames, sapply, saveRDS, table, tapply, unique,
unsplit, which.max, which.min
Loading required package: S4Vectors
Attaching package: 'S4Vectors'
The following object is masked from 'package:utils':
findMatches
The following objects are masked from 'package:base':
I, expand.grid, unname
Loading required package: IRanges
Loading required package: Seqinfo
Loading required package: Biobase
Welcome to Bioconductor
Vignettes contain introductory material; view with
'browseVignettes()'. To cite Bioconductor, see
'citation("Biobase")', and for packages 'citation("pkgname")'.
Attaching package: 'Biobase'
The following object is masked from 'package:MatrixGenerics':
rowMedians
The following objects are masked from 'package:matrixStats':
anyMissing, rowMedians
>
> test_check("notameViz")
Running tests in parallel requires the 3rd edition
INFO [2025-11-11 12:40:14] Saved to: /home/biocbuild/tmp/RtmpxIhPdz\test\recursive/file31dd266a2716b1.pdf
INFO [2025-11-11 12:40:14] Saved to: /home/biocbuild/tmp/RtmpxIhPdz/file31dd265751ef73.pdf
INFO [2025-11-11 12:40:14] Saved to: /home/biocbuild/tmp/RtmpxIhPdz/file31dd2655470a32.emf
INFO [2025-11-11 12:40:14] Saved to: /home/biocbuild/tmp/RtmpxIhPdz/file31dd26239eb9b.svg
INFO [2025-11-11 12:40:14] Saved to: /home/biocbuild/tmp/RtmpxIhPdz/file31dd26779668e0.png
INFO [2025-11-11 12:40:15] Saved to: /home/biocbuild/tmp/RtmpxIhPdz/file31dd26201bbb4a.tiff
INFO [2025-11-11 12:40:16] Saved to: /home/biocbuild/tmp/RtmpxIhPdz\test\/HILIC_neg_259_9623a4_4322.emf
INFO [2025-11-11 12:40:17] Saved to: /home/biocbuild/tmp/RtmpxIhPdz\test\/HILIC_neg_108_1065a2_6121.emf
INFO [2025-11-11 12:40:17] Saved to: /home/biocbuild/tmp/RtmpxIhPdz\test\/HILIC_neg_158_23a1_4128.emf
INFO [2025-11-11 12:40:18] Saved to: /home/biocbuild/tmp/RtmpxIhPdz\test\/HILIC_neg_251_0056a0_6161.emf
INFO [2025-11-11 12:40:18] Saved to: /home/biocbuild/tmp/RtmpxIhPdz\test\/HILIC_neg_401_52a4_211.emf
INFO [2025-11-11 12:40:18] Saved line plots with mean line to: /home/biocbuild/tmp/RtmpxIhPdz\test\
INFO [2025-11-11 12:40:19] Saved to: /home/biocbuild/tmp/RtmpxIhPdz\test\/Glucose.emf
INFO [2025-11-11 12:40:19] Saved to: /home/biocbuild/tmp/RtmpxIhPdz\test\/Threoline.emf
INFO [2025-11-11 12:40:20] Saved to: /home/biocbuild/tmp/RtmpxIhPdz\test\/5-AVAB.emf
INFO [2025-11-11 12:40:20] Saved to: /home/biocbuild/tmp/RtmpxIhPdz\test\/1_2 acid.emf
INFO [2025-11-11 12:40:21] Saved to: /home/biocbuild/tmp/RtmpxIhPdz\test\/20_0 carbon chain.emf
INFO [2025-11-11 12:40:21] Saved line plots with mean line to: /home/biocbuild/tmp/RtmpxIhPdz\test\
INFO [2025-11-11 12:40:21] Saved to: /home/biocbuild/tmp/RtmpxIhPdz\test\/HILIC_neg_259_9623a4_4322.emf
INFO [2025-11-11 12:40:22] Saved to: /home/biocbuild/tmp/RtmpxIhPdz\test\/HILIC_neg_108_1065a2_6121.emf
INFO [2025-11-11 12:40:22] Saved to: /home/biocbuild/tmp/RtmpxIhPdz\test\/HILIC_neg_158_23a1_4128.emf
INFO [2025-11-11 12:40:23] Saved to: /home/biocbuild/tmp/RtmpxIhPdz\test\/HILIC_neg_251_0056a0_6161.emf
INFO [2025-11-11 12:40:23] Saved to: /home/biocbuild/tmp/RtmpxIhPdz\test\/HILIC_neg_401_52a4_211.emf
INFO [2025-11-11 12:40:23] Saved group boxplots to: /home/biocbuild/tmp/RtmpxIhPdz\test\
INFO [2025-11-11 12:40:24] Saved to: /home/biocbuild/tmp/RtmpxIhPdz\test\/HILIC_neg_259_9623a4_4322.emf
INFO [2025-11-11 12:40:24] Saved to: /home/biocbuild/tmp/RtmpxIhPdz\test\/HILIC_neg_108_1065a2_6121.emf
INFO [2025-11-11 12:40:25] Saved to: /home/biocbuild/tmp/RtmpxIhPdz\test\/HILIC_neg_158_23a1_4128.emf
INFO [2025-11-11 12:40:25] Saved to: /home/biocbuild/tmp/RtmpxIhPdz\test\/HILIC_neg_251_0056a0_6161.emf
INFO [2025-11-11 12:40:26] Saved to: /home/biocbuild/tmp/RtmpxIhPdz\test\/HILIC_neg_401_52a4_211.emf
INFO [2025-11-11 12:40:26] Saved group boxplots to: /home/biocbuild/tmp/RtmpxIhPdz\test\
INFO [2025-11-11 12:40:26] Saved to: /home/biocbuild/tmp/RtmpxIhPdz\test\/HILIC_neg_259_9623a4_4322.emf
INFO [2025-11-11 12:40:27] Saved to: /home/biocbuild/tmp/RtmpxIhPdz\test\/HILIC_neg_108_1065a2_6121.emf
INFO [2025-11-11 12:40:27] Saved to: /home/biocbuild/tmp/RtmpxIhPdz\test\/HILIC_neg_158_23a1_4128.emf
INFO [2025-11-11 12:40:28] Saved to: /home/biocbuild/tmp/RtmpxIhPdz\test\/HILIC_neg_251_0056a0_6161.emf
INFO [2025-11-11 12:40:28] Saved to: /home/biocbuild/tmp/RtmpxIhPdz\test\/HILIC_neg_401_52a4_211.emf
INFO [2025-11-11 12:40:28] Saved beeswarm plots to: /home/biocbuild/tmp/RtmpxIhPdz\test\
INFO [2025-11-11 12:40:29] Saved to: /home/biocbuild/tmp/RtmpxIhPdz\test\/Glucose.emf
INFO [2025-11-11 12:40:29] Saved to: /home/biocbuild/tmp/RtmpxIhPdz\test\/Threoline.emf
INFO [2025-11-11 12:40:29] Saved to: /home/biocbuild/tmp/RtmpxIhPdz\test\/5-AVAB.emf
INFO [2025-11-11 12:40:30] Saved to: /home/biocbuild/tmp/RtmpxIhPdz\test\/1_2 acid.emf
INFO [2025-11-11 12:40:30] Saved to: /home/biocbuild/tmp/RtmpxIhPdz\test\/20_0 carbon chain.emf
INFO [2025-11-11 12:40:30] Saved beeswarm plots to: /home/biocbuild/tmp/RtmpxIhPdz\test\
INFO [2025-11-11 12:40:31] Saved to: /home/biocbuild/tmp/RtmpxIhPdz\test\/HILIC_neg_259_9623a4_4322.emf
INFO [2025-11-11 12:40:31] Saved to: /home/biocbuild/tmp/RtmpxIhPdz\test\/HILIC_neg_108_1065a2_6121.emf
INFO [2025-11-11 12:40:32] Saved to: /home/biocbuild/tmp/RtmpxIhPdz\test\/HILIC_neg_158_23a1_4128.emf
INFO [2025-11-11 12:40:32] Saved to: /home/biocbuild/tmp/RtmpxIhPdz\test\/HILIC_neg_251_0056a0_6161.emf
INFO [2025-11-11 12:40:33] Saved to: /home/biocbuild/tmp/RtmpxIhPdz\test\/HILIC_neg_401_52a4_211.emf
INFO [2025-11-11 12:40:33] Saved scatter plots to: /home/biocbuild/tmp/RtmpxIhPdz\test\
INFO [2025-11-11 12:40:33] Saved to: /home/biocbuild/tmp/RtmpxIhPdz\test\/HILIC_neg_259_9623a4_4322.emf
INFO [2025-11-11 12:40:34] Saved to: /home/biocbuild/tmp/RtmpxIhPdz\test\/HILIC_neg_108_1065a2_6121.emf
INFO [2025-11-11 12:40:34] Saved to: /home/biocbuild/tmp/RtmpxIhPdz\test\/HILIC_neg_158_23a1_4128.emf
INFO [2025-11-11 12:40:35] Saved to: /home/biocbuild/tmp/RtmpxIhPdz\test\/HILIC_neg_251_0056a0_6161.emf
INFO [2025-11-11 12:40:35] Saved to: /home/biocbuild/tmp/RtmpxIhPdz\test\/HILIC_neg_401_52a4_211.emf
INFO [2025-11-11 12:40:35] Saved scatter plots to: /home/biocbuild/tmp/RtmpxIhPdz\test\
INFO [2025-11-11 12:40:36] Saved to: /home/biocbuild/tmp/RtmpxIhPdz\test\/HILIC_neg_259_9623a4_4322.emf
INFO [2025-11-11 12:40:37] Saved to: /home/biocbuild/tmp/RtmpxIhPdz\test\/HILIC_neg_108_1065a2_6121.emf
INFO [2025-11-11 12:40:38] Saved to: /home/biocbuild/tmp/RtmpxIhPdz\test\/HILIC_neg_158_23a1_4128.emf
INFO [2025-11-11 12:40:38] Saved to: /home/biocbuild/tmp/RtmpxIhPdz\test\/HILIC_neg_251_0056a0_6161.emf
INFO [2025-11-11 12:40:39] Saved to: /home/biocbuild/tmp/RtmpxIhPdz\test\/HILIC_neg_401_52a4_211.emf
INFO [2025-11-11 12:40:39] Saved line plots with mean line to: /home/biocbuild/tmp/RtmpxIhPdz\test\
INFO [2025-11-11 12:40:40] Saved to: /home/biocbuild/tmp/RtmpxIhPdz\test\/HILIC_neg_259_9623a4_4322.emf
INFO [2025-11-11 12:40:40] Saved to: /home/biocbuild/tmp/RtmpxIhPdz\test\/HILIC_neg_108_1065a2_6121.emf
INFO [2025-11-11 12:40:41] Saved to: /home/biocbuild/tmp/RtmpxIhPdz\test\/HILIC_neg_158_23a1_4128.emf
INFO [2025-11-11 12:40:42] Saved to: /home/biocbuild/tmp/RtmpxIhPdz\test\/HILIC_neg_251_0056a0_6161.emf
INFO [2025-11-11 12:40:42] Saved to: /home/biocbuild/tmp/RtmpxIhPdz\test\/HILIC_neg_401_52a4_211.emf
INFO [2025-11-11 12:40:42] Saved line plots with mean line to: /home/biocbuild/tmp/RtmpxIhPdz\test\
INFO [2025-11-11 12:40:44]
Saved batch plots to: /home/biocbuild/tmp/RtmpxIhPdz\test\batch_plots.pdf
INFO [2025-11-11 12:40:44] Identified m/z column Average_Mz and retention time column Average_Rt_min
INFO [2025-11-11 12:40:44] Identified m/z column Average_Mz and retention time column Average_Rt_min
INFO [2025-11-11 12:40:45] Identified m/z column Average_Mz and retention time column Average_Rt_min
INFO [2025-11-11 12:40:45]
92% of features flagged for low quality
INFO [2025-11-11 12:40:45] Identified m/z column Average_Mz and retention time column Average_Rt_min
INFO [2025-11-11 12:40:45] Identified m/z column Average_Mz and retention time column Average_Rt_min
[ FAIL 0 | WARN 182 | SKIP 0 | PASS 26 ]
[ FAIL 0 | WARN 182 | SKIP 0 | PASS 26 ]
>
> proc.time()
user system elapsed
40.884 1.293 42.664
notameViz.Rcheck/notameViz-Ex.timings
| name | user | system | elapsed | |
| manhattan_plot | 7.779 | 1.298 | 5.857 | |
| mz_rt_plot | 6.638 | 1.659 | 4.935 | |
| plot_dendrogram | 0.707 | 0.064 | 0.773 | |
| plot_dist_density | 2.134 | 0.569 | 2.238 | |
| plot_effect_heatmap | 7.583 | 1.459 | 5.167 | |
| plot_injection_lm | 14.841 | 4.950 | 8.595 | |
| plot_p_histogram | 4.781 | 1.597 | 3.057 | |
| plot_pca | 0.537 | 0.092 | 0.630 | |
| plot_pca_arrows | 1.210 | 0.055 | 1.293 | |
| plot_pca_hexbin | 0.338 | 0.020 | 0.358 | |
| plot_pca_loadings | 0.427 | 0.020 | 0.448 | |
| plot_quality | 1.979 | 0.080 | 2.159 | |
| plot_sample_boxplots | 1.658 | 0.076 | 1.999 | |
| plot_sample_heatmap | 0.919 | 0.047 | 1.030 | |
| plot_tsne | 0.614 | 0.031 | 0.831 | |
| plot_tsne_arrows | 1.174 | 0.092 | 1.269 | |
| plot_tsne_hexbin | 0.406 | 0.004 | 0.412 | |
| save_QC_plots | 17.341 | 3.368 | 17.519 | |
| save_batch_plots | 12.435 | 0.316 | 12.796 | |
| save_beeswarm_plots | 7.925 | 0.206 | 8.156 | |
| save_dc_plots | 3.832 | 0.633 | 4.116 | |
| save_group_boxplots | 10.635 | 0.172 | 10.874 | |
| save_group_lineplots | 9.779 | 0.064 | 9.870 | |
| save_plot | 0.995 | 0.008 | 1.006 | |
| save_scatter_plots | 4.466 | 0.033 | 4.696 | |
| save_subject_line_plots | 4.620 | 0.374 | 5.017 | |
| visualize_clusters | 3.012 | 0.048 | 3.071 | |
| volcano_plot | 4.746 | 1.552 | 2.507 | |