| Back to Multiple platform build/check report for BioC 3.22: simplified long |
|
This page was generated on 2025-11-12 11:58 -0500 (Wed, 12 Nov 2025).
| Hostname | OS | Arch (*) | R version | Installed pkgs |
|---|---|---|---|---|
| nebbiolo2 | Linux (Ubuntu 24.04.3 LTS) | x86_64 | 4.5.1 Patched (2025-08-23 r88802) -- "Great Square Root" | 4902 |
| taishan | Linux (openEuler 24.03 LTS) | aarch64 | 4.5.0 (2025-04-11) -- "How About a Twenty-Six" | 4668 |
| Click on any hostname to see more info about the system (e.g. compilers) (*) as reported by 'uname -p', except on Windows and Mac OS X | ||||
| Package 1473/2361 | Hostname | OS / Arch | INSTALL | BUILD | CHECK | BUILD BIN | ||||||||
| notame 1.0.0 (landing page) Vilhelm Suksi
| nebbiolo2 | Linux (Ubuntu 24.04.3 LTS) / x86_64 | OK | OK | OK | |||||||||
| taishan | Linux (openEuler 24.03 LTS) / aarch64 | OK | OK | OK | ||||||||||
|
To the developers/maintainers of the notame package: - Allow up to 24 hours (and sometimes 48 hours) for your latest push to git@git.bioconductor.org:packages/notame.git to reflect on this report. See Troubleshooting Build Report for more information. - Use the following Renviron settings to reproduce errors and warnings. - If 'R CMD check' started to fail recently on the Linux builder(s) over a missing dependency, add the missing dependency to 'Suggests:' in your DESCRIPTION file. See Renviron.bioc for more information. - See Martin Grigorov's blog post for how to debug Linux ARM64 related issues on a x86_64 host. |
| Package: notame |
| Version: 1.0.0 |
| Command: /home/biocbuild/R/R/bin/R CMD check --install=check:notame.install-out.txt --library=/home/biocbuild/R/R/site-library --no-vignettes --timings notame_1.0.0.tar.gz |
| StartedAt: 2025-11-11 12:32:48 -0000 (Tue, 11 Nov 2025) |
| EndedAt: 2025-11-11 12:38:03 -0000 (Tue, 11 Nov 2025) |
| EllapsedTime: 314.4 seconds |
| RetCode: 0 |
| Status: OK |
| CheckDir: notame.Rcheck |
| Warnings: 0 |
##############################################################################
##############################################################################
###
### Running command:
###
### /home/biocbuild/R/R/bin/R CMD check --install=check:notame.install-out.txt --library=/home/biocbuild/R/R/site-library --no-vignettes --timings notame_1.0.0.tar.gz
###
##############################################################################
##############################################################################
* using log directory ‘/home/biocbuild/bbs-3.22-bioc/meat/notame.Rcheck’
* using R version 4.5.0 (2025-04-11)
* using platform: aarch64-unknown-linux-gnu
* R was compiled by
aarch64-unknown-linux-gnu-gcc (GCC) 14.2.0
GNU Fortran (GCC) 14.2.0
* running under: openEuler 24.03 (LTS)
* using session charset: UTF-8
* using option ‘--no-vignettes’
* checking for file ‘notame/DESCRIPTION’ ... OK
* checking extension type ... Package
* this is package ‘notame’ version ‘1.0.0’
* package encoding: UTF-8
* checking package namespace information ... OK
* checking package dependencies ... OK
* checking if this is a source package ... OK
* checking if there is a namespace ... OK
* checking for hidden files and directories ... OK
* checking for portable file names ... OK
* checking for sufficient/correct file permissions ... OK
* checking whether package ‘notame’ can be installed ... OK
* checking installed package size ... OK
* checking package directory ... OK
* checking ‘build’ directory ... OK
* checking DESCRIPTION meta-information ... NOTE
License stub is invalid DCF.
* checking top-level files ... OK
* checking for left-over files ... OK
* checking index information ... OK
* checking package subdirectories ... OK
* checking code files for non-ASCII characters ... OK
* checking R files for syntax errors ... OK
* checking whether the package can be loaded ... OK
* checking whether the package can be loaded with stated dependencies ... OK
* checking whether the package can be unloaded cleanly ... OK
* checking whether the namespace can be loaded with stated dependencies ... OK
* checking whether the namespace can be unloaded cleanly ... OK
* checking loading without being on the library search path ... OK
* checking whether startup messages can be suppressed ... OK
* checking dependencies in R code ... OK
* checking S3 generic/method consistency ... OK
* checking replacement functions ... OK
* checking foreign function calls ... OK
* checking R code for possible problems ... OK
* checking Rd files ... OK
* checking Rd metadata ... OK
* checking Rd cross-references ... OK
* checking for missing documentation entries ... OK
* checking for code/documentation mismatches ... OK
* checking Rd \usage sections ... OK
* checking Rd contents ... OK
* checking for unstated dependencies in examples ... OK
* checking contents of ‘data’ directory ... OK
* checking data for non-ASCII characters ... OK
* checking data for ASCII and uncompressed saves ... OK
* checking files in ‘vignettes’ ... OK
* checking examples ... OK
Examples with CPU (user + system) or elapsed time > 5s
user system elapsed
pca_bhattacharyya_dist 8.751 0.77 9.787
* checking for unstated dependencies in ‘tests’ ... OK
* checking tests ...
Running ‘testthat.R’
OK
* checking for unstated dependencies in vignettes ... OK
* checking package vignettes ... OK
* checking running R code from vignettes ... SKIPPED
* checking re-building of vignette outputs ... SKIPPED
* checking PDF version of manual ... OK
* DONE
Status: 1 NOTE
See
‘/home/biocbuild/bbs-3.22-bioc/meat/notame.Rcheck/00check.log’
for details.
notame.Rcheck/00install.out
############################################################################## ############################################################################## ### ### Running command: ### ### /home/biocbuild/R/R/bin/R CMD INSTALL notame ### ############################################################################## ############################################################################## * installing to library ‘/home/biocbuild/R/R-4.5.0/site-library’ * installing *source* package ‘notame’ ... ** this is package ‘notame’ version ‘1.0.0’ ** using staged installation ** R ** data ** inst ** byte-compile and prepare package for lazy loading ** help *** installing help indices ** building package indices ** installing vignettes ** testing if installed package can be loaded from temporary location ** testing if installed package can be loaded from final location ** testing if installed package keeps a record of temporary installation path * DONE (notame)
notame.Rcheck/tests/testthat.Rout
R version 4.5.0 (2025-04-11) -- "How About a Twenty-Six"
Copyright (C) 2025 The R Foundation for Statistical Computing
Platform: aarch64-unknown-linux-gnu
R is free software and comes with ABSOLUTELY NO WARRANTY.
You are welcome to redistribute it under certain conditions.
Type 'license()' or 'licence()' for distribution details.
R is a collaborative project with many contributors.
Type 'contributors()' for more information and
'citation()' on how to cite R or R packages in publications.
Type 'demo()' for some demos, 'help()' for on-line help, or
'help.start()' for an HTML browser interface to help.
Type 'q()' to quit R.
> library(testthat)
> library(notame)
Loading required package: ggplot2
Loading required package: SummarizedExperiment
Loading required package: MatrixGenerics
Loading required package: matrixStats
Attaching package: 'MatrixGenerics'
The following objects are masked from 'package:matrixStats':
colAlls, colAnyNAs, colAnys, colAvgsPerRowSet, colCollapse,
colCounts, colCummaxs, colCummins, colCumprods, colCumsums,
colDiffs, colIQRDiffs, colIQRs, colLogSumExps, colMadDiffs,
colMads, colMaxs, colMeans2, colMedians, colMins, colOrderStats,
colProds, colQuantiles, colRanges, colRanks, colSdDiffs, colSds,
colSums2, colTabulates, colVarDiffs, colVars, colWeightedMads,
colWeightedMeans, colWeightedMedians, colWeightedSds,
colWeightedVars, rowAlls, rowAnyNAs, rowAnys, rowAvgsPerColSet,
rowCollapse, rowCounts, rowCummaxs, rowCummins, rowCumprods,
rowCumsums, rowDiffs, rowIQRDiffs, rowIQRs, rowLogSumExps,
rowMadDiffs, rowMads, rowMaxs, rowMeans2, rowMedians, rowMins,
rowOrderStats, rowProds, rowQuantiles, rowRanges, rowRanks,
rowSdDiffs, rowSds, rowSums2, rowTabulates, rowVarDiffs, rowVars,
rowWeightedMads, rowWeightedMeans, rowWeightedMedians,
rowWeightedSds, rowWeightedVars
Loading required package: GenomicRanges
Loading required package: stats4
Loading required package: BiocGenerics
Loading required package: generics
Attaching package: 'generics'
The following objects are masked from 'package:base':
as.difftime, as.factor, as.ordered, intersect, is.element, setdiff,
setequal, union
Attaching package: 'BiocGenerics'
The following objects are masked from 'package:stats':
IQR, mad, sd, var, xtabs
The following objects are masked from 'package:base':
Filter, Find, Map, Position, Reduce, anyDuplicated, aperm, append,
as.data.frame, basename, cbind, colnames, dirname, do.call,
duplicated, eval, evalq, get, grep, grepl, is.unsorted, lapply,
mapply, match, mget, order, paste, pmax, pmax.int, pmin, pmin.int,
rank, rbind, rownames, sapply, saveRDS, table, tapply, unique,
unsplit, which.max, which.min
Loading required package: S4Vectors
Attaching package: 'S4Vectors'
The following object is masked from 'package:utils':
findMatches
The following objects are masked from 'package:base':
I, expand.grid, unname
Loading required package: IRanges
Loading required package: Seqinfo
Loading required package: Biobase
Welcome to Bioconductor
Vignettes contain introductory material; view with
'browseVignettes()'. To cite Bioconductor, see
'citation("Biobase")', and for packages 'citation("pkgname")'.
Attaching package: 'Biobase'
The following object is masked from 'package:MatrixGenerics':
rowMedians
The following objects are masked from 'package:matrixStats':
anyMissing, rowMedians
>
> test_check("notame")
Running tests in parallel requires the 3rd edition
INFO [2025-11-11 12:37:21] Pheno data was cleaned
INFO [2025-11-11 12:37:21] Checking provided sample ID column
INFO [2025-11-11 12:37:21] Column 'Sample_ID' created from id
INFO [2025-11-11 12:37:21] Pheno data was cleaned
INFO [2025-11-11 12:37:21] Sample ID generated from injection orders and prefix ID_
INFO [2025-11-11 12:37:21] Pheno data was cleaned
INFO [2025-11-11 12:37:21] Pheno data was cleaned
INFO [2025-11-11 12:37:21] Adding running index to 'QC' sample IDs
INFO [2025-11-11 12:37:21] Pheno data was cleaned
INFO [2025-11-11 12:37:21] Initializing 'Flag' column with unflagged features
INFO [2025-11-11 12:37:21] Assigning HILIC_pos as the value of the Split column for each feature
INFO [2025-11-11 12:37:21] Feature data was cleaned
INFO [2025-11-11 12:37:21] Initializing 'Flag' column with unflagged features
INFO [2025-11-11 12:37:21] Feature_ID column not found, creating feature IDs
INFO [2025-11-11 12:37:21] Initializing 'Flag' column with unflagged features
INFO [2025-11-11 12:37:21] Feature_ID column not found, creating feature IDs
INFO [2025-11-11 12:37:21] Initializing 'Flag' column with unflagged features
INFO [2025-11-11 12:37:21] Feature_ID column not found, creating feature IDs
INFO [2025-11-11 12:37:22] Identified m/z column Average_Mz and retention time column Average_Rt_min
INFO [2025-11-11 12:37:22] Identified m/z column Average_Mz and retention time column Average_Rt_min
INFO [2025-11-11 12:37:22] Creating feature IDs from Split, m/z and retention time
INFO [2025-11-11 12:37:22] Feature data was cleaned
INFO [2025-11-11 12:37:22] Identified m/z column Mass and retention time column RetentionTime
INFO [2025-11-11 12:37:22] Identified m/z column Mass and retention time column RetentionTime
INFO [2025-11-11 12:37:22] Creating feature IDs from Split, m/z and retention time
INFO [2025-11-11 12:37:22] Corner detected correctly at row 4, column D
INFO [2025-11-11 12:37:22]
Extracting sample information from rows 1 to 4 and columns E to P
INFO [2025-11-11 12:37:22] Replacing spaces in sample information column names with underscores (_)
INFO [2025-11-11 12:37:22] Naming the last column of sample information "easy_Datafile"
INFO [2025-11-11 12:37:22]
Extracting feature information from rows 5 to 14 and columns A to D
INFO [2025-11-11 12:37:22]
Extracting feature abundances from rows 5 to 14 and columns E to P
INFO [2025-11-11 12:37:22] Sample ID generated from injection orders and prefix TEST_
INFO [2025-11-11 12:37:22] Pheno data was cleaned
INFO [2025-11-11 12:37:22] Initializing 'Flag' column with unflagged features
INFO [2025-11-11 12:37:22] Assigning easy as the value of the Split column for each feature
INFO [2025-11-11 12:37:22] Feature_ID column not found, creating feature IDs
INFO [2025-11-11 12:37:22] Identified m/z column Mass and retention time column RetentionTime
INFO [2025-11-11 12:37:22] Identified m/z column Mass and retention time column RetentionTime
INFO [2025-11-11 12:37:22] Creating feature IDs from Split, m/z and retention time
INFO [2025-11-11 12:37:22] Feature data was cleaned
INFO [2025-11-11 12:37:22]
Checking sample information
INFO [2025-11-11 12:37:22] Checking 'Injection_order' column in feature data
INFO [2025-11-11 12:37:22] Checking 'Sample_ID' column in pheno data
INFO [2025-11-11 12:37:22] Checking 'QC' column in feature data
INFO [2025-11-11 12:37:22] Checking that feature abundances only contain numeric values
INFO [2025-11-11 12:37:22]
Checking feature information
INFO [2025-11-11 12:37:22] Checking that feature IDs are unique and not storedas numbers
INFO [2025-11-11 12:37:22] Checking that m/z and retention time values are reasonable.
INFO [2025-11-11 12:37:22] Identified m/z column Mass and retention time column RetentionTime
INFO [2025-11-11 12:37:22] Identified m/z column Mass and retention time column RetentionTime
INFO [2025-11-11 12:37:22] Checking that feature data includes a 'Split' column
INFO [2025-11-11 12:37:22] Checking that feature data includes a 'Flag' column
INFO [2025-11-11 12:37:22] Identified m/z column Mass and retention time column RetentionTime
INFO [2025-11-11 12:37:22] Identified m/z column Mass and retention time column RetentionTime
INFO [2025-11-11 12:37:22] Creating feature IDs from Split, m/z and retention time
INFO [2025-11-11 12:37:22] Corner detected correctly at row 4, column F
INFO [2025-11-11 12:37:22]
Extracting sample information from rows 1 to 4 and columns G to R
INFO [2025-11-11 12:37:22] Replacing spaces in sample information column names with underscores (_)
INFO [2025-11-11 12:37:22] Naming the last column of sample information "Datafile"
INFO [2025-11-11 12:37:22]
Extracting feature information from rows 5 to 20 and columns A to F
INFO [2025-11-11 12:37:22]
Extracting feature abundances from rows 5 to 20 and columns G to R
INFO [2025-11-11 12:37:22] Sample ID generated from injection orders and prefix TEST_
INFO [2025-11-11 12:37:22] Pheno data was cleaned
INFO [2025-11-11 12:37:22] Initializing 'Flag' column with unflagged features
INFO [2025-11-11 12:37:22] Creating Split column from Column, Mode
INFO [2025-11-11 12:37:22] Feature_ID column not found, creating feature IDs
INFO [2025-11-11 12:37:22] Identified m/z column Mass and retention time column RetentionTime
INFO [2025-11-11 12:37:22] Identified m/z column Mass and retention time column RetentionTime
INFO [2025-11-11 12:37:22] Creating feature IDs from Split, m/z and retention time
INFO [2025-11-11 12:37:22] Feature data was cleaned
INFO [2025-11-11 12:37:22]
Checking sample information
INFO [2025-11-11 12:37:22] Checking 'Injection_order' column in feature data
INFO [2025-11-11 12:37:22] Checking 'Sample_ID' column in pheno data
INFO [2025-11-11 12:37:22] Checking 'QC' column in feature data
INFO [2025-11-11 12:37:22] Checking that feature abundances only contain numeric values
INFO [2025-11-11 12:37:22]
Checking feature information
INFO [2025-11-11 12:37:22] Checking that feature IDs are unique and not storedas numbers
INFO [2025-11-11 12:37:22] Checking that m/z and retention time values are reasonable.
INFO [2025-11-11 12:37:22] Identified m/z column Mass and retention time column RetentionTime
INFO [2025-11-11 12:37:22] Identified m/z column Mass and retention time column RetentionTime
INFO [2025-11-11 12:37:22] Checking that feature data includes a 'Split' column
INFO [2025-11-11 12:37:22] Checking that feature data includes a 'Flag' column
INFO [2025-11-11 12:37:23] Pheno data was cleaned
INFO [2025-11-11 12:37:23] Feature data was cleaned
INFO [2025-11-11 12:37:23] Pheno data was cleaned
INFO [2025-11-11 12:37:23] Feature data was cleaned
INFO [2025-11-11 12:37:23] Detecting corner position
INFO [2025-11-11 12:37:23] Corner detected correctly at row 11, column H
INFO [2025-11-11 12:37:23]
Extracting sample information from rows 1 to 11 and columns I to BF
INFO [2025-11-11 12:37:23] Replacing spaces in sample information column names with underscores (_)
INFO [2025-11-11 12:37:23] Naming the last column of sample information "hilic_neg_Datafile"
INFO [2025-11-11 12:37:23]
Extracting feature information from rows 12 to 31 and columns A to H
INFO [2025-11-11 12:37:23]
Extracting feature abundances from rows 12 to 31 and columns I to BF
INFO [2025-11-11 12:37:23] Pheno data was cleaned
INFO [2025-11-11 12:37:23] Feature data was cleaned
INFO [2025-11-11 12:37:23]
Checking sample information
INFO [2025-11-11 12:37:23] Checking 'Injection_order' column in feature data
INFO [2025-11-11 12:37:23] Checking 'Sample_ID' column in pheno data
INFO [2025-11-11 12:37:23] Checking 'QC' column in feature data
INFO [2025-11-11 12:37:23] Checking that feature abundances only contain numeric values
INFO [2025-11-11 12:37:23]
Checking feature information
INFO [2025-11-11 12:37:23] Checking that feature IDs are unique and not storedas numbers
INFO [2025-11-11 12:37:23] Checking that m/z and retention time values are reasonable.
INFO [2025-11-11 12:37:23] Identified m/z column Average_Mz and retention time column Average_Rt_min
INFO [2025-11-11 12:37:23] Identified m/z column Average_Mz and retention time column Average_Rt_min
INFO [2025-11-11 12:37:23] Checking that feature data includes a 'Split' column
INFO [2025-11-11 12:37:23] Checking that feature data includes a 'Flag' column
INFO [2025-11-11 12:37:23] Detecting corner position
INFO [2025-11-11 12:37:23] Corner detected correctly at row 11, column H
INFO [2025-11-11 12:37:23]
Extracting sample information from rows 1 to 11 and columns I to BF
INFO [2025-11-11 12:37:23] Replacing spaces in sample information column names with underscores (_)
INFO [2025-11-11 12:37:23] Naming the last column of sample information "hilic_pos_Datafile"
INFO [2025-11-11 12:37:23]
Extracting feature information from rows 12 to 31 and columns A to H
INFO [2025-11-11 12:37:23]
Extracting feature abundances from rows 12 to 31 and columns I to BF
INFO [2025-11-11 12:37:23] Pheno data was cleaned
INFO [2025-11-11 12:37:23] Feature data was cleaned
INFO [2025-11-11 12:37:23]
Checking sample information
INFO [2025-11-11 12:37:23] Checking 'Injection_order' column in feature data
INFO [2025-11-11 12:37:23] Checking 'Sample_ID' column in pheno data
INFO [2025-11-11 12:37:23] Checking 'QC' column in feature data
INFO [2025-11-11 12:37:23] Checking that feature abundances only contain numeric values
INFO [2025-11-11 12:37:23]
Checking feature information
INFO [2025-11-11 12:37:23] Checking that feature IDs are unique and not storedas numbers
INFO [2025-11-11 12:37:23] Checking that m/z and retention time values are reasonable.
INFO [2025-11-11 12:37:23] Identified m/z column Average_Mz and retention time column Average_Rt_min
INFO [2025-11-11 12:37:23] Identified m/z column Average_Mz and retention time column Average_Rt_min
INFO [2025-11-11 12:37:23] Checking that feature data includes a 'Split' column
INFO [2025-11-11 12:37:23] Checking that feature data includes a 'Flag' column
INFO [2025-11-11 12:37:24] Detecting corner position
INFO [2025-11-11 12:37:24] Corner detected correctly at row 11, column H
INFO [2025-11-11 12:37:24]
Extracting sample information from rows 1 to 11 and columns I to BF
INFO [2025-11-11 12:37:24] Replacing spaces in sample information column names with underscores (_)
INFO [2025-11-11 12:37:24] Naming the last column of sample information "rp_neg_Datafile"
INFO [2025-11-11 12:37:24]
Extracting feature information from rows 12 to 31 and columns A to H
INFO [2025-11-11 12:37:24]
Extracting feature abundances from rows 12 to 31 and columns I to BF
INFO [2025-11-11 12:37:24] Pheno data was cleaned
INFO [2025-11-11 12:37:24] Feature data was cleaned
INFO [2025-11-11 12:37:24]
Checking sample information
INFO [2025-11-11 12:37:24] Checking 'Injection_order' column in feature data
INFO [2025-11-11 12:37:24] Checking 'Sample_ID' column in pheno data
INFO [2025-11-11 12:37:24] Checking 'QC' column in feature data
INFO [2025-11-11 12:37:24] Checking that feature abundances only contain numeric values
INFO [2025-11-11 12:37:24]
Checking feature information
INFO [2025-11-11 12:37:24] Checking that feature IDs are unique and not storedas numbers
INFO [2025-11-11 12:37:24] Checking that m/z and retention time values are reasonable.
INFO [2025-11-11 12:37:24] Identified m/z column Average_Mz and retention time column Average_Rt_min
INFO [2025-11-11 12:37:24] Identified m/z column Average_Mz and retention time column Average_Rt_min
INFO [2025-11-11 12:37:24] Checking that feature data includes a 'Split' column
INFO [2025-11-11 12:37:24] Checking that feature data includes a 'Flag' column
INFO [2025-11-11 12:37:24] Detecting corner position
INFO [2025-11-11 12:37:24] Corner detected correctly at row 11, column H
INFO [2025-11-11 12:37:24]
Extracting sample information from rows 1 to 11 and columns I to BF
INFO [2025-11-11 12:37:24] Replacing spaces in sample information column names with underscores (_)
INFO [2025-11-11 12:37:24] Naming the last column of sample information "rp_pos_Datafile"
INFO [2025-11-11 12:37:24]
Extracting feature information from rows 12 to 31 and columns A to H
INFO [2025-11-11 12:37:24]
Extracting feature abundances from rows 12 to 31 and columns I to BF
INFO [2025-11-11 12:37:24] Pheno data was cleaned
INFO [2025-11-11 12:37:24] Feature data was cleaned
INFO [2025-11-11 12:37:24]
Checking sample information
INFO [2025-11-11 12:37:24] Checking 'Injection_order' column in feature data
INFO [2025-11-11 12:37:24] Checking 'Sample_ID' column in pheno data
INFO [2025-11-11 12:37:24] Checking 'QC' column in feature data
INFO [2025-11-11 12:37:24] Checking that feature abundances only contain numeric values
INFO [2025-11-11 12:37:24]
Checking feature information
INFO [2025-11-11 12:37:24] Checking that feature IDs are unique and not storedas numbers
INFO [2025-11-11 12:37:24] Checking that m/z and retention time values are reasonable.
INFO [2025-11-11 12:37:24] Identified m/z column Average_Mz and retention time column Average_Rt_min
INFO [2025-11-11 12:37:24] Identified m/z column Average_Mz and retention time column Average_Rt_min
INFO [2025-11-11 12:37:24] Checking that feature data includes a 'Split' column
INFO [2025-11-11 12:37:24] Checking that feature data includes a 'Flag' column
INFO [2025-11-11 12:37:24] Injection order differs between modes.Creating dummy injection order
INFO [2025-11-11 12:37:24] Dummy injection order (row numbers) created
INFO [2025-11-11 12:37:24] Merging objects with unequal amounts of samples.
INFO [2025-11-11 12:37:24] Samples only in first object:
INFO [2025-11-11 12:37:24] ID_666
INFO [2025-11-11 12:37:24] Samples only in second object:
INFO [2025-11-11 12:37:24] Demo_2
INFO [2025-11-11 12:37:25] Injection order differs between modes.Creating dummy injection order
INFO [2025-11-11 12:37:25] Dummy injection order (row numbers) created
INFO [2025-11-11 12:37:25] Merging objects with unequal amounts of samples.
INFO [2025-11-11 12:37:25] Samples only in first object:
INFO [2025-11-11 12:37:25] ID_666
INFO [2025-11-11 12:37:25] Samples only in second object:
INFO [2025-11-11 12:37:25]
INFO [2025-11-11 12:37:25] Injection order differs between modes.Creating dummy injection order
INFO [2025-11-11 12:37:25] Dummy injection order (row numbers) created
INFO [2025-11-11 12:37:25] Merging objects with unequal amounts of samples.
INFO [2025-11-11 12:37:25] Samples only in first object:
INFO [2025-11-11 12:37:25] ID_666, Demo_22
INFO [2025-11-11 12:37:25] Samples only in second object:
INFO [2025-11-11 12:37:25] ID_999
INFO [2025-11-11 12:37:25] Starting logging
INFO [2025-11-11 12:37:25] Finished analysis. Tue Nov 11 12:37:25 2025
Session info:
INFO [2025-11-11 12:37:25] R version 4.5.0 (2025-04-11)
INFO [2025-11-11 12:37:25] Platform: aarch64-unknown-linux-gnu
INFO [2025-11-11 12:37:25] Running under: openEuler 24.03 (LTS)
INFO [2025-11-11 12:37:25]
INFO [2025-11-11 12:37:25] Matrix products: default
INFO [2025-11-11 12:37:25] BLAS/LAPACK: /usr/lib64/libopenblas-r0.3.25.so; LAPACK version 3.11.0
INFO [2025-11-11 12:37:25]
INFO [2025-11-11 12:37:25] locale:
INFO [2025-11-11 12:37:25] [1] LC_CTYPE=en_US.UTF-8 LC_NUMERIC=C
INFO [2025-11-11 12:37:25] [3] LC_TIME=en_GB LC_COLLATE=C
INFO [2025-11-11 12:37:25] [5] LC_MONETARY=en_US.UTF-8 LC_MESSAGES=en_US.UTF-8
INFO [2025-11-11 12:37:25] [7] LC_PAPER=en_US.UTF-8 LC_NAME=C
INFO [2025-11-11 12:37:25] [9] LC_ADDRESS=C LC_TELEPHONE=C
INFO [2025-11-11 12:37:25] [11] LC_MEASUREMENT=en_US.UTF-8 LC_IDENTIFICATION=C
INFO [2025-11-11 12:37:25]
INFO [2025-11-11 12:37:25] time zone: UTC
INFO [2025-11-11 12:37:25] tzcode source: system (glibc)
INFO [2025-11-11 12:37:25]
INFO [2025-11-11 12:37:25] attached base packages:
INFO [2025-11-11 12:37:25] [1] stats4 stats graphics grDevices utils datasets methods
INFO [2025-11-11 12:37:25] [8] base
INFO [2025-11-11 12:37:25]
INFO [2025-11-11 12:37:25] other attached packages:
INFO [2025-11-11 12:37:25] [1] notame_1.0.0 SummarizedExperiment_1.40.0
INFO [2025-11-11 12:37:25] [3] Biobase_2.70.0 GenomicRanges_1.62.0
INFO [2025-11-11 12:37:25] [5] Seqinfo_1.0.0 IRanges_2.44.0
INFO [2025-11-11 12:37:25] [7] S4Vectors_0.48.0 BiocGenerics_0.56.0
INFO [2025-11-11 12:37:25] [9] generics_0.1.4 MatrixGenerics_1.22.0
INFO [2025-11-11 12:37:25] [11] matrixStats_1.5.0 ggplot2_4.0.0
INFO [2025-11-11 12:37:25] [13] testthat_3.2.3
INFO [2025-11-11 12:37:25]
INFO [2025-11-11 12:37:25] loaded via a namespace (and not attached):
INFO [2025-11-11 12:37:25] [1] Matrix_1.7-4 gtable_0.3.6 futile.logger_1.4.3
INFO [2025-11-11 12:37:25] [4] dplyr_1.1.4 compiler_4.5.0 brio_1.1.5
INFO [2025-11-11 12:37:25] [7] zip_2.3.3 Rcpp_1.1.0 tidyselect_1.2.1
INFO [2025-11-11 12:37:25] [10] tidyr_1.3.1 scales_1.4.0 lattice_0.22-7
INFO [2025-11-11 12:37:25] [13] XVector_0.50.0 R6_2.6.1 S4Arrays_1.10.0
INFO [2025-11-11 12:37:25] [16] openxlsx_4.2.8.1 tibble_3.3.0 DelayedArray_0.36.0
INFO [2025-11-11 12:37:25] [19] desc_1.4.3 pillar_1.11.1 RColorBrewer_1.1-3
INFO [2025-11-11 12:37:25] [22] rlang_1.1.6 stringi_1.8.7 S7_0.2.0
INFO [2025-11-11 12:37:25] [25] viridisLite_0.4.2 SparseArray_1.10.1 cli_3.6.5
INFO [2025-11-11 12:37:25] [28] formatR_1.14 withr_3.0.2 magrittr_2.0.4
INFO [2025-11-11 12:37:25] [31] futile.options_1.0.1 grid_4.5.0 lifecycle_1.0.4
INFO [2025-11-11 12:37:25] [34] waldo_0.6.2 vctrs_0.6.5 glue_1.8.0
INFO [2025-11-11 12:37:25] [37] lambda.r_1.2.4 farver_2.1.2 abind_1.4-8
INFO [2025-11-11 12:37:25] [40] purrr_1.1.0 tools_4.5.0 pkgconfig_2.0.3
INFO [2025-11-11 12:37:26] New line
INFO [2025-11-11 12:37:26] Starting logging
INFO [2025-11-11 12:37:26] New line
INFO [2025-11-11 12:37:26] Finished analysis. Tue Nov 11 12:37:26 2025
Session info:
INFO [2025-11-11 12:37:26] R version 4.5.0 (2025-04-11)
INFO [2025-11-11 12:37:26] Platform: aarch64-unknown-linux-gnu
INFO [2025-11-11 12:37:26] Running under: openEuler 24.03 (LTS)
INFO [2025-11-11 12:37:26]
INFO [2025-11-11 12:37:26] Matrix products: default
INFO [2025-11-11 12:37:26] BLAS/LAPACK: /usr/lib64/libopenblas-r0.3.25.so; LAPACK version 3.11.0
INFO [2025-11-11 12:37:26]
INFO [2025-11-11 12:37:26] locale:
INFO [2025-11-11 12:37:26] [1] LC_CTYPE=en_US.UTF-8 LC_NUMERIC=C
INFO [2025-11-11 12:37:26] [3] LC_TIME=en_GB LC_COLLATE=C
INFO [2025-11-11 12:37:26] [5] LC_MONETARY=en_US.UTF-8 LC_MESSAGES=en_US.UTF-8
INFO [2025-11-11 12:37:26] [7] LC_PAPER=en_US.UTF-8 LC_NAME=C
INFO [2025-11-11 12:37:26] [9] LC_ADDRESS=C LC_TELEPHONE=C
INFO [2025-11-11 12:37:26] [11] LC_MEASUREMENT=en_US.UTF-8 LC_IDENTIFICATION=C
INFO [2025-11-11 12:37:26]
INFO [2025-11-11 12:37:26] time zone: UTC
INFO [2025-11-11 12:37:26] tzcode source: system (glibc)
INFO [2025-11-11 12:37:26]
INFO [2025-11-11 12:37:26] attached base packages:
INFO [2025-11-11 12:37:26] [1] stats4 stats graphics grDevices utils datasets methods
INFO [2025-11-11 12:37:26] [8] base
INFO [2025-11-11 12:37:26]
INFO [2025-11-11 12:37:26] other attached packages:
INFO [2025-11-11 12:37:26] [1] notame_1.0.0 SummarizedExperiment_1.40.0
INFO [2025-11-11 12:37:26] [3] Biobase_2.70.0 GenomicRanges_1.62.0
INFO [2025-11-11 12:37:26] [5] Seqinfo_1.0.0 IRanges_2.44.0
INFO [2025-11-11 12:37:26] [7] S4Vectors_0.48.0 BiocGenerics_0.56.0
INFO [2025-11-11 12:37:26] [9] generics_0.1.4 MatrixGenerics_1.22.0
INFO [2025-11-11 12:37:26] [11] matrixStats_1.5.0 ggplot2_4.0.0
INFO [2025-11-11 12:37:26] [13] testthat_3.2.3
INFO [2025-11-11 12:37:26]
INFO [2025-11-11 12:37:26] loaded via a namespace (and not attached):
INFO [2025-11-11 12:37:26] [1] Matrix_1.7-4 gtable_0.3.6 futile.logger_1.4.3
INFO [2025-11-11 12:37:26] [4] dplyr_1.1.4 compiler_4.5.0 brio_1.1.5
INFO [2025-11-11 12:37:26] [7] zip_2.3.3 Rcpp_1.1.0 tidyselect_1.2.1
INFO [2025-11-11 12:37:26] [10] tidyr_1.3.1 scales_1.4.0 lattice_0.22-7
INFO [2025-11-11 12:37:26] [13] XVector_0.50.0 R6_2.6.1 S4Arrays_1.10.0
INFO [2025-11-11 12:37:26] [16] openxlsx_4.2.8.1 tibble_3.3.0 DelayedArray_0.36.0
INFO [2025-11-11 12:37:26] [19] desc_1.4.3 pillar_1.11.1 RColorBrewer_1.1-3
INFO [2025-11-11 12:37:26] [22] rlang_1.1.6 stringi_1.8.7 S7_0.2.0
INFO [2025-11-11 12:37:26] [25] viridisLite_0.4.2 SparseArray_1.10.1 cli_3.6.5
INFO [2025-11-11 12:37:26] [28] formatR_1.14 withr_3.0.2 magrittr_2.0.4
INFO [2025-11-11 12:37:26] [31] futile.options_1.0.1 grid_4.5.0 lifecycle_1.0.4
INFO [2025-11-11 12:37:26] [34] waldo_0.6.2 vctrs_0.6.5 glue_1.8.0
INFO [2025-11-11 12:37:26] [37] lambda.r_1.2.4 farver_2.1.2 abind_1.4-8
INFO [2025-11-11 12:37:26] [40] purrr_1.1.0 tools_4.5.0 pkgconfig_2.0.3
INFO [2025-11-11 12:37:26] New line
INFO [2025-11-11 12:37:26]
Starting random forest imputation at 2025-11-11 12:37:26.575745
INFO [2025-11-11 12:37:31] Out-of-bag error in random forest imputation: 0.471
INFO [2025-11-11 12:37:31] Random forest imputation finished at 2025-11-11 12:37:31.633995
INFO [2025-11-11 12:37:31]
Starting random forest imputation at 2025-11-11 12:37:31.993551
INFO [2025-11-11 12:37:41] Out-of-bag error in random forest imputation: 0.472
INFO [2025-11-11 12:37:41] Random forest imputation finished at 2025-11-11 12:37:41.137201
INFO [2025-11-11 12:37:41]
Starting random forest imputation at 2025-11-11 12:37:41.159226
INFO [2025-11-11 12:37:48] Out-of-bag error in random forest imputation: 0.469
INFO [2025-11-11 12:37:48] Random forest imputation finished at 2025-11-11 12:37:48.759228
INFO [2025-11-11 12:37:48]
Starting random forest imputation at 2025-11-11 12:37:48.825188
INFO [2025-11-11 12:37:54] Out-of-bag error in random forest imputation: 0.468
INFO [2025-11-11 12:37:54] Random forest imputation finished at 2025-11-11 12:37:54.065979
INFO [2025-11-11 12:37:54] Starting PQN normalization
INFO [2025-11-11 12:37:54] Using median of qc samples as reference spectrum
INFO [2025-11-11 12:37:54] Starting PQN normalization
INFO [2025-11-11 12:37:54] Using median of all samples as reference spectrum
INFO [2025-11-11 12:37:54] Starting PQN normalization
INFO [2025-11-11 12:37:54] Using mean of qc samples as reference spectrum
INFO [2025-11-11 12:37:54] Starting PQN normalization
INFO [2025-11-11 12:37:54] Using mean of all samples as reference spectrum
INFO [2025-11-11 12:37:54]
92% of features flagged for low quality
INFO [2025-11-11 12:37:55] Starting PQN normalization
INFO [2025-11-11 12:37:55] Using median of qc samples as reference spectrum
INFO [2025-11-11 12:37:55] Starting drift correction
INFO [2025-11-11 12:37:55] Zero values in feature abundances detected. Zeroes will be replaced with 1.1.
INFO [2025-11-11 12:37:57] Recomputing quality metrics for drift corrected data
INFO [2025-11-11 12:37:58] Drift correction performed
INFO [2025-11-11 12:37:58] Inspecting drift correction results
INFO [2025-11-11 12:37:58] Original quality metrics missing, recomputing
INFO [2025-11-11 12:37:58] Drift correction results inspected: Drift_corrected: 100%
[ FAIL 0 | WARN 5 | SKIP 0 | PASS 84 ]
[ FAIL 0 | WARN 5 | SKIP 0 | PASS 84 ]
>
> proc.time()
user system elapsed
29.902 2.422 47.597
notame.Rcheck/notame-Ex.timings
| name | user | system | elapsed | |
| assess_quality | 0.269 | 0.012 | 0.282 | |
| citations | 0.393 | 0.024 | 0.418 | |
| cluster_features | 0.326 | 0.040 | 0.370 | |
| combined_data | 0.061 | 0.012 | 0.074 | |
| compress_clusters | 0.194 | 0.020 | 0.215 | |
| correct_drift | 3.021 | 0.285 | 3.201 | |
| drop_flagged | 0.136 | 0.040 | 0.177 | |
| drop_qcs | 0.049 | 0.004 | 0.053 | |
| finish_log | 0.036 | 0.013 | 0.541 | |
| fix_MSMS | 0.139 | 0.012 | 0.306 | |
| fix_object | 0.173 | 0.016 | 0.233 | |
| flag | 0.035 | 0.004 | 0.067 | |
| flag_contaminants | 0.244 | 0.027 | 0.273 | |
| flag_detection | 0.321 | 0.000 | 0.322 | |
| flag_quality | 0.303 | 0.000 | 0.303 | |
| flag_report | 0.477 | 0.019 | 0.556 | |
| import_from_excel | 0.361 | 0.020 | 0.480 | |
| impute_rf | 1.665 | 0.148 | 4.780 | |
| impute_simple | 0.117 | 0.000 | 0.227 | |
| init_log | 0.004 | 0.000 | 0.008 | |
| inverse_normalize | 0.053 | 0.008 | 0.126 | |
| join_colData | 0.040 | 0.004 | 0.071 | |
| join_rowData | 0.030 | 0.000 | 0.031 | |
| log_text | 0.005 | 0.000 | 0.005 | |
| mark_nas | 0.049 | 0.000 | 0.049 | |
| merge_notame_sets | 0.728 | 0.036 | 0.766 | |
| pca_bhattacharyya_dist | 8.751 | 0.770 | 9.787 | |
| perform_repeatability | 0.257 | 0.005 | 0.262 | |
| pqn_normalization | 0.096 | 0.000 | 0.097 | |
| quality | 0.176 | 0.020 | 0.197 | |
| ruvs_qc | 0.250 | 0.008 | 0.259 | |
| write_to_excel | 0.286 | 0.008 | 0.295 | |