| Back to Multiple platform build/check report for BioC 3.21: simplified long |
|
This page was generated on 2025-10-16 11:39 -0400 (Thu, 16 Oct 2025).
| Hostname | OS | Arch (*) | R version | Installed pkgs |
|---|---|---|---|---|
| nebbiolo1 | Linux (Ubuntu 24.04.3 LTS) | x86_64 | 4.5.1 (2025-06-13) -- "Great Square Root" | 4833 |
| merida1 | macOS 12.7.6 Monterey | x86_64 | 4.5.1 RC (2025-06-05 r88288) -- "Great Square Root" | 4614 |
| kjohnson1 | macOS 13.7.5 Ventura | arm64 | 4.5.1 Patched (2025-06-14 r88325) -- "Great Square Root" | 4555 |
| kunpeng2 | Linux (openEuler 24.03 LTS) | aarch64 | R Under development (unstable) (2025-02-19 r87757) -- "Unsuffered Consequences" | 4586 |
| Click on any hostname to see more info about the system (e.g. compilers) (*) as reported by 'uname -p', except on Windows and Mac OS X | ||||
| Package 1445/2341 | Hostname | OS / Arch | INSTALL | BUILD | CHECK | BUILD BIN | ||||||||
| ngsReports 2.10.1 (landing page) Stevie Pederson
| nebbiolo1 | Linux (Ubuntu 24.04.3 LTS) / x86_64 | OK | OK | OK | |||||||||
| merida1 | macOS 12.7.6 Monterey / x86_64 | OK | OK | OK | OK | |||||||||
| kjohnson1 | macOS 13.7.5 Ventura / arm64 | OK | OK | OK | OK | |||||||||
| kunpeng2 | Linux (openEuler 24.03 LTS) / aarch64 | OK | OK | ERROR | ||||||||||
|
To the developers/maintainers of the ngsReports package: - Allow up to 24 hours (and sometimes 48 hours) for your latest push to git@git.bioconductor.org:packages/ngsReports.git to reflect on this report. See Troubleshooting Build Report for more information. - Use the following Renviron settings to reproduce errors and warnings. - If 'R CMD check' started to fail recently on the Linux builder(s) over a missing dependency, add the missing dependency to 'Suggests:' in your DESCRIPTION file. See Renviron.bioc for more information. |
| Package: ngsReports |
| Version: 2.10.1 |
| Command: /Library/Frameworks/R.framework/Resources/bin/R CMD check --install=check:ngsReports.install-out.txt --library=/Library/Frameworks/R.framework/Resources/library --no-vignettes --timings ngsReports_2.10.1.tar.gz |
| StartedAt: 2025-10-14 07:29:26 -0400 (Tue, 14 Oct 2025) |
| EndedAt: 2025-10-14 07:37:21 -0400 (Tue, 14 Oct 2025) |
| EllapsedTime: 474.4 seconds |
| RetCode: 0 |
| Status: OK |
| CheckDir: ngsReports.Rcheck |
| Warnings: 0 |
##############################################################################
##############################################################################
###
### Running command:
###
### /Library/Frameworks/R.framework/Resources/bin/R CMD check --install=check:ngsReports.install-out.txt --library=/Library/Frameworks/R.framework/Resources/library --no-vignettes --timings ngsReports_2.10.1.tar.gz
###
##############################################################################
##############################################################################
* using log directory ‘/Users/biocbuild/bbs-3.21-bioc/meat/ngsReports.Rcheck’
* using R version 4.5.1 RC (2025-06-05 r88288)
* using platform: x86_64-apple-darwin20
* R was compiled by
Apple clang version 14.0.0 (clang-1400.0.29.202)
GNU Fortran (GCC) 14.2.0
* running under: macOS Monterey 12.7.6
* using session charset: UTF-8
* using option ‘--no-vignettes’
* checking for file ‘ngsReports/DESCRIPTION’ ... OK
* this is package ‘ngsReports’ version ‘2.10.1’
* package encoding: UTF-8
* checking package namespace information ... OK
* checking package dependencies ... OK
* checking if this is a source package ... OK
* checking if there is a namespace ... OK
* checking for hidden files and directories ... OK
* checking for portable file names ... OK
* checking for sufficient/correct file permissions ... OK
* checking whether package ‘ngsReports’ can be installed ... OK
* checking installed package size ... OK
* checking package directory ... OK
* checking ‘build’ directory ... OK
* checking DESCRIPTION meta-information ... OK
* checking top-level files ... OK
* checking for left-over files ... OK
* checking index information ... OK
* checking package subdirectories ... OK
* checking code files for non-ASCII characters ... OK
* checking R files for syntax errors ... OK
* checking whether the package can be loaded ... OK
* checking whether the package can be loaded with stated dependencies ... OK
* checking whether the package can be unloaded cleanly ... OK
* checking whether the namespace can be loaded with stated dependencies ... OK
* checking whether the namespace can be unloaded cleanly ... OK
* checking dependencies in R code ... OK
* checking S3 generic/method consistency ... OK
* checking replacement functions ... OK
* checking foreign function calls ... OK
* checking R code for possible problems ... OK
* checking Rd files ... OK
* checking Rd metadata ... OK
* checking Rd cross-references ... OK
* checking for missing documentation entries ... OK
* checking for code/documentation mismatches ... OK
* checking Rd \usage sections ... OK
* checking Rd contents ... OK
* checking for unstated dependencies in examples ... OK
* checking contents of ‘data’ directory ... OK
* checking data for non-ASCII characters ... OK
* checking LazyData ... OK
* checking data for ASCII and uncompressed saves ... OK
* checking files in ‘vignettes’ ... OK
* checking examples ... OK
Examples with CPU (user + system) or elapsed time > 5s
user system elapsed
plotSeqContent-methods 8.294 0.062 8.516
plotAdapterContent-methods 7.094 0.121 7.269
* checking for unstated dependencies in ‘tests’ ... OK
* checking tests ...
Running ‘testthat.R’
OK
* checking for unstated dependencies in vignettes ... OK
* checking package vignettes ... OK
* checking running R code from vignettes ... SKIPPED
* checking re-building of vignette outputs ... SKIPPED
* checking PDF version of manual ... OK
* DONE
Status: OK
ngsReports.Rcheck/00install.out
############################################################################## ############################################################################## ### ### Running command: ### ### /Library/Frameworks/R.framework/Resources/bin/R CMD INSTALL ngsReports ### ############################################################################## ############################################################################## * installing to library ‘/Library/Frameworks/R.framework/Versions/4.5-x86_64/Resources/library’ * installing *source* package ‘ngsReports’ ... ** this is package ‘ngsReports’ version ‘2.10.1’ ** using staged installation ** R ** data *** moving datasets to lazyload DB ** inst ** byte-compile and prepare package for lazy loading ** help *** installing help indices *** copying figures ** building package indices ** installing vignettes ** testing if installed package can be loaded from temporary location ** testing if installed package can be loaded from final location ** testing if installed package keeps a record of temporary installation path * DONE (ngsReports)
ngsReports.Rcheck/tests/testthat.Rout
R version 4.5.1 RC (2025-06-05 r88288) -- "Great Square Root"
Copyright (C) 2025 The R Foundation for Statistical Computing
Platform: x86_64-apple-darwin20
R is free software and comes with ABSOLUTELY NO WARRANTY.
You are welcome to redistribute it under certain conditions.
Type 'license()' or 'licence()' for distribution details.
R is a collaborative project with many contributors.
Type 'contributors()' for more information and
'citation()' on how to cite R or R packages in publications.
Type 'demo()' for some demos, 'help()' for on-line help, or
'help.start()' for an HTML browser interface to help.
Type 'q()' to quit R.
> library(testthat)
> library(ngsReports)
Loading required package: BiocGenerics
Loading required package: generics
Attaching package: 'generics'
The following objects are masked from 'package:base':
as.difftime, as.factor, as.ordered, intersect, is.element, setdiff,
setequal, union
Attaching package: 'BiocGenerics'
The following objects are masked from 'package:stats':
IQR, mad, sd, var, xtabs
The following objects are masked from 'package:base':
Filter, Find, Map, Position, Reduce, anyDuplicated, aperm, append,
as.data.frame, basename, cbind, colnames, dirname, do.call,
duplicated, eval, evalq, get, grep, grepl, is.unsorted, lapply,
mapply, match, mget, order, paste, pmax, pmax.int, pmin, pmin.int,
rank, rbind, rownames, sapply, saveRDS, table, tapply, unique,
unsplit, which.max, which.min
Loading required package: ggplot2
Loading required package: patchwork
Loading required package: tibble
>
> test_check("ngsReports")
2025-10-14 07:36:31.162 R[21170:6971003] XType: com.apple.fonts is not accessible.
2025-10-14 07:36:31.164 R[21170:6971003] XType: XTFontStaticRegistry is enabled.
[ FAIL 0 | WARN 0 | SKIP 0 | PASS 388 ]
>
> proc.time()
user system elapsed
146.337 2.658 151.550
ngsReports.Rcheck/ngsReports-Ex.timings
| name | user | system | elapsed | |
| FastqcData | 0.172 | 0.012 | 0.186 | |
| FastqcDataList | 0.661 | 0.030 | 0.700 | |
| TheoreticalGC-class | 0.158 | 0.007 | 0.166 | |
| dot-FastqcFile-class | 0.004 | 0.002 | 0.006 | |
| dot-addPercent | 0.000 | 0.000 | 0.001 | |
| dot-emptyPlot | 0.418 | 0.005 | 0.424 | |
| dot-makeDendro | 0.916 | 0.028 | 0.947 | |
| dot-makeLabels | 0.002 | 0.001 | 0.003 | |
| dot-splitByTab | 0.006 | 0.001 | 0.007 | |
| estGcDistn | 0.046 | 0.002 | 0.049 | |
| extract-methods | 0.69 | 0.02 | 0.72 | |
| fqName-methods | 0.850 | 0.022 | 0.877 | |
| fqcVersion | 1.125 | 0.024 | 1.153 | |
| gcAvail | 0.038 | 0.001 | 0.040 | |
| gcTheoretical | 0.076 | 0.001 | 0.077 | |
| getColours-methods | 0.003 | 0.001 | 0.004 | |
| getGC | 0.031 | 0.000 | 0.032 | |
| getModule | 0.763 | 0.033 | 0.798 | |
| getSummary | 0.684 | 0.053 | 0.737 | |
| importNgsLogs | 0.049 | 0.007 | 0.057 | |
| importSJ | 0.011 | 0.003 | 0.013 | |
| isCompressed | 0.003 | 0.002 | 0.005 | |
| mData | 0.046 | 0.007 | 0.054 | |
| maxAdapterContent | 0.779 | 0.026 | 0.806 | |
| overRep2Fasta-methods | 0.695 | 0.019 | 0.717 | |
| path | 0.654 | 0.020 | 0.675 | |
| plotAdapterContent-methods | 7.094 | 0.121 | 7.269 | |
| plotAlignmentSummary | 0.861 | 0.006 | 0.872 | |
| plotAssemblyStats | 1.990 | 0.007 | 2.003 | |
| plotBaseQuals-methods | 4.743 | 0.079 | 4.847 | |
| plotDupLevels-methods | 3.030 | 0.031 | 3.080 | |
| plotFastqcPCA-methods | 1.539 | 0.027 | 1.695 | |
| plotGcContent-methods | 2.546 | 0.030 | 2.606 | |
| plotInsertSize-methods | 1.557 | 0.010 | 1.587 | |
| plotKmers-methods | 4.202 | 0.047 | 4.359 | |
| plotNContent-methods | 2.226 | 0.012 | 2.296 | |
| plotOverrep-methods | 2.018 | 0.026 | 2.068 | |
| plotReadTotals-methods | 2.025 | 0.026 | 2.076 | |
| plotSeqContent-methods | 8.294 | 0.062 | 8.516 | |
| plotSeqLengthDistn-methods | 3.120 | 0.031 | 3.248 | |
| plotSeqQuals-methods | 3.349 | 0.026 | 3.425 | |
| plotSummary-methods | 1.426 | 0.023 | 1.491 | |
| pwf | 0.007 | 0.001 | 0.008 | |
| readTotals | 0.728 | 0.021 | 0.808 | |
| summariseOverrep-methods | 1.297 | 0.024 | 1.355 | |
| writeHtmlReport | 0.000 | 0.000 | 0.001 | |