| Back to Multiple platform build/check report for BioC 3.22: simplified long |
|
This page was generated on 2025-11-04 12:04 -0500 (Tue, 04 Nov 2025).
| Hostname | OS | Arch (*) | R version | Installed pkgs |
|---|---|---|---|---|
| nebbiolo2 | Linux (Ubuntu 24.04.3 LTS) | x86_64 | 4.5.1 Patched (2025-08-23 r88802) -- "Great Square Root" | 4902 |
| lconway | macOS 12.7.6 Monterey | x86_64 | 4.5.1 Patched (2025-09-10 r88807) -- "Great Square Root" | 4692 |
| kjohnson3 | macOS 13.7.7 Ventura | arm64 | 4.5.1 Patched (2025-09-10 r88807) -- "Great Square Root" | 4638 |
| Click on any hostname to see more info about the system (e.g. compilers) (*) as reported by 'uname -p', except on Windows and Mac OS X | ||||
| Package 1462/2361 | Hostname | OS / Arch | INSTALL | BUILD | CHECK | BUILD BIN | ||||||||
| ngsReports 2.12.0 (landing page) Stevie Pederson
| nebbiolo2 | Linux (Ubuntu 24.04.3 LTS) / x86_64 | OK | OK | OK | |||||||||
| lconway | macOS 12.7.6 Monterey / x86_64 | OK | OK | OK | OK | |||||||||
| kjohnson3 | macOS 13.7.7 Ventura / arm64 | OK | OK | OK | OK | |||||||||
|
To the developers/maintainers of the ngsReports package: - Allow up to 24 hours (and sometimes 48 hours) for your latest push to git@git.bioconductor.org:packages/ngsReports.git to reflect on this report. See Troubleshooting Build Report for more information. - Use the following Renviron settings to reproduce errors and warnings. - If 'R CMD check' started to fail recently on the Linux builder(s) over a missing dependency, add the missing dependency to 'Suggests:' in your DESCRIPTION file. See Renviron.bioc for more information. |
| Package: ngsReports |
| Version: 2.12.0 |
| Command: /Library/Frameworks/R.framework/Resources/bin/R CMD check --install=check:ngsReports.install-out.txt --library=/Library/Frameworks/R.framework/Resources/library --no-vignettes --timings ngsReports_2.12.0.tar.gz |
| StartedAt: 2025-11-03 22:58:01 -0500 (Mon, 03 Nov 2025) |
| EndedAt: 2025-11-03 23:01:53 -0500 (Mon, 03 Nov 2025) |
| EllapsedTime: 231.8 seconds |
| RetCode: 0 |
| Status: OK |
| CheckDir: ngsReports.Rcheck |
| Warnings: 0 |
##############################################################################
##############################################################################
###
### Running command:
###
### /Library/Frameworks/R.framework/Resources/bin/R CMD check --install=check:ngsReports.install-out.txt --library=/Library/Frameworks/R.framework/Resources/library --no-vignettes --timings ngsReports_2.12.0.tar.gz
###
##############################################################################
##############################################################################
* using log directory ‘/Users/biocbuild/bbs-3.22-bioc/meat/ngsReports.Rcheck’
* using R version 4.5.1 Patched (2025-09-10 r88807)
* using platform: x86_64-apple-darwin20
* R was compiled by
Apple clang version 14.0.0 (clang-1400.0.29.202)
GNU Fortran (GCC) 14.2.0
* running under: macOS Monterey 12.7.6
* using session charset: UTF-8
* using option ‘--no-vignettes’
* checking for file ‘ngsReports/DESCRIPTION’ ... OK
* this is package ‘ngsReports’ version ‘2.12.0’
* package encoding: UTF-8
* checking package namespace information ... OK
* checking package dependencies ... OK
* checking if this is a source package ... OK
* checking if there is a namespace ... OK
* checking for hidden files and directories ... OK
* checking for portable file names ... OK
* checking for sufficient/correct file permissions ... OK
* checking whether package ‘ngsReports’ can be installed ... OK
* checking installed package size ... OK
* checking package directory ... OK
* checking ‘build’ directory ... OK
* checking DESCRIPTION meta-information ... OK
* checking top-level files ... OK
* checking for left-over files ... OK
* checking index information ... OK
* checking package subdirectories ... OK
* checking code files for non-ASCII characters ... OK
* checking R files for syntax errors ... OK
* checking whether the package can be loaded ... OK
* checking whether the package can be loaded with stated dependencies ... OK
* checking whether the package can be unloaded cleanly ... OK
* checking whether the namespace can be loaded with stated dependencies ... OK
* checking whether the namespace can be unloaded cleanly ... OK
* checking dependencies in R code ... OK
* checking S3 generic/method consistency ... OK
* checking replacement functions ... OK
* checking foreign function calls ... OK
* checking R code for possible problems ... OK
* checking Rd files ... OK
* checking Rd metadata ... OK
* checking Rd cross-references ... OK
* checking for missing documentation entries ... OK
* checking for code/documentation mismatches ... OK
* checking Rd \usage sections ... OK
* checking Rd contents ... OK
* checking for unstated dependencies in examples ... OK
* checking contents of ‘data’ directory ... OK
* checking data for non-ASCII characters ... OK
* checking LazyData ... OK
* checking data for ASCII and uncompressed saves ... OK
* checking files in ‘vignettes’ ... OK
* checking examples ... OK
* checking for unstated dependencies in ‘tests’ ... OK
* checking tests ...
Running ‘testthat.R’
OK
* checking for unstated dependencies in vignettes ... OK
* checking package vignettes ... OK
* checking running R code from vignettes ... SKIPPED
* checking re-building of vignette outputs ... SKIPPED
* checking PDF version of manual ... OK
* DONE
Status: OK
ngsReports.Rcheck/00install.out
############################################################################## ############################################################################## ### ### Running command: ### ### /Library/Frameworks/R.framework/Resources/bin/R CMD INSTALL ngsReports ### ############################################################################## ############################################################################## * installing to library ‘/Library/Frameworks/R.framework/Versions/4.5-x86_64/Resources/library’ * installing *source* package ‘ngsReports’ ... ** this is package ‘ngsReports’ version ‘2.12.0’ ** using staged installation ** R ** data *** moving datasets to lazyload DB ** inst ** byte-compile and prepare package for lazy loading ** help *** installing help indices *** copying figures ** building package indices ** installing vignettes ** testing if installed package can be loaded from temporary location ** testing if installed package can be loaded from final location ** testing if installed package keeps a record of temporary installation path * DONE (ngsReports)
ngsReports.Rcheck/tests/testthat.Rout
R version 4.5.1 Patched (2025-09-10 r88807) -- "Great Square Root"
Copyright (C) 2025 The R Foundation for Statistical Computing
Platform: x86_64-apple-darwin20
R is free software and comes with ABSOLUTELY NO WARRANTY.
You are welcome to redistribute it under certain conditions.
Type 'license()' or 'licence()' for distribution details.
R is a collaborative project with many contributors.
Type 'contributors()' for more information and
'citation()' on how to cite R or R packages in publications.
Type 'demo()' for some demos, 'help()' for on-line help, or
'help.start()' for an HTML browser interface to help.
Type 'q()' to quit R.
> library(testthat)
> library(ngsReports)
Loading required package: BiocGenerics
Loading required package: generics
Attaching package: 'generics'
The following objects are masked from 'package:base':
as.difftime, as.factor, as.ordered, intersect, is.element, setdiff,
setequal, union
Attaching package: 'BiocGenerics'
The following objects are masked from 'package:stats':
IQR, mad, sd, var, xtabs
The following objects are masked from 'package:base':
Filter, Find, Map, Position, Reduce, anyDuplicated, aperm, append,
as.data.frame, basename, cbind, colnames, dirname, do.call,
duplicated, eval, evalq, get, grep, grepl, is.unsorted, lapply,
mapply, match, mget, order, paste, pmax, pmax.int, pmin, pmin.int,
rank, rbind, rownames, sapply, saveRDS, table, tapply, unique,
unsplit, which.max, which.min
Loading required package: ggplot2
Loading required package: patchwork
Loading required package: tibble
>
> test_check("ngsReports")
2025-11-03 23:01:28.296 R[47841:725546418] XType: com.apple.fonts is not accessible.
2025-11-03 23:01:28.297 R[47841:725546418] XType: XTFontStaticRegistry is enabled.
[ FAIL 0 | WARN 0 | SKIP 0 | PASS 388 ]
>
> proc.time()
user system elapsed
68.001 1.787 70.497
ngsReports.Rcheck/ngsReports-Ex.timings
| name | user | system | elapsed | |
| FastqcData | 0.092 | 0.008 | 0.103 | |
| FastqcDataList | 0.329 | 0.017 | 0.350 | |
| TheoreticalGC-class | 0.086 | 0.004 | 0.091 | |
| dot-FastqcFile-class | 0.002 | 0.001 | 0.004 | |
| dot-addPercent | 0.000 | 0.000 | 0.001 | |
| dot-emptyPlot | 0.191 | 0.004 | 0.195 | |
| dot-makeDendro | 0.378 | 0.014 | 0.394 | |
| dot-makeLabels | 0.001 | 0.001 | 0.002 | |
| dot-splitByTab | 0.003 | 0.000 | 0.003 | |
| estGcDistn | 0.023 | 0.001 | 0.025 | |
| extract-methods | 0.354 | 0.013 | 0.368 | |
| fqName-methods | 0.501 | 0.018 | 0.522 | |
| fqcVersion | 0.379 | 0.015 | 0.396 | |
| gcAvail | 0.023 | 0.001 | 0.023 | |
| gcTheoretical | 0.037 | 0.001 | 0.038 | |
| getColours-methods | 0.002 | 0.000 | 0.002 | |
| getGC | 0.036 | 0.001 | 0.036 | |
| getModule | 0.379 | 0.012 | 0.392 | |
| getSummary | 0.710 | 0.017 | 0.729 | |
| importNgsLogs | 0.020 | 0.001 | 0.021 | |
| importSJ | 0.006 | 0.001 | 0.007 | |
| isCompressed | 0.001 | 0.001 | 0.002 | |
| mData | 0.018 | 0.000 | 0.019 | |
| maxAdapterContent | 0.407 | 0.018 | 0.426 | |
| overRep2Fasta-methods | 0.360 | 0.022 | 0.383 | |
| path | 0.331 | 0.012 | 0.344 | |
| plotAdapterContent-methods | 3.089 | 0.060 | 3.160 | |
| plotAlignmentSummary | 0.366 | 0.003 | 0.372 | |
| plotAssemblyStats | 0.831 | 0.005 | 0.839 | |
| plotBaseQuals-methods | 1.997 | 0.043 | 2.054 | |
| plotDupLevels-methods | 1.402 | 0.019 | 1.427 | |
| plotFastqcPCA-methods | 0.781 | 0.017 | 0.802 | |
| plotGcContent-methods | 1.209 | 0.023 | 1.240 | |
| plotInsertSize-methods | 0.705 | 0.006 | 0.714 | |
| plotKmers-methods | 1.986 | 0.028 | 2.025 | |
| plotNContent-methods | 1.021 | 0.010 | 1.039 | |
| plotOverrep-methods | 0.982 | 0.020 | 1.008 | |
| plotReadTotals-methods | 0.977 | 0.018 | 1.000 | |
| plotSeqContent-methods | 3.685 | 0.044 | 3.748 | |
| plotSeqLengthDistn-methods | 1.531 | 0.024 | 1.569 | |
| plotSeqQuals-methods | 1.606 | 0.025 | 1.639 | |
| plotSummary-methods | 1.072 | 0.019 | 1.095 | |
| pwf | 0.004 | 0.001 | 0.005 | |
| readTotals | 0.351 | 0.011 | 0.363 | |
| summariseOverrep-methods | 1.050 | 0.028 | 1.084 | |
| writeHtmlReport | 0.001 | 0.000 | 0.001 | |