| Back to Multiple platform build/check report for BioC 3.21: simplified long |
|
This page was generated on 2025-10-16 11:41 -0400 (Thu, 16 Oct 2025).
| Hostname | OS | Arch (*) | R version | Installed pkgs |
|---|---|---|---|---|
| nebbiolo1 | Linux (Ubuntu 24.04.3 LTS) | x86_64 | 4.5.1 (2025-06-13) -- "Great Square Root" | 4833 |
| merida1 | macOS 12.7.6 Monterey | x86_64 | 4.5.1 RC (2025-06-05 r88288) -- "Great Square Root" | 4614 |
| kjohnson1 | macOS 13.7.5 Ventura | arm64 | 4.5.1 Patched (2025-06-14 r88325) -- "Great Square Root" | 4555 |
| kunpeng2 | Linux (openEuler 24.03 LTS) | aarch64 | R Under development (unstable) (2025-02-19 r87757) -- "Unsuffered Consequences" | 4586 |
| Click on any hostname to see more info about the system (e.g. compilers) (*) as reported by 'uname -p', except on Windows and Mac OS X | ||||
| Package 1435/2341 | Hostname | OS / Arch | INSTALL | BUILD | CHECK | BUILD BIN | ||||||||
Shraddha Pai
| nebbiolo1 | Linux (Ubuntu 24.04.3 LTS) / x86_64 | OK | ERROR | skipped | |||||||||
| merida1 | macOS 12.7.6 Monterey / x86_64 | OK | ERROR | skipped | skipped | |||||||||
| kjohnson1 | macOS 13.7.5 Ventura / arm64 | OK | ERROR | skipped | skipped | |||||||||
| kunpeng2 | Linux (openEuler 24.03 LTS) / aarch64 | OK | OK | OK | ||||||||||
|
To the developers/maintainers of the netDx package: - Allow up to 24 hours (and sometimes 48 hours) for your latest push to git@git.bioconductor.org:packages/netDx.git to reflect on this report. See Troubleshooting Build Report for more information. - Use the following Renviron settings to reproduce errors and warnings. - If 'R CMD check' started to fail recently on the Linux builder(s) over a missing dependency, add the missing dependency to 'Suggests:' in your DESCRIPTION file. See Renviron.bioc for more information. - See Martin Grigorov's blog post for how to debug Linux ARM64 related issues on a x86_64 host. |
| Package: netDx |
| Version: 1.20.0 |
| Command: /home/biocbuild/R/R/bin/R CMD check --install=check:netDx.install-out.txt --library=/home/biocbuild/R/R/site-library --no-vignettes --timings netDx_1.20.0.tar.gz |
| StartedAt: 2025-10-14 11:56:55 -0000 (Tue, 14 Oct 2025) |
| EndedAt: 2025-10-14 12:16:52 -0000 (Tue, 14 Oct 2025) |
| EllapsedTime: 1196.8 seconds |
| RetCode: 0 |
| Status: OK |
| CheckDir: netDx.Rcheck |
| Warnings: 0 |
##############################################################################
##############################################################################
###
### Running command:
###
### /home/biocbuild/R/R/bin/R CMD check --install=check:netDx.install-out.txt --library=/home/biocbuild/R/R/site-library --no-vignettes --timings netDx_1.20.0.tar.gz
###
##############################################################################
##############################################################################
* using log directory ‘/home/biocbuild/bbs-3.21-bioc/meat/netDx.Rcheck’
* using R Under development (unstable) (2025-02-19 r87757)
* using platform: aarch64-unknown-linux-gnu
* R was compiled by
aarch64-unknown-linux-gnu-gcc (GCC) 14.2.0
GNU Fortran (GCC) 14.2.0
* running under: openEuler 24.03 (LTS-SP1)
* using session charset: UTF-8
* using option ‘--no-vignettes’
* checking for file ‘netDx/DESCRIPTION’ ... OK
* this is package ‘netDx’ version ‘1.20.0’
* package encoding: UTF-8
* checking package namespace information ... OK
* checking package dependencies ... INFO
Imports includes 21 non-default packages.
Importing from so many packages makes the package vulnerable to any of
them becoming unavailable. Move as many as possible to Suggests and
use conditionally.
* checking if this is a source package ... OK
* checking if there is a namespace ... OK
* checking for hidden files and directories ... NOTE
Found the following hidden files and directories:
.BBSoptions
These were most likely included in error. See section ‘Package
structure’ in the ‘Writing R Extensions’ manual.
* checking for portable file names ... OK
* checking for sufficient/correct file permissions ... OK
* checking whether package ‘netDx’ can be installed ... OK
* checking installed package size ... INFO
installed size is 7.4Mb
sub-directories of 1Mb or more:
extdata 6.0Mb
* checking package directory ... OK
* checking ‘build’ directory ... OK
* checking DESCRIPTION meta-information ... NOTE
Malformed Description field: should contain one or more complete sentences.
* checking top-level files ... OK
* checking for left-over files ... OK
* checking index information ... OK
* checking package subdirectories ... NOTE
Found the following CITATION file in a non-standard place:
CITATION.cff
Most likely ‘inst/CITATION’ should be used instead.
* checking code files for non-ASCII characters ... OK
* checking R files for syntax errors ... OK
* checking whether the package can be loaded ... OK
* checking whether the package can be loaded with stated dependencies ... OK
* checking whether the package can be unloaded cleanly ... OK
* checking whether the namespace can be loaded with stated dependencies ... OK
* checking whether the namespace can be unloaded cleanly ... OK
* checking loading without being on the library search path ... OK
* checking whether startup messages can be suppressed ... OK
* checking dependencies in R code ... OK
* checking S3 generic/method consistency ... OK
* checking replacement functions ... OK
* checking foreign function calls ... OK
* checking R code for possible problems ... OK
* checking Rd files ... NOTE
checkRd: (-1) getEnr.Rd:53: Lost braces; missing escapes or markup?
53 | {(+,-),(-,+),(-,-)} interactions.
| ^
checkRd: (-1) predict.Rd:27: Lost braces; missing escapes or markup?
27 | e.g. keys could include {'clinical','rna','methylation'}, and values within 'rna' could include pathway names {'cell cycle', 'DNA repair'}, etc.,
| ^
checkRd: (-1) predict.Rd:27: Lost braces; missing escapes or markup?
27 | e.g. keys could include {'clinical','rna','methylation'}, and values within 'rna' could include pathway names {'cell cycle', 'DNA repair'}, etc.,
| ^
* checking Rd metadata ... OK
* checking Rd cross-references ... OK
* checking for missing documentation entries ... OK
* checking for code/documentation mismatches ... OK
* checking Rd \usage sections ... OK
* checking Rd contents ... OK
* checking for unstated dependencies in examples ... OK
* checking contents of ‘data’ directory ... OK
* checking data for non-ASCII characters ... OK
* checking data for ASCII and uncompressed saves ... OK
* checking files in ‘vignettes’ ... OK
* checking examples ... OK
Examples with CPU (user + system) or elapsed time > 5s
user system elapsed
buildPredictor 26.563 1.132 51.725
createPSN_MultiData 23.126 0.975 59.709
RR_featureTally 18.663 0.116 20.123
sim.pearscale 10.064 0.028 11.999
smoothMutations_LabelProp 9.591 0.443 49.300
getSimilarity 7.178 0.019 7.604
runFeatureSelection 6.838 0.275 8.274
getPatientPredictions 6.834 0.108 8.352
compileFeatures 6.278 0.300 37.268
plotPerf 5.729 0.016 6.218
sparsify2 4.360 0.136 5.160
thresholdSmoothedMutations 3.719 0.044 43.004
runQuery 2.927 0.233 6.524
enrichLabelNets 1.913 0.083 87.379
getEnr 0.974 0.103 15.064
makePSN_NamedMatrix 0.092 0.012 14.119
countIntType_batch 0.027 0.000 14.634
* checking for unstated dependencies in ‘tests’ ... OK
* checking tests ...
Running ‘testthat.R’
OK
* checking for unstated dependencies in vignettes ... OK
* checking package vignettes ... OK
* checking running R code from vignettes ... SKIPPED
* checking re-building of vignette outputs ... SKIPPED
* checking PDF version of manual ... OK
* DONE
Status: 4 NOTEs
See
‘/home/biocbuild/bbs-3.21-bioc/meat/netDx.Rcheck/00check.log’
for details.
netDx.Rcheck/00install.out
############################################################################## ############################################################################## ### ### Running command: ### ### /home/biocbuild/R/R/bin/R CMD INSTALL netDx ### ############################################################################## ############################################################################## * installing to library ‘/home/biocbuild/R/R-devel_2025-02-19/site-library’ * installing *source* package ‘netDx’ ... ** this is package ‘netDx’ version ‘1.20.0’ ** using staged installation ** R ** data ** inst ** byte-compile and prepare package for lazy loading ** help *** installing help indices ** building package indices ** installing vignettes ** testing if installed package can be loaded from temporary location Warning in fun(libname, pkgname) : Package 'netDx' is deprecated and will be removed from Bioconductor version 3.22 ** testing if installed package can be loaded from final location Warning in fun(libname, pkgname) : Package 'netDx' is deprecated and will be removed from Bioconductor version 3.22 ** testing if installed package keeps a record of temporary installation path * DONE (netDx)
netDx.Rcheck/tests/testthat.Rout
R Under development (unstable) (2025-02-19 r87757) -- "Unsuffered Consequences"
Copyright (C) 2025 The R Foundation for Statistical Computing
Platform: aarch64-unknown-linux-gnu
R is free software and comes with ABSOLUTELY NO WARRANTY.
You are welcome to redistribute it under certain conditions.
Type 'license()' or 'licence()' for distribution details.
R is a collaborative project with many contributors.
Type 'contributors()' for more information and
'citation()' on how to cite R or R packages in publications.
Type 'demo()' for some demos, 'help()' for on-line help, or
'help.start()' for an HTML browser interface to help.
Type 'q()' to quit R.
> library(testthat)
> library(netDx)
Attaching package: 'netDx'
The following object is masked from 'package:stats':
predict
Warning message:
In fun(libname, pkgname) :
Package 'netDx' is deprecated and will be removed from Bioconductor
version 3.22
>
> test_check("netDx")
TT_STATUS
STATUS TEST TRAIN
LumA 52 178
notLumA 52 243
PRED_CLASS
STATUS LumA notLumA
LumA 41 11
notLumA 17 35
[1] TRUE
[ FAIL 0 | WARN 0 | SKIP 0 | PASS 39 ]
>
> proc.time()
user system elapsed
79.416 3.684 399.348
netDx.Rcheck/netDx-Ex.timings
| name | user | system | elapsed | |
| MB.pheno | 0.003 | 0.003 | 0.005 | |
| RR_featureTally | 18.663 | 0.116 | 20.123 | |
| avgNormDiff | 0.046 | 0.004 | 0.103 | |
| buildPredictor | 26.563 | 1.132 | 51.725 | |
| buildPredictor_sparseGenetic | 0.727 | 0.041 | 2.330 | |
| callFeatSel | 0.138 | 0.004 | 0.263 | |
| callOverallSelectedFeatures | 0.128 | 0.012 | 0.140 | |
| cleanPathwayName | 0 | 0 | 0 | |
| cnv_GR | 0.036 | 0.004 | 0.039 | |
| cnv_TTstatus | 0.003 | 0.004 | 0.008 | |
| cnv_netPass | 0.004 | 0.000 | 0.004 | |
| cnv_netScores | 0.003 | 0.004 | 0.008 | |
| cnv_patientNetCount | 0.105 | 0.024 | 0.129 | |
| cnv_pheno | 0.009 | 0.000 | 0.010 | |
| compareShortestPath | 0.030 | 0.004 | 0.035 | |
| compileFeatureScores | 0.006 | 0.004 | 0.012 | |
| compileFeatures | 6.278 | 0.300 | 37.268 | |
| confmat | 0.004 | 0.000 | 0.003 | |
| confusionMatrix | 0.114 | 0.004 | 0.239 | |
| convertToMAE | 0.175 | 0.012 | 0.318 | |
| countIntType | 0.002 | 0.000 | 0.001 | |
| countIntType_batch | 0.027 | 0.000 | 14.634 | |
| countPatientsInNet | 0.002 | 0.000 | 0.003 | |
| createPSN_MultiData | 23.126 | 0.975 | 59.709 | |
| dataList2List | 0.466 | 0.004 | 0.589 | |
| enrichLabelNets | 1.913 | 0.083 | 87.379 | |
| featScores | 0.033 | 0.004 | 0.037 | |
| fetchPathwayDefinitions | 0.395 | 0.032 | 2.089 | |
| genes | 0.003 | 0.000 | 0.007 | |
| getEMapInput | 1.077 | 0.064 | 2.230 | |
| getEMapInput_many | 1.068 | 0.100 | 2.035 | |
| getEnr | 0.974 | 0.103 | 15.064 | |
| getFeatureScores | 0.016 | 0.001 | 0.017 | |
| getFileSep | 0 | 0 | 0 | |
| getGMjar_path | 0.199 | 0.030 | 0.483 | |
| getNetConsensus | 0.020 | 0.000 | 0.041 | |
| getOR | 0.004 | 0.000 | 0.009 | |
| getPatientPredictions | 6.834 | 0.108 | 8.352 | |
| getPatientRankings | 0.138 | 0.008 | 0.280 | |
| getRegionOL | 0.451 | 0.000 | 0.452 | |
| getResults | 0.158 | 0.000 | 0.159 | |
| getSimilarity | 7.178 | 0.019 | 7.604 | |
| makePSN_NamedMatrix | 0.092 | 0.012 | 14.119 | |
| makePSN_RangeSets | 0.011 | 0.004 | 0.031 | |
| makeQueries | 0.012 | 0.000 | 0.024 | |
| makeSymmetric | 0.002 | 0.000 | 0.007 | |
| mapNamedRangesToSets | 0.057 | 0.001 | 0.115 | |
| modelres | 0.004 | 0.000 | 0.007 | |
| normDiff | 0.002 | 0.000 | 0.001 | |
| npheno | 0.003 | 0.000 | 0.007 | |
| pathwayList | 0.003 | 0.000 | 0.004 | |
| pathway_GR | 0.100 | 0.015 | 0.172 | |
| perfCalc | 0.002 | 0.001 | 0.003 | |
| pheno | 0.011 | 0.000 | 0.011 | |
| pheno_full | 0.002 | 0.000 | 0.002 | |
| plotEmap | 1.023 | 0.055 | 2.256 | |
| plotPerf | 5.729 | 0.016 | 6.218 | |
| plotPerf_multi | 0.044 | 0.004 | 0.048 | |
| predRes | 0.003 | 0.000 | 0.003 | |
| predictPatientLabels | 0.009 | 0.000 | 0.010 | |
| pruneNets | 0.012 | 0.000 | 0.011 | |
| randAlphanumString | 0.001 | 0.000 | 0.000 | |
| readPathways | 0.974 | 0.060 | 2.056 | |
| runFeatureSelection | 6.838 | 0.275 | 8.274 | |
| runQuery | 2.927 | 0.233 | 6.524 | |
| setupFeatureDB | 0.057 | 0.012 | 0.139 | |
| silh | 0.004 | 0.001 | 0.008 | |
| sim.eucscale | 0.473 | 0.008 | 0.541 | |
| sim.pearscale | 10.064 | 0.028 | 11.999 | |
| simpleCap | 0.000 | 0.000 | 0.001 | |
| smoothMutations_LabelProp | 9.591 | 0.443 | 49.300 | |
| sparsify2 | 4.360 | 0.136 | 5.160 | |
| sparsify3 | 1.519 | 0.016 | 1.558 | |
| splitTestTrain | 0.029 | 0.000 | 0.029 | |
| splitTestTrain_resampling | 0.007 | 0.000 | 0.007 | |
| tSNEPlotter | 2.870 | 0.028 | 3.012 | |
| thresholdSmoothedMutations | 3.719 | 0.044 | 43.004 | |
| toymodel | 1.171 | 0.319 | 1.601 | |
| updateNets | 0.009 | 0.000 | 0.009 | |
| writeNetsSIF | 0.008 | 0.000 | 0.008 | |
| writeQueryBatchFile | 0.004 | 0.000 | 0.004 | |
| writeQueryFile | 0.007 | 0.000 | 0.007 | |
| xpr | 0.035 | 0.000 | 0.035 | |