Back to Multiple platform build/check report for BioC 3.22:   simplified   long
ABCDEFGHIJKL[M]NOPQRSTUVWXYZ

This page was generated on 2025-11-27 12:04 -0500 (Thu, 27 Nov 2025).

HostnameOSArch (*)R versionInstalled pkgs
nebbiolo2Linux (Ubuntu 24.04.3 LTS)x86_644.5.2 (2025-10-31) -- "[Not] Part in a Rumble" 4876
merida1macOS 12.7.6 Montereyx86_644.5.2 Patched (2025-11-05 r88990) -- "[Not] Part in a Rumble" 4656
kjohnson1macOS 13.7.5 Venturaarm644.5.2 Patched (2025-11-04 r88984) -- "[Not] Part in a Rumble" 4602
taishanLinux (openEuler 24.03 LTS)aarch644.5.0 (2025-04-11) -- "How About a Twenty-Six" 4668
Click on any hostname to see more info about the system (e.g. compilers)      (*) as reported by 'uname -p', except on Windows and Mac OS X

Package 1427/2361HostnameOS / ArchINSTALLBUILDCHECKBUILD BIN
muscat 1.24.0  (landing page)
Helena L. Crowell
Snapshot Date: 2025-11-24 13:45 -0500 (Mon, 24 Nov 2025)
git_url: https://git.bioconductor.org/packages/muscat
git_branch: RELEASE_3_22
git_last_commit: a6749ec
git_last_commit_date: 2025-10-29 10:53:55 -0500 (Wed, 29 Oct 2025)
nebbiolo2Linux (Ubuntu 24.04.3 LTS) / x86_64  OK    OK    OK  UNNEEDED, same version is already published
merida1macOS 12.7.6 Monterey / x86_64  OK    OK    ERROR    OK  
kjohnson1macOS 13.7.5 Ventura / arm64  OK    OK    ERROR    NA  
taishanLinux (openEuler 24.03 LTS) / aarch64  OK    OK    OK  


CHECK results for muscat on kjohnson1

To the developers/maintainers of the muscat package:
- Allow up to 24 hours (and sometimes 48 hours) for your latest push to git@git.bioconductor.org:packages/muscat.git to reflect on this report. See Troubleshooting Build Report for more information.
- Use the following Renviron settings to reproduce errors and warnings.
- If 'R CMD check' started to fail recently on the Linux builder(s) over a missing dependency, add the missing dependency to 'Suggests:' in your DESCRIPTION file. See Renviron.bioc for more information.

raw results


Summary

Package: muscat
Version: 1.24.0
Command: /Library/Frameworks/R.framework/Resources/bin/R CMD check --install=check:muscat.install-out.txt --library=/Library/Frameworks/R.framework/Resources/library --no-vignettes --timings muscat_1.24.0.tar.gz
StartedAt: 2025-11-26 16:45:55 -0500 (Wed, 26 Nov 2025)
EndedAt: 2025-11-26 16:57:53 -0500 (Wed, 26 Nov 2025)
EllapsedTime: 718.0 seconds
RetCode: 1
Status:   ERROR  
CheckDir: muscat.Rcheck
Warnings: NA

Command output

##############################################################################
##############################################################################
###
### Running command:
###
###   /Library/Frameworks/R.framework/Resources/bin/R CMD check --install=check:muscat.install-out.txt --library=/Library/Frameworks/R.framework/Resources/library --no-vignettes --timings muscat_1.24.0.tar.gz
###
##############################################################################
##############################################################################


* using log directory ‘/Users/biocbuild/bbs-3.22-bioc/meat/muscat.Rcheck’
* using R version 4.5.2 Patched (2025-11-04 r88984)
* using platform: aarch64-apple-darwin20
* R was compiled by
    Apple clang version 16.0.0 (clang-1600.0.26.6)
    GNU Fortran (GCC) 14.2.0
* running under: macOS Ventura 13.7.8
* using session charset: UTF-8
* using option ‘--no-vignettes’
* checking for file ‘muscat/DESCRIPTION’ ... OK
* checking extension type ... Package
* this is package ‘muscat’ version ‘1.24.0’
* package encoding: UTF-8
* checking package namespace information ... OK
* checking package dependencies ... INFO
Imports includes 26 non-default packages.
Importing from so many packages makes the package vulnerable to any of
them becoming unavailable.  Move as many as possible to Suggests and
use conditionally.
* checking if this is a source package ... OK
* checking if there is a namespace ... OK
* checking for hidden files and directories ... OK
* checking for portable file names ... OK
* checking for sufficient/correct file permissions ... OK
* checking whether package ‘muscat’ can be installed ... OK
* checking installed package size ... OK
* checking package directory ... OK
* checking ‘build’ directory ... OK
* checking DESCRIPTION meta-information ... OK
* checking top-level files ... OK
* checking for left-over files ... OK
* checking index information ... OK
* checking package subdirectories ... OK
* checking code files for non-ASCII characters ... OK
* checking R files for syntax errors ... OK
* checking whether the package can be loaded ... OK
* checking whether the package can be loaded with stated dependencies ... OK
* checking whether the package can be unloaded cleanly ... OK
* checking whether the namespace can be loaded with stated dependencies ... OK
* checking whether the namespace can be unloaded cleanly ... OK
* checking dependencies in R code ... OK
* checking S3 generic/method consistency ... OK
* checking replacement functions ... OK
* checking foreign function calls ... OK
* checking R code for possible problems ... NOTE
pbHeatmap: no visible binding for global variable ‘gene’
pbHeatmap: no visible binding for global variable ‘p_adj.loc’
pbHeatmap: no visible binding for global variable ‘logFC’
Undefined global functions or variables:
  gene logFC p_adj.loc
* checking Rd files ... OK
* checking Rd metadata ... OK
* checking Rd cross-references ... NOTE
Non-topic package-anchored link(s) in Rd file 'mmDS.Rd':
  ‘[limma:dupcor]{duplicateCorrelation}’

See section 'Cross-references' in the 'Writing R Extensions' manual.

Found the following Rd file(s) with Rd \link{} targets missing package
anchors:
  pbHeatmap.Rd: HeatmapList-class
  prepSCE.Rd: SingleCellExperiment-class
Please provide package anchors for all Rd \link{} targets not in the
package itself and the base packages.
* checking for missing documentation entries ... OK
* checking for code/documentation mismatches ... OK
* checking Rd \usage sections ... OK
* checking Rd contents ... OK
* checking for unstated dependencies in examples ... OK
* checking contents of ‘data’ directory ... OK
* checking data for non-ASCII characters ... OK
* checking data for ASCII and uncompressed saves ... OK
* checking files in ‘vignettes’ ... OK
* checking examples ... OK
Examples with CPU (user + system) or elapsed time > 5s
                 user system elapsed
mmDS            8.218  0.140  13.310
simData         7.865  0.173  12.274
pbHeatmap       7.421  0.120  11.877
prepSim         6.900  0.130  11.052
stagewise_DS_DD 5.734  0.157   9.420
* checking for unstated dependencies in ‘tests’ ... OK
* checking tests ...
  Running ‘testthat.R’
 ERROR
Running the tests in ‘tests/testthat.R’ failed.
Last 13 lines of output:
  Expected `sum(re$id[seq_len(n_de)] %in% gi$id[de])` >= `round(n_de/2)`.
  Actual comparison: 17.0 < 20.0
  Difference: -3.0 < 0
  Backtrace:
      ▆
   1. └─base::replicate(...) at test-simData.R:49:5
   2.   └─base::sapply(...)
   3.     └─base::lapply(X = X, FUN = FUN, ...)
   4.       └─muscat (local) FUN(X[[i]], ...)
   5.         └─testthat::expect_gte(...) at test-simData.R:60:9
  
  [ FAIL 1 | WARN 0 | SKIP 0 | PASS 554 ]
  Error:
  ! Test failures.
  Execution halted
* checking for unstated dependencies in vignettes ... OK
* checking package vignettes ... OK
* checking running R code from vignettes ... SKIPPED
* checking re-building of vignette outputs ... SKIPPED
* checking PDF version of manual ... OK
* DONE

Status: 1 ERROR, 2 NOTEs
See
  ‘/Users/biocbuild/bbs-3.22-bioc/meat/muscat.Rcheck/00check.log’
for details.


Installation output

muscat.Rcheck/00install.out

##############################################################################
##############################################################################
###
### Running command:
###
###   /Library/Frameworks/R.framework/Resources/bin/R CMD INSTALL muscat
###
##############################################################################
##############################################################################


* installing to library ‘/Library/Frameworks/R.framework/Versions/4.5-arm64/Resources/library’
* installing *source* package ‘muscat’ ...
** this is package ‘muscat’ version ‘1.24.0’
** using staged installation
** R
** data
** inst
** byte-compile and prepare package for lazy loading
Warning in check_dep_version(dep_pkg = "TMB") :
  package version mismatch: 
glmmTMB was built with TMB package version 1.9.17
Current TMB package version is 1.9.18
Please re-install glmmTMB from source or restore original ‘TMB’ package (see '?reinstalling' for more information)
** help
*** installing help indices
** building package indices
** installing vignettes
** testing if installed package can be loaded from temporary location
Warning in check_dep_version(dep_pkg = "TMB") :
  package version mismatch: 
glmmTMB was built with TMB package version 1.9.17
Current TMB package version is 1.9.18
Please re-install glmmTMB from source or restore original ‘TMB’ package (see '?reinstalling' for more information)
** testing if installed package can be loaded from final location
Warning in check_dep_version(dep_pkg = "TMB") :
  package version mismatch: 
glmmTMB was built with TMB package version 1.9.17
Current TMB package version is 1.9.18
Please re-install glmmTMB from source or restore original ‘TMB’ package (see '?reinstalling' for more information)
** testing if installed package keeps a record of temporary installation path
* DONE (muscat)

Tests output

muscat.Rcheck/tests/testthat.Rout.fail


R version 4.5.2 Patched (2025-11-04 r88984) -- "[Not] Part in a Rumble"
Copyright (C) 2025 The R Foundation for Statistical Computing
Platform: aarch64-apple-darwin20

R is free software and comes with ABSOLUTELY NO WARRANTY.
You are welcome to redistribute it under certain conditions.
Type 'license()' or 'licence()' for distribution details.

R is a collaborative project with many contributors.
Type 'contributors()' for more information and
'citation()' on how to cite R or R packages in publications.

Type 'demo()' for some demos, 'help()' for on-line help, or
'help.start()' for an HTML browser interface to help.
Type 'q()' to quit R.

> library(testthat)
> library(muscat)
Warning message:
In check_dep_version(dep_pkg = "TMB") : package version mismatch: 
glmmTMB was built with TMB package version 1.9.17
Current TMB package version is 1.9.18
Please re-install glmmTMB from source or restore original 'TMB' package (see '?reinstalling' for more information)
> 
> test_check("muscat")
Saving _problems/test-simData-60.R
[ FAIL 1 | WARN 0 | SKIP 0 | PASS 554 ]

══ Failed tests ════════════════════════════════════════════════════════════════
── Failure ('test-simData.R:60:9'): pbDS() gets at least 50% right for 10% DE genes ──
Expected `sum(re$id[seq_len(n_de)] %in% gi$id[de])` >= `round(n_de/2)`.
Actual comparison: 17.0 < 20.0
Difference: -3.0 < 0
Backtrace:
    ▆
 1. └─base::replicate(...) at test-simData.R:49:5
 2.   └─base::sapply(...)
 3.     └─base::lapply(X = X, FUN = FUN, ...)
 4.       └─muscat (local) FUN(X[[i]], ...)
 5.         └─testthat::expect_gte(...) at test-simData.R:60:9

[ FAIL 1 | WARN 0 | SKIP 0 | PASS 554 ]
Error:
! Test failures.
Execution halted

Example timings

muscat.Rcheck/muscat-Ex.timings

nameusersystemelapsed
aggregateData2.5650.1184.310
calcExprFreqs1.7220.0442.795
data0.0000.0000.001
gBH0.0100.0000.011
mmDS 8.218 0.14013.310
pbDS1.4370.0282.249
pbFlatten0.9330.0361.489
pbHeatmap 7.421 0.12011.877
pbMDS1.1570.0251.876
prepSCE0.5150.0210.787
prepSim 6.900 0.13011.052
resDS2.6940.0783.772
simData 7.865 0.17312.274
stagewise_DS_DD5.7340.1579.420