Back to Multiple platform build/check report for BioC 3.22:   simplified   long
ABCDEFGHIJKL[M]NOPQRSTUVWXYZ

This page was generated on 2025-11-12 11:57 -0500 (Wed, 12 Nov 2025).

HostnameOSArch (*)R versionInstalled pkgs
nebbiolo2Linux (Ubuntu 24.04.3 LTS)x86_644.5.1 Patched (2025-08-23 r88802) -- "Great Square Root" 4902
taishanLinux (openEuler 24.03 LTS)aarch644.5.0 (2025-04-11) -- "How About a Twenty-Six" 4668
Click on any hostname to see more info about the system (e.g. compilers)      (*) as reported by 'uname -p', except on Windows and Mac OS X

All results for package multtest


To the developers/maintainers of the multtest package:
- Allow up to 24 hours (and sometimes 48 hours) for your latest push to git@git.bioconductor.org:packages/multtest.git to reflect on this report. See Troubleshooting Build Report for more information.
- Use the following Renviron settings to reproduce errors and warnings.
- If 'R CMD check' started to fail recently on the Linux builder(s) over a missing dependency, add the missing dependency to 'Suggests:' in your DESCRIPTION file. See Renviron.bioc for more information.

raw results

Package 1424/2361HostnameOS / ArchINSTALLBUILDCHECKBUILD BIN
multtest 2.66.0  (landing page)
Katherine S. Pollard
Snapshot Date: 2025-11-11 13:45 -0500 (Tue, 11 Nov 2025)
git_url: https://git.bioconductor.org/packages/multtest
git_branch: RELEASE_3_22
git_last_commit: 2722ca2
git_last_commit_date: 2025-10-29 09:41:53 -0500 (Wed, 29 Oct 2025)
nebbiolo2Linux (Ubuntu 24.04.3 LTS) / x86_64  OK    OK    WARNINGS  UNNEEDED, same version is already published
taishanLinux (openEuler 24.03 LTS) / aarch64  OK    OK    WARNINGS  



Results for Bioconductor software packages that depend directly on package multtest

QUICK STATSOS / ArchINSTALLBUILDCHECKBUILD BIN
nebbiolo2Linux (Ubuntu 24.04.3 LTS) / x86_64
0024
0024
01518
taishanLinux (openEuler 24.03 LTS) / aarch64
0024
0024
02418
Package 1/24HostnameOS / ArchINSTALLBUILDCHECKBUILD BIN
a4Base 1.58.0  (landing page)
Laure Cougnaud
git_last_commit: b4398e6
git_last_commit_date: 2025-10-29 10:07:20 -0500
nebbiolo2Linux (Ubuntu 24.04.3 LTS) / x86_64  OK    OK    OK  UNNEEDED, same version is already published
taishanLinux (openEuler 24.03 LTS) / aarch64  OK    OK    OK  
Package 2/24HostnameOS / ArchINSTALLBUILDCHECKBUILD BIN
ABarray 1.78.0  (landing page)
Yongming Andrew Sun
git_last_commit: 60b191e
git_last_commit_date: 2025-10-29 09:58:09 -0500
nebbiolo2Linux (Ubuntu 24.04.3 LTS) / x86_64  OK    OK    OK  UNNEEDED, same version is already published
taishanLinux (openEuler 24.03 LTS) / aarch64  OK    OK    OK  
Package 3/24HostnameOS / ArchINSTALLBUILDCHECKBUILD BIN
aCGH 1.88.0  (landing page)
Peter Dimitrov
git_last_commit: a03dea2
git_last_commit_date: 2025-10-29 09:55:04 -0500
nebbiolo2Linux (Ubuntu 24.04.3 LTS) / x86_64  OK    OK    OK  UNNEEDED, same version is already published
taishanLinux (openEuler 24.03 LTS) / aarch64  OK    OK    OK  
Package 4/24HostnameOS / ArchINSTALLBUILDCHECKBUILD BIN
adSplit 1.80.0  (landing page)
Claudio Lottaz
git_last_commit: 0efcd35
git_last_commit_date: 2025-10-29 09:57:38 -0500
nebbiolo2Linux (Ubuntu 24.04.3 LTS) / x86_64  OK    OK    OK  UNNEEDED, same version is already published
taishanLinux (openEuler 24.03 LTS) / aarch64  OK    OK    ERROR  
Package 5/24HostnameOS / ArchINSTALLBUILDCHECKBUILD BIN
ALDEx2 1.42.0  (landing page)
Greg Gloor
git_last_commit: 4f92414
git_last_commit_date: 2025-10-29 10:21:46 -0500
nebbiolo2Linux (Ubuntu 24.04.3 LTS) / x86_64  OK    OK    OK  UNNEEDED, same version is already published
taishanLinux (openEuler 24.03 LTS) / aarch64  OK    OK    OK  
Package 6/24HostnameOS / ArchINSTALLBUILDCHECKBUILD BIN
anota 1.58.0  (landing page)
Ola Larsson
git_last_commit: f642b32
git_last_commit_date: 2025-10-29 10:07:37 -0500
nebbiolo2Linux (Ubuntu 24.04.3 LTS) / x86_64  OK    OK    OK  UNNEEDED, same version is already published
taishanLinux (openEuler 24.03 LTS) / aarch64  OK    OK    OK  
Package 7/24HostnameOS / ArchINSTALLBUILDCHECKBUILD BIN
anota2seq 1.32.0  (landing page)
Christian Oertlin , Ola Larsson
git_last_commit: 8720150
git_last_commit_date: 2025-10-29 10:41:23 -0500
nebbiolo2Linux (Ubuntu 24.04.3 LTS) / x86_64  OK    OK    WARNINGS  UNNEEDED, same version is already published
taishanLinux (openEuler 24.03 LTS) / aarch64  OK    OK    OK  
Package 8/24HostnameOS / ArchINSTALLBUILDCHECKBUILD BIN
BicARE 1.68.0  (landing page)
Pierre Gestraud
git_last_commit: 58c1cf1
git_last_commit_date: 2025-10-29 10:01:51 -0500
nebbiolo2Linux (Ubuntu 24.04.3 LTS) / x86_64  OK    OK    OK  UNNEEDED, same version is already published
taishanLinux (openEuler 24.03 LTS) / aarch64  OK    OK    OK  
Package 9/24HostnameOS / ArchINSTALLBUILDCHECKBUILD BIN
BulkSignalR 1.2.1  (landing page)
Jean-Philippe Villemin
git_last_commit: 68e85a5
git_last_commit_date: 2025-11-08 17:25:11 -0500
nebbiolo2Linux (Ubuntu 24.04.3 LTS) / x86_64  OK    OK    OK  UNNEEDED, same version is already published
taishanLinux (openEuler 24.03 LTS) / aarch64  OK    OK    OK  
Package 10/24HostnameOS / ArchINSTALLBUILDCHECKBUILD BIN
ChIPpeakAnno 3.44.0  (landing page)
Jianhong Ou
git_last_commit: 2b855fa
git_last_commit_date: 2025-10-29 10:03:18 -0500
nebbiolo2Linux (Ubuntu 24.04.3 LTS) / x86_64  OK    OK    OK  UNNEEDED, same version is already published
taishanLinux (openEuler 24.03 LTS) / aarch64  OK    OK    OK  
Package 11/24HostnameOS / ArchINSTALLBUILDCHECKBUILD BIN
GUIDEseq 1.40.0  (landing page)
Lihua Julie Zhu
git_last_commit: 45a0042
git_last_commit_date: 2025-10-29 10:28:16 -0500
nebbiolo2Linux (Ubuntu 24.04.3 LTS) / x86_64  OK    OK    OK  UNNEEDED, same version is already published
taishanLinux (openEuler 24.03 LTS) / aarch64  OK    OK    OK  
Package 12/24HostnameOS / ArchINSTALLBUILDCHECKBUILD BIN
KCsmart 2.68.0  (landing page)
Jorma de Ronde
git_last_commit: 2e7c515
git_last_commit_date: 2025-10-29 10:01:32 -0500
nebbiolo2Linux (Ubuntu 24.04.3 LTS) / x86_64  OK    OK    WARNINGS  UNNEEDED, same version is already published
taishanLinux (openEuler 24.03 LTS) / aarch64  OK    OK    WARNINGS  
Package 13/24HostnameOS / ArchINSTALLBUILDCHECKBUILD BIN
metabomxtr 1.44.0  (landing page)
Michael Nodzenski
git_last_commit: db88c37
git_last_commit_date: 2025-10-29 10:20:39 -0500
nebbiolo2Linux (Ubuntu 24.04.3 LTS) / x86_64  OK    OK    OK  UNNEEDED, same version is already published
taishanLinux (openEuler 24.03 LTS) / aarch64  OK    OK    OK  
Package 14/24HostnameOS / ArchINSTALLBUILDCHECKBUILD BIN
nethet 1.42.0  (landing page)
Nicolas Staedler
git_last_commit: bc1b9c9
git_last_commit_date: 2025-10-29 10:23:13 -0500
nebbiolo2Linux (Ubuntu 24.04.3 LTS) / x86_64  OK    OK    WARNINGS  UNNEEDED, same version is already published
taishanLinux (openEuler 24.03 LTS) / aarch64  OK    OK    WARNINGS  
Package 15/24HostnameOS / ArchINSTALLBUILDCHECKBUILD BIN
OCplus 1.84.0  (landing page)
Alexander Ploner
git_last_commit: 322d769
git_last_commit_date: 2025-10-29 09:57:49 -0500
nebbiolo2Linux (Ubuntu 24.04.3 LTS) / x86_64  OK    OK    OK  UNNEEDED, same version is already published
taishanLinux (openEuler 24.03 LTS) / aarch64  OK    OK    OK  
Package 16/24HostnameOS / ArchINSTALLBUILDCHECKBUILD BIN
phyloseq 1.54.0  (landing page)
Paul J. McMurdie
git_last_commit: 457587e
git_last_commit_date: 2025-10-29 10:10:12 -0500
nebbiolo2Linux (Ubuntu 24.04.3 LTS) / x86_64  OK    OK    WARNINGS  UNNEEDED, same version is already published
taishanLinux (openEuler 24.03 LTS) / aarch64  OK    OK    WARNINGS  
Package 17/24HostnameOS / ArchINSTALLBUILDCHECKBUILD BIN
PREDA 1.56.0  (landing page)
Francesco Ferrari
git_last_commit: dee4ae5
git_last_commit_date: 2025-10-29 10:08:27 -0500
nebbiolo2Linux (Ubuntu 24.04.3 LTS) / x86_64  OK    OK    WARNINGS  UNNEEDED, same version is already published
taishanLinux (openEuler 24.03 LTS) / aarch64  OK    OK    WARNINGS  
Package 18/24HostnameOS / ArchINSTALLBUILDCHECKBUILD BIN
rain 1.44.0  (landing page)
Paul F. Thaben
git_last_commit: 7ff0c32
git_last_commit_date: 2025-10-29 10:21:22 -0500
nebbiolo2Linux (Ubuntu 24.04.3 LTS) / x86_64  OK    OK    OK  UNNEEDED, same version is already published
taishanLinux (openEuler 24.03 LTS) / aarch64  OK    OK    OK  
Package 19/24HostnameOS / ArchINSTALLBUILDCHECKBUILD BIN
REDseq 1.56.0  (landing page)
Lihua Julie Zhu
git_last_commit: 872f291
git_last_commit_date: 2025-10-29 10:07:45 -0500
nebbiolo2Linux (Ubuntu 24.04.3 LTS) / x86_64  OK    OK    OK  UNNEEDED, same version is already published
taishanLinux (openEuler 24.03 LTS) / aarch64  OK    OK    OK  
Package 20/24HostnameOS / ArchINSTALLBUILDCHECKBUILD BIN
RTopper 1.56.0  (landing page)
Luigi Marchionni
git_last_commit: 161cf03
git_last_commit_date: 2025-10-29 10:08:47 -0500
nebbiolo2Linux (Ubuntu 24.04.3 LTS) / x86_64  OK    OK    OK  UNNEEDED, same version is already published
taishanLinux (openEuler 24.03 LTS) / aarch64  OK    OK    OK  
Package 21/24HostnameOS / ArchINSTALLBUILDCHECKBUILD BIN
SARC 1.8.0  (landing page)
Krutik Patel
git_last_commit: 5ccc1f5
git_last_commit_date: 2025-10-29 11:24:25 -0500
nebbiolo2Linux (Ubuntu 24.04.3 LTS) / x86_64  OK    OK    ERROR  
taishanLinux (openEuler 24.03 LTS) / aarch64  OK    OK    ERROR  
Package 22/24HostnameOS / ArchINSTALLBUILDCHECKBUILD BIN
siggenes 1.84.0  (landing page)
Holger Schwender
git_last_commit: bc03145
git_last_commit_date: 2025-10-29 09:53:36 -0500
nebbiolo2Linux (Ubuntu 24.04.3 LTS) / x86_64  OK    OK    OK  UNNEEDED, same version is already published
taishanLinux (openEuler 24.03 LTS) / aarch64  OK    OK    OK  
Package 23/24HostnameOS / ArchINSTALLBUILDCHECKBUILD BIN
singleCellTK 2.20.0  (landing page)
Joshua David Campbell
git_last_commit: e2bff7b
git_last_commit_date: 2025-10-29 11:29:49 -0500
nebbiolo2Linux (Ubuntu 24.04.3 LTS) / x86_64  OK    OK    OK  UNNEEDED, same version is already published
taishanLinux (openEuler 24.03 LTS) / aarch64  OK    OK    OK  
Package 24/24HostnameOS / ArchINSTALLBUILDCHECKBUILD BIN
webbioc 1.82.0  (landing page)
Colin A. Smith
git_last_commit: 6f493bf
git_last_commit_date: 2025-10-29 09:54:04 -0500
nebbiolo2Linux (Ubuntu 24.04.3 LTS) / x86_64  OK    OK    OK  UNNEEDED, same version is already published
taishanLinux (openEuler 24.03 LTS) / aarch64  OK    OK    OK