Back to Multiple platform build/check report for BioC 3.22:   simplified   long
ABCDEFGHIJKL[M]NOPQRSTUVWXYZ

This page was generated on 2025-11-12 11:58 -0500 (Wed, 12 Nov 2025).

HostnameOSArch (*)R versionInstalled pkgs
nebbiolo2Linux (Ubuntu 24.04.3 LTS)x86_644.5.1 Patched (2025-08-23 r88802) -- "Great Square Root" 4902
taishanLinux (openEuler 24.03 LTS)aarch644.5.0 (2025-04-11) -- "How About a Twenty-Six" 4668
Click on any hostname to see more info about the system (e.g. compilers)      (*) as reported by 'uname -p', except on Windows and Mac OS X

Package 1333/2361HostnameOS / ArchINSTALLBUILDCHECKBUILD BIN
mixOmics 6.34.0  (landing page)
Eva Hamrud
Snapshot Date: 2025-11-11 13:45 -0500 (Tue, 11 Nov 2025)
git_url: https://git.bioconductor.org/packages/mixOmics
git_branch: RELEASE_3_22
git_last_commit: 553e6cc
git_last_commit_date: 2025-10-29 10:48:48 -0500 (Wed, 29 Oct 2025)
nebbiolo2Linux (Ubuntu 24.04.3 LTS) / x86_64  OK    OK    OK  UNNEEDED, same version is already published
taishanLinux (openEuler 24.03 LTS) / aarch64  OK    OK    ERROR  


CHECK results for mixOmics on nebbiolo2

To the developers/maintainers of the mixOmics package:
- Allow up to 24 hours (and sometimes 48 hours) for your latest push to git@git.bioconductor.org:packages/mixOmics.git to reflect on this report. See Troubleshooting Build Report for more information.
- Use the following Renviron settings to reproduce errors and warnings.
- If 'R CMD check' started to fail recently on the Linux builder(s) over a missing dependency, add the missing dependency to 'Suggests:' in your DESCRIPTION file. See Renviron.bioc for more information.

raw results


Summary

Package: mixOmics
Version: 6.34.0
Command: /home/biocbuild/bbs-3.22-bioc/R/bin/R CMD check --install=check:mixOmics.install-out.txt --library=/home/biocbuild/bbs-3.22-bioc/R/site-library --timings mixOmics_6.34.0.tar.gz
StartedAt: 2025-11-12 01:37:43 -0500 (Wed, 12 Nov 2025)
EndedAt: 2025-11-12 02:09:04 -0500 (Wed, 12 Nov 2025)
EllapsedTime: 1880.8 seconds
RetCode: 0
Status:   OK  
CheckDir: mixOmics.Rcheck
Warnings: 0

Command output

##############################################################################
##############################################################################
###
### Running command:
###
###   /home/biocbuild/bbs-3.22-bioc/R/bin/R CMD check --install=check:mixOmics.install-out.txt --library=/home/biocbuild/bbs-3.22-bioc/R/site-library --timings mixOmics_6.34.0.tar.gz
###
##############################################################################
##############################################################################


* using log directory ‘/home/biocbuild/bbs-3.22-bioc/meat/mixOmics.Rcheck’
* using R version 4.5.1 Patched (2025-08-23 r88802)
* using platform: x86_64-pc-linux-gnu
* R was compiled by
    gcc (Ubuntu 13.3.0-6ubuntu2~24.04) 13.3.0
    GNU Fortran (Ubuntu 13.3.0-6ubuntu2~24.04) 13.3.0
* running under: Ubuntu 24.04.3 LTS
* using session charset: UTF-8
* checking for file ‘mixOmics/DESCRIPTION’ ... OK
* checking extension type ... Package
* this is package ‘mixOmics’ version ‘6.34.0’
* package encoding: UTF-8
* checking package namespace information ... OK
* checking package dependencies ... OK
* checking if this is a source package ... OK
* checking if there is a namespace ... OK
* checking for hidden files and directories ... OK
* checking for portable file names ... NOTE
Found the following non-portable file paths:
  mixOmics/tests/testthat/_snaps/plotIndiv.pca/pca-plot-coloured-by-primary-groups-custom-cols-reordered-groups.svg
  mixOmics/tests/testthat/_snaps/plotIndiv.pca/pca-plot-coloured-by-primary-groups-custom-cols-with-set-pch-circle-for-all-samples.svg
  mixOmics/tests/testthat/_snaps/plotIndiv.pca/pca-plot-coloured-by-primary-groups-custom-cols-with-set-pch-triangle-for-all-samples.svg
  mixOmics/tests/testthat/_snaps/plotIndiv.pca/pca-plot-coloured-by-primary-groups-with-pch-for-secondary-groups-reordered.svg
  mixOmics/tests/testthat/_snaps/plotIndiv.pca/pca-plot-coloured-by-primary-groups-with-pch-for-secondary-groups.svg
  mixOmics/tests/testthat/_snaps/plotIndiv.pca/pca-plot-coloured-by-primary-groups-with-set-pch-for-each-group.svg
  mixOmics/tests/testthat/_snaps/plotIndiv.pca/pca-plot-sample-names-coloured-by-primary-groups-custom-cols.svg
  mixOmics/tests/testthat/_snaps/plotIndiv.pca/pca-plot-with-centroids-coloured-by-primary-groups-custom-cols.svg
  mixOmics/tests/testthat/_snaps/plotIndiv.pca/pca-plot-with-ellipse-coloured-by-primary-groups-custom-cols-ellipse-level-0-5.svg
  mixOmics/tests/testthat/_snaps/plotIndiv.pca/pca-plot-with-ellipse-coloured-by-primary-groups-custom-cols-sample-names.svg
  mixOmics/tests/testthat/_snaps/plotIndiv.pca/pca-plot-with-ellipse-coloured-by-primary-groups-custom-cols.svg
  mixOmics/tests/testthat/_snaps/plotIndiv.pls/pca-plot-sample-names-coloured-by-primary-groups-custom-cols.svg
  mixOmics/tests/testthat/_snaps/plotIndiv.pls/rcca-plot-coloured-by-primary-groups-custom-cols-reordered-groups.svg
  mixOmics/tests/testthat/_snaps/plotIndiv.pls/rcca-plot-coloured-by-primary-groups-custom-cols-with-set-pch-circle-for-all-samples.svg
  mixOmics/tests/testthat/_snaps/plotIndiv.pls/rcca-plot-coloured-by-primary-groups-with-pch-for-secondary-groups.svg
  mixOmics/tests/testthat/_snaps/plotIndiv.pls/rcca-plot-coloured-by-primary-groups-with-set-pch-for-each-group.svg
  mixOmics/tests/testthat/_snaps/plotIndiv.pls/rcca-plot-with-ellipse-coloured-by-primary-groups-ellipse-level-0-5.svg
  mixOmics/tests/testthat/_snaps/plotIndiv.pls/rcca-plot-with-pch-for-primary-groups-col-consistent.svg
  mixOmics/tests/testthat/_snaps/plotIndiv.pls/spls-plot-with-centroids-and-stars-coloured-by-primary-groups.svg
  mixOmics/tests/testthat/_snaps/plotIndiv.pls/splsda-plot-with-centroids-and-stars-custom-cols-pch-on-second-grouping.svg
  mixOmics/tests/testthat/_snaps/plotLoadings.mint.pls/loadings-plot-mint-pls-change-cols-and-borders-ggplot2.svg
  mixOmics/tests/testthat/_snaps/plotLoadings.mint.pls/loadings-plot-mint-pls-change-cols-and-borders-graphics.svg
  mixOmics/tests/testthat/_snaps/plotLoadings.mint.pls/loadings-plot-mint-pls-change-gene-names-ggplot2.svg
  mixOmics/tests/testthat/_snaps/plotLoadings.mint.pls/loadings-plot-mint-pls-change-gene-names-graphics.svg
  mixOmics/tests/testthat/_snaps/plotLoadings.mint.pls/loadings-plot-mint-pls-change-labels-and-label-sizes-ggplot2.svg
  mixOmics/tests/testthat/_snaps/plotLoadings.mint.pls/loadings-plot-mint-pls-change-labels-and-label-sizes-graphics.svg
  mixOmics/tests/testthat/_snaps/plotLoadings.mint.pls/loadings-plot-mint-pls-change-layout-ggplot2.svg
  mixOmics/tests/testthat/_snaps/plotLoadings.mint.pls/loadings-plot-mint-pls-change-layout-graphics.svg
  mixOmics/tests/testthat/_snaps/plotLoadings.mint.pls/loadings-plot-mint-pls-specific-study-ggplot2.svg
  mixOmics/tests/testthat/_snaps/plotLoadings.mint.pls/loadings-plot-mint-pls-specific-study-graphics.svg
  mixOmics/tests/testthat/_snaps/plotLoadings.mint.plsda/mint-plsda-loadings-ggplot2-specific-study.svg
  mixOmics/tests/testthat/_snaps/plotLoadings.pca/loadings-plot-change-gene-names-and-plot-top-3-ggplot2.svg
  mixOmics/tests/testthat/_snaps/plotLoadings.pca/loadings-plot-change-gene-names-and-plot-top-3-graphics.svg
  mixOmics/tests/testthat/_snaps/plotLoadings.pca/loadings-plot-change-labels-and-label-sizes-ggplot2.svg
  mixOmics/tests/testthat/_snaps/plotLoadings.pca/loadings-plot-change-labels-and-label-sizes-graphics.svg
  mixOmics/tests/testthat/_snaps/plotLoadings.pls/loadings-plot-spls-change-cols-and-borders-ggplot2.svg
  mixOmics/tests/testthat/_snaps/plotLoadings.pls/loadings-plot-spls-change-cols-and-borders-graphics.svg
  mixOmics/tests/testthat/_snaps/plotLoadings.pls/loadings-plot-spls-change-gene-names-and-plot-top-3-ggplot2.svg
  mixOmics/tests/testthat/_snaps/plotLoadings.pls/loadings-plot-spls-change-gene-names-and-plot-top-3-graphics.svg
  mixOmics/tests/testthat/_snaps/plotLoadings.pls/loadings-plot-spls-change-labels-and-label-sizes-ggplot2.svg
  mixOmics/tests/testthat/_snaps/plotLoadings.pls/loadings-plot-spls-change-labels-and-label-sizes-graphics.svg
  mixOmics/tests/testthat/_snaps/plotLoadings.plsda/loadings-plot-splsda-with-custom-legend-ggplot2.svg
  mixOmics/tests/testthat/_snaps/plotLoadings.plsda/loadings-plot-splsda-with-custom-legend-graphics.svg
  mixOmics/tests/testthat/_snaps/plotLoadings.plsda/loadings-plot-splsda-with-custom-names-graphics.svg
  mixOmics/tests/testthat/_snaps/plotLoadings.plsda/loadings-plot-splsda-with-custom-title-and-labels-ggplot2.svg
  mixOmics/tests/testthat/_snaps/plotLoadings.plsda/loadings-plot-splsda-with-custom-title-and-labels-graphics.svg
  mixOmics/tests/testthat/_snaps/plotLoadings.sgccda/loadings-plot-diablo-block-specific-with-contrib-ggplot2.svg
  mixOmics/tests/testthat/_snaps/plotLoadings.sgccda/loadings-plot-diablo-block-specific-with-contrib-graphics.svg
  mixOmics/tests/testthat/_snaps/plotLoadings.sgccda/loadings-plot-diablo-change-labels-and-label-sizes-ggplot2.svg
  mixOmics/tests/testthat/_snaps/plotLoadings.sgccda/loadings-plot-diablo-change-labels-and-label-sizes-graphics.svg

Tarballs are only required to store paths of up to 100 bytes and cannot
store those of more than 256 bytes, with restrictions including to 100
bytes for the final component.
See section ‘Package structure’ in the ‘Writing R Extensions’ manual.
* checking for sufficient/correct file permissions ... OK
* checking whether package ‘mixOmics’ can be installed ... OK
* checking installed package size ... INFO
  installed size is  6.5Mb
  sub-directories of 1Mb or more:
    R      1.6Mb
    data   3.3Mb
* checking package directory ... OK
* checking DESCRIPTION meta-information ... OK
* checking top-level files ... OK
* checking for left-over files ... OK
* checking index information ... OK
* checking package subdirectories ... OK
* checking code files for non-ASCII characters ... OK
* checking R files for syntax errors ... OK
* checking whether the package can be loaded ... OK
* checking whether the package can be loaded with stated dependencies ... OK
* checking whether the package can be unloaded cleanly ... OK
* checking whether the namespace can be loaded with stated dependencies ... OK
* checking whether the namespace can be unloaded cleanly ... OK
* checking loading without being on the library search path ... OK
* checking whether startup messages can be suppressed ... OK
* checking dependencies in R code ... NOTE
Namespace in Imports field not imported from: ‘gsignal’
  All declared Imports should be used.
* checking S3 generic/method consistency ... OK
* checking replacement functions ... OK
* checking foreign function calls ... OK
* checking R code for possible problems ... NOTE
.plotLoadings_barplot: no visible binding for global variable
  ‘size.axis’
perf.assess.sgccda: no visible binding for global variable
  ‘signif.threshold’
plotLoadings.mint.pls: no visible binding for global variable
  ‘importance’
plotLoadings.mint.pls: no visible binding for global variable ‘color’
plotLoadings.mint.plsda: no visible binding for global variable
  ‘importance’
plotLoadings.mint.plsda: no visible binding for global variable ‘color’
plotLoadings.mint.spls: no visible binding for global variable
  ‘importance’
plotLoadings.mint.spls: no visible binding for global variable ‘color’
plotLoadings.mint.splsda: no visible binding for global variable
  ‘importance’
plotLoadings.mint.splsda: no visible binding for global variable
  ‘color’
plotLoadings.mixo_pls: no visible binding for global variable
  ‘importance’
plotLoadings.mixo_plsda: no visible binding for global variable
  ‘importance’
plotLoadings.mixo_plsda: no visible binding for global variable ‘color’
plotLoadings.mixo_plsda: no visible binding for global variable ‘group’
plotLoadings.mixo_spls: no visible binding for global variable
  ‘importance’
plotLoadings.mixo_splsda: no visible binding for global variable
  ‘importance’
plotLoadings.mixo_splsda: no visible binding for global variable
  ‘color’
plotLoadings.mixo_splsda: no visible binding for global variable
  ‘group’
plotLoadings.pca: no visible binding for global variable ‘importance’
plotLoadings.rcc: no visible binding for global variable ‘importance’
plotLoadings.rgcca: no visible binding for global variable ‘importance’
plotLoadings.sgcca: no visible binding for global variable ‘importance’
plotLoadings.sgccda: no visible binding for global variable
  ‘importance’
plotLoadings.sgccda: no visible binding for global variable ‘color’
plotLoadings.sgccda: no visible binding for global variable ‘group’
Undefined global functions or variables:
  color group importance signif.threshold size.axis
* checking Rd files ... NOTE
checkRd: (-1) plotLoadings.Rd:479: Lost braces
   479 | For code{mint.pls}, \code{mint.spls}: when \code{study="all.partial"}, 
       |         ^
* checking Rd metadata ... OK
* checking Rd cross-references ... NOTE
Found the following Rd file(s) with Rd \link{} targets missing package
anchors:
  perf.Rd: BiocParallelParam-class
  perf.assess.Rd: BiocParallelParam-class
  rcc.Rd: estimate.lambda
  tune.Rd: BiocParallelParam-class
  tune.block.plsda.Rd: BiocParallelParam-class
  tune.block.splsda.Rd: BiocParallelParam-class
  tune.pls.Rd: BiocParallelParam-class
  tune.plsda.Rd: BiocParallelParam-class
  tune.spca.Rd: BiocParallelParam-class
  tune.spls.Rd: BiocParallelParam-class
  tune.splsda.Rd: BiocParallelParam-class
Please provide package anchors for all Rd \link{} targets not in the
package itself and the base packages.
* checking for missing documentation entries ... OK
* checking for code/documentation mismatches ... OK
* checking Rd \usage sections ... NOTE
S3 methods shown with full name in Rd file 'perf.assess.Rd':
  ‘perf.assess’

The \usage entries for S3 methods should use the \method markup and not
their full name.
See chapter ‘Writing R documentation files’ in the ‘Writing R
Extensions’ manual.
* checking Rd contents ... OK
* checking for unstated dependencies in examples ... OK
* checking contents of ‘data’ directory ... OK
* checking data for non-ASCII characters ... OK
* checking data for ASCII and uncompressed saves ... OK
* checking files in ‘vignettes’ ... OK
* checking examples ... OK
Examples with CPU (user + system) or elapsed time > 5s
                      user system elapsed
tune.spls          213.335  0.290 213.625
tune.splsda         93.595  0.059  93.656
tune.plsda          46.042  0.079  47.100
tune.pls            37.164  0.051  37.763
tune.block.plsda    31.304  0.083  31.388
perf.assess         22.565  0.092  22.658
plotIndiv           21.423  0.057  21.481
biplot              17.143  0.132  17.277
tune.block.splsda   13.082  0.035  45.268
block.splsda         8.703  0.081   8.785
background.predict   7.537  0.132   7.669
block.spls           7.057  0.110   7.167
circosPlot           6.450  0.039   6.490
pca                  5.954  0.076   6.031
tune                 5.909  0.009   5.918
* checking for unstated dependencies in ‘tests’ ... OK
* checking tests ...
  Running ‘testthat.R’
 OK
* checking for unstated dependencies in vignettes ... OK
* checking package vignettes ... OK
* checking re-building of vignette outputs ... OK
* checking PDF version of manual ... OK
* DONE

Status: 6 NOTEs
See
  ‘/home/biocbuild/bbs-3.22-bioc/meat/mixOmics.Rcheck/00check.log’
for details.


Installation output

mixOmics.Rcheck/00install.out

##############################################################################
##############################################################################
###
### Running command:
###
###   /home/biocbuild/bbs-3.22-bioc/R/bin/R CMD INSTALL mixOmics
###
##############################################################################
##############################################################################


* installing to library ‘/home/biocbuild/bbs-3.22-bioc/R/site-library’
* installing *source* package ‘mixOmics’ ...
** this is package ‘mixOmics’ version ‘6.34.0’
** using staged installation
** R
** data
** inst
** byte-compile and prepare package for lazy loading
** help
*** installing help indices
** building package indices
** installing vignettes
** testing if installed package can be loaded from temporary location
** testing if installed package can be loaded from final location
** testing if installed package keeps a record of temporary installation path
* DONE (mixOmics)

Tests output

mixOmics.Rcheck/tests/testthat.Rout


R version 4.5.1 Patched (2025-08-23 r88802) -- "Great Square Root"
Copyright (C) 2025 The R Foundation for Statistical Computing
Platform: x86_64-pc-linux-gnu

R is free software and comes with ABSOLUTELY NO WARRANTY.
You are welcome to redistribute it under certain conditions.
Type 'license()' or 'licence()' for distribution details.

R is a collaborative project with many contributors.
Type 'contributors()' for more information and
'citation()' on how to cite R or R packages in publications.

Type 'demo()' for some demos, 'help()' for on-line help, or
'help.start()' for an HTML browser interface to help.
Type 'q()' to quit R.

> library(testthat)
> library(mixOmics)
Loading required package: MASS
Loading required package: lattice
Loading required package: ggplot2

Loaded mixOmics 6.34.0
Thank you for using mixOmics!
Tutorials: http://mixomics.org
Bookdown vignette: https://mixomicsteam.github.io/Bookdown
Questions, issues: Follow the prompts at http://mixomics.org/contact-us
Cite us:  citation('mixOmics')

> 
> test_check("mixOmics")
character(0)
character(0)
[1] "test.keepX is set to NULL, tuning only for number of components..."
[1] "test.keepX is set to NULL, tuning only for number of components..."
[1] "test.keepX set to NULL, tuning only for number of components..."
[1] "test.keepX and test.keepY are set to NULL, tuning only for number of components..."
[1] "test.keepX and test.keepY are set to NULL, tuning only for number of components..."
[1] "test.keepX and test.keepY are set to NULL, tuning only for number of components..."
[1] "test.keepX set to NULL, tuning only for number of components..."
[ FAIL 0 | WARN 3 | SKIP 51 | PASS 663 ]

══ Skipped tests (51) ══════════════════════════════════════════════════════════
• On CRAN (51): 'test-biplot.R:17:3', 'test-biplot.R:39:3',
  'test-biplot.R:63:3', 'test-plotArrow.R:50:3', 'test-plotArrow.R:81:3',
  'test-plotIndiv.mint.R:76:3', 'test-plotIndiv.mint.R:99:3',
  'test-plotIndiv.mint.R:131:3', 'test-plotIndiv.mint.R:145:3',
  'test-plotIndiv.mint.R:168:3', 'test-plotIndiv.pca.R:152:3',
  'test-plotIndiv.pca.R:176:3', 'test-plotIndiv.pca.R:210:3',
  'test-plotIndiv.pca.R:244:3', 'test-plotIndiv.pca.R:263:3',
  'test-plotIndiv.pls.R:419:3', 'test-plotIndiv.pls.R:442:3',
  'test-plotIndiv.pls.R:468:3', 'test-plotIndiv.pls.R:486:3',
  'test-plotIndiv.pls.R:498:3', 'test-plotIndiv.pls.R:531:3',
  'test-plotIndiv.pls.R:564:3', 'test-plotIndiv.pls.R:581:3',
  'test-plotIndiv.pls.R:599:3', 'test-plotIndiv.pls.R:610:3',
  'test-plotIndiv.pls.R:622:3', 'test-plotIndiv.pls.R:655:3',
  'test-plotIndiv.pls.R:666:3', 'test-plotIndiv.pls.R:683:3',
  'test-plotIndiv.pls.R:694:3', 'test-plotIndiv.pls.R:712:3',
  'test-plotIndiv.pls.R:741:3', 'test-plotLoadings.mint.pls.R:11:3',
  'test-plotLoadings.mint.pls.R:62:3', 'test-plotLoadings.mint.pls.R:121:3',
  'test-plotLoadings.mint.plsda.R:14:5', 'test-plotLoadings.mint.plsda.R:61:5',
  'test-plotLoadings.mint.plsda.R:91:5',
  'test-plotLoadings.mint.plsda.R:143:5', 'test-plotLoadings.pca.R:11:3',
  'test-plotLoadings.pca.R:50:3', 'test-plotLoadings.pca.R:84:3',
  'test-plotLoadings.pls.R:43:3', 'test-plotLoadings.pls.R:91:3',
  'test-plotLoadings.plsda.R:109:3', 'test-plotLoadings.plsda.R:148:3',
  'test-plotLoadings.sgccda.R:16:3', 'test-plotLoadings.sgccda.R:32:3',
  'test-plotLoadings.sgccda.R:47:3', 'test-plotLoadings.sgccda.R:95:3',
  'test-plotLoadings.sgccda.R:133:3'

[ FAIL 0 | WARN 3 | SKIP 51 | PASS 663 ]
Deleting unused snapshots:
• biplot/biplot-plot-pca-with-customised-colours.svg
• biplot/biplot-plot-plsda-model-with-customised-pch.svg
• plotArrow/arrow-plot-daiblo-with-customised-colours.svg
• plotArrow/arrow-plot-spls-with-customised-colours.svg
• plotIndiv.mint/mint-pls-plot-default-cols-custom-groups.svg
• plotIndiv.mint/mint-pls-plot-studies-facetted.svg
• plotIndiv.mint/mint-spls-plot-studies-facetted-different-layout.svg
• plotIndiv.mint/mint-splsda-plot-default-cols-custom-groups.svg
• plotIndiv.mint/mint-splsda-plot-studies-facetted-different-layout.svg
• plotIndiv.mint/mint-splsda-plot-studies-facetted.svg
• plotIndiv.mint/mint-splsda-plot-with-ellipse.svg
• plotIndiv.mint/mint-splsda-plot-with-star.svg
• plotIndiv.pca/pca-plot-coloured-by-primary-groups-custom-cols-reordered-groups.svg
• plotIndiv.pca/pca-plot-coloured-by-primary-groups-custom-cols-with-set-pch-triangle-for-all-samples.svg
• plotIndiv.pca/pca-plot-coloured-by-primary-groups-custom-cols.svg
• plotIndiv.pca/pca-plot-coloured-by-primary-groups-with-pch-for-secondary-groups-reordered.svg
• plotIndiv.pca/pca-plot-coloured-by-primary-groups-with-pch-for-secondary-groups.svg
• plotIndiv.pca/pca-plot-coloured-by-primary-groups-with-set-pch-for-each-group.svg
• plotIndiv.pca/pca-plot-coloured-by-primary-groups.svg
• plotIndiv.pca/pca-plot-sample-names-coloured-by-primary-groups-custom-cols.svg
• plotIndiv.pca/pca-plot-sample-names-coloured-by-primary-groups.svg
• plotIndiv.pca/pca-plot-with-centroids-coloured-by-primary-groups-custom-cols.svg
• plotIndiv.pca/pca-plot-with-ellipse-coloured-by-primary-groups-custom-cols-ellipse-level-0-5.svg
• plotIndiv.pca/pca-plot-with-ellipse-coloured-by-primary-groups-custom-cols-sample-names.svg
• plotIndiv.pca/pca-plot-with-ellipse-coloured-by-primary-groups-custom-cols.svg
• plotIndiv.pca/pca-plot-with-pch-for-primary-groups-col-consistent.svg
• plotIndiv.pls/pca-plot-sample-names-coloured-by-primary-groups-custom-cols.svg
• plotIndiv.pls/rcca-plot-coloured-by-primary-groups-custom-cols-reordered-groups.svg
• plotIndiv.pls/rcca-plot-coloured-by-primary-groups-with-pch-for-secondary-groups.svg
• plotIndiv.pls/rcca-plot-coloured-by-primary-groups-with-set-pch-for-each-group.svg
• plotIndiv.pls/rcca-plot-coloured-by-primary-groups.svg
• plotIndiv.pls/rcca-plot-on-multi-variate-space.svg
• plotIndiv.pls/rcca-plot-on-x-variate-space.svg
• plotIndiv.pls/rcca-plot-on-y-variate-space.svg
• plotIndiv.pls/rcca-plot-sample-names-coloured-by-primary-groups.svg
• plotIndiv.pls/rcca-plot-with-ellipse-coloured-by-primary-groups-ellipse-level-0-5.svg
• plotIndiv.pls/rcca-plot-with-pch-for-primary-groups-col-consistent.svg
• plotIndiv.pls/spls-plot-coloured-by-primary-groups.svg
• plotIndiv.pls/spls-plot-on-multi-variate-space.svg
• plotIndiv.pls/spls-plot-on-x-variate-space.svg
• plotIndiv.pls/spls-plot-on-y-variate-space.svg
• plotIndiv.pls/spls-plot-sample-names-coloured-by-primary-groups.svg
• plotIndiv.pls/splsda-plot-on-multi-variate-space.svg
• plotIndiv.pls/splsda-plot-on-x-variate-space.svg
• plotIndiv.pls/splsda-plot-on-y-variate-space.svg
• plotIndiv.pls/splsda-plot-sample-names-coloured-by-custom-groups.svg
• plotIndiv.pls/splsda-plot-with-centroids-and-stars-custom-cols-pch-on-second-grouping.svg
• plotIndiv.pls/splsda-plot-with-centroids-and-stars-custom-cols.svg
• plotIndiv.pls/splsda-plot-with-ellipse-on-custom-groups.svg
• plotLoadings.mint.pls/loadings-plot-mint-pls-all-partial-ggplot2.svg
• plotLoadings.mint.pls/loadings-plot-mint-pls-all-partial-graphics.svg
• plotLoadings.mint.pls/loadings-plot-mint-pls-change-cols-and-borders-ggplot2.svg
• plotLoadings.mint.pls/loadings-plot-mint-pls-change-cols-and-borders-graphics.svg
• plotLoadings.mint.pls/loadings-plot-mint-pls-change-gene-names-ggplot2.svg
• plotLoadings.mint.pls/loadings-plot-mint-pls-change-gene-names-graphics.svg
• plotLoadings.mint.pls/loadings-plot-mint-pls-change-labels-and-label-sizes-ggplot2.svg
• plotLoadings.mint.pls/loadings-plot-mint-pls-change-labels-and-label-sizes-graphics.svg
• plotLoadings.mint.pls/loadings-plot-mint-pls-change-layout-ggplot2.svg
• plotLoadings.mint.pls/loadings-plot-mint-pls-change-layout-graphics.svg
• plotLoadings.mint.pls/loadings-plot-mint-pls-specific-study-ggplot2.svg
• plotLoadings.mint.pls/loadings-plot-mint-pls-specific-study-graphics.svg
• plotLoadings.mint.plsda/mint-plsda-loadings-all-partial.svg
• plotLoadings.mint.plsda/mint-plsda-loadings-custom-colors.svg
• plotLoadings.mint.plsda/mint-plsda-loadings-custom-labels.svg
• plotLoadings.mint.plsda/mint-plsda-loadings-custom-layout.svg
• plotLoadings.mint.plsda/mint-plsda-loadings-custom-names.svg
• plotLoadings.mint.plsda/mint-plsda-loadings-ggplot2-all-partial.svg
• plotLoadings.mint.plsda/mint-plsda-loadings-ggplot2-custom-colors.svg
• plotLoadings.mint.plsda/mint-plsda-loadings-ggplot2-custom-labels.svg
• plotLoadings.mint.plsda/mint-plsda-loadings-ggplot2-custom-layout.svg
• plotLoadings.mint.plsda/mint-plsda-loadings-ggplot2-custom-names.svg
• plotLoadings.mint.plsda/mint-plsda-loadings-ggplot2-specific-study.svg
• plotLoadings.mint.plsda/mint-plsda-loadings-specific-study.svg
• plotLoadings.pca/loadings-plot-change-cols-and-borders-ggplot2.svg
• plotLoadings.pca/loadings-plot-change-cols-and-borders-graphics.svg
• plotLoadings.pca/loadings-plot-change-gene-names-and-plot-top-3-ggplot2.svg
• plotLoadings.pca/loadings-plot-change-gene-names-and-plot-top-3-graphics.svg
• plotLoadings.pca/loadings-plot-change-labels-and-label-sizes-ggplot2.svg
• plotLoadings.pca/loadings-plot-change-labels-and-label-sizes-graphics.svg
• plotLoadings.pls/loadings-plot-spls-change-block-ggplot2.svg
• plotLoadings.pls/loadings-plot-spls-change-block-graphics.svg
• plotLoadings.pls/loadings-plot-spls-change-cols-and-borders-ggplot2.svg
• plotLoadings.pls/loadings-plot-spls-change-cols-and-borders-graphics.svg
• plotLoadings.pls/loadings-plot-spls-change-gene-names-and-plot-top-3-ggplot2.svg
• plotLoadings.pls/loadings-plot-spls-change-gene-names-and-plot-top-3-graphics.svg
• plotLoadings.pls/loadings-plot-spls-change-labels-and-label-sizes-ggplot2.svg
• plotLoadings.pls/loadings-plot-spls-change-labels-and-label-sizes-graphics.svg
• plotLoadings.pls/loadings-plot-spls-change-layout-ggplot2.svg
• plotLoadings.pls/loadings-plot-spls-change-layout-graphics.svg
• plotLoadings.plsda/loadings-plot-splsda-with-custom-legend-ggplot2.svg
• plotLoadings.plsda/loadings-plot-splsda-with-custom-legend-graphics.svg
• plotLoadings.plsda/loadings-plot-splsda-with-custom-names-ggplot2.svg
• plotLoadings.plsda/loadings-plot-splsda-with-custom-names-graphics.svg
• plotLoadings.plsda/loadings-plot-splsda-with-custom-title-and-labels-ggplot2.svg
• plotLoadings.plsda/loadings-plot-splsda-with-custom-title-and-labels-graphics.svg
• plotLoadings.sgccda/loadings-plot-diablo-block-specific-with-contrib-ggplot2.svg
• plotLoadings.sgccda/loadings-plot-diablo-block-specific-with-contrib-graphics.svg
• plotLoadings.sgccda/loadings-plot-diablo-change-labels-and-label-sizes-ggplot2.svg
• plotLoadings.sgccda/loadings-plot-diablo-change-labels-and-label-sizes-graphics.svg
• plotLoadings.sgccda/loadings-plot-diablo-change-legend-ggplot2.svg
• plotLoadings.sgccda/loadings-plot-diablo-change-legend-graphics.svg
> 
> proc.time()
   user  system elapsed 
314.860   9.672 472.429 

Example timings

mixOmics.Rcheck/mixOmics-Ex.timings

nameusersystemelapsed
S3methods-print0.0120.0020.014
auroc1.2160.0171.232
background.predict7.5370.1327.669
biplot17.143 0.13217.277
block.pls0.7120.0020.713
block.plsda1.1080.0041.112
block.spls7.0570.1107.167
block.splsda8.7030.0818.785
cim0.0350.0010.036
cimDiablo0.2250.0060.231
circosPlot6.4500.0396.490
colors0.0250.0010.027
explained_variance0.0900.0080.098
get.confusion_matrix0.4560.0050.461
image.tune.rcc1.6000.0031.603
imgCor0.0590.0020.060
impute.nipals0.0080.0010.010
ipca1.1540.0011.155
logratio-transformations0.0520.0040.056
map0.0040.0000.004
mat.rank0.0020.0000.002
mint.block.pls0.1420.0030.145
mint.block.plsda0.1120.0010.113
mint.block.spls0.1530.0020.155
mint.block.splsda0.1240.0000.124
mint.pca0.5910.0010.593
mint.pls0.9860.0020.988
mint.plsda1.0210.0021.023
mint.spls0.9640.0020.966
mint.splsda1.0280.0011.029
mixOmics0.3070.0090.316
nearZeroVar0.6170.0030.620
network0.0100.0010.012
pca5.9540.0766.031
perf2.3400.0142.355
perf.assess22.565 0.09222.658
plot.rcc0.0120.0000.012
plot.tune0.0000.0000.001
plotArrow2.3420.0202.363
plotDiablo0.1880.0020.191
plotIndiv21.423 0.05721.481
plotLoadings0.5050.0060.512
plotMarkers000
plotVar0.9090.0020.911
pls0.0060.0000.006
plsda0.550.000.55
predict0.1590.0010.160
rcc0.0030.0000.003
selectVar0.3880.0060.394
sipca0.6870.0020.689
spca3.5880.0183.606
spls0.1720.0000.171
splsda0.5630.0010.564
study_split0.0030.0010.005
summary0.0130.0000.013
tune5.9090.0095.918
tune.block.plsda31.304 0.08331.388
tune.block.splsda13.082 0.03545.268
tune.mint.plsda0.8300.0040.834
tune.mint.splsda3.6190.0053.624
tune.pca0.7790.0120.791
tune.pls37.164 0.05137.763
tune.plsda46.042 0.07947.100
tune.rcc1.5510.0001.550
tune.spca0.7180.0010.719
tune.spls213.335 0.290213.625
tune.splsda93.595 0.05993.656
unmap0.0040.0000.004
vip0.0080.0010.008
withinVariation1.3490.0021.351
wrapper.rgcca0.0530.0000.053
wrapper.sgcca0.1080.0010.109