Back to Multiple platform build/check report for BioC 3.22:   simplified   long
ABCDEFGHIJKL[M]NOPQRSTUVWXYZ

This page was generated on 2025-11-15 11:58 -0500 (Sat, 15 Nov 2025).

HostnameOSArch (*)R versionInstalled pkgs
nebbiolo2Linux (Ubuntu 24.04.3 LTS)x86_644.5.1 Patched (2025-08-23 r88802) -- "Great Square Root" 4903
taishanLinux (openEuler 24.03 LTS)aarch644.5.0 (2025-04-11) -- "How About a Twenty-Six" 4668
Click on any hostname to see more info about the system (e.g. compilers)      (*) as reported by 'uname -p', except on Windows and Mac OS X

Package 1295/2361HostnameOS / ArchINSTALLBUILDCHECKBUILD BIN
microbiome 1.32.0  (landing page)
Leo Lahti
Snapshot Date: 2025-11-14 13:45 -0500 (Fri, 14 Nov 2025)
git_url: https://git.bioconductor.org/packages/microbiome
git_branch: RELEASE_3_22
git_last_commit: 57d7b1a
git_last_commit_date: 2025-10-29 10:40:21 -0500 (Wed, 29 Oct 2025)
nebbiolo2Linux (Ubuntu 24.04.3 LTS) / x86_64  OK    OK    OK  UNNEEDED, same version is already published
taishanLinux (openEuler 24.03 LTS) / aarch64  OK    OK    OK  


CHECK results for microbiome on taishan

To the developers/maintainers of the microbiome package:
- Allow up to 24 hours (and sometimes 48 hours) for your latest push to git@git.bioconductor.org:packages/microbiome.git to reflect on this report. See Troubleshooting Build Report for more information.
- Use the following Renviron settings to reproduce errors and warnings.
- If 'R CMD check' started to fail recently on the Linux builder(s) over a missing dependency, add the missing dependency to 'Suggests:' in your DESCRIPTION file. See Renviron.bioc for more information.
- See Martin Grigorov's blog post for how to debug Linux ARM64 related issues on a x86_64 host.

raw results


Summary

Package: microbiome
Version: 1.32.0
Command: /home/biocbuild/R/R/bin/R CMD check --install=check:microbiome.install-out.txt --library=/home/biocbuild/R/R/site-library --no-vignettes --timings microbiome_1.32.0.tar.gz
StartedAt: 2025-11-14 11:30:36 -0000 (Fri, 14 Nov 2025)
EndedAt: 2025-11-14 11:34:48 -0000 (Fri, 14 Nov 2025)
EllapsedTime: 251.3 seconds
RetCode: 0
Status:   OK  
CheckDir: microbiome.Rcheck
Warnings: 0

Command output

##############################################################################
##############################################################################
###
### Running command:
###
###   /home/biocbuild/R/R/bin/R CMD check --install=check:microbiome.install-out.txt --library=/home/biocbuild/R/R/site-library --no-vignettes --timings microbiome_1.32.0.tar.gz
###
##############################################################################
##############################################################################


* using log directory ‘/home/biocbuild/bbs-3.22-bioc/meat/microbiome.Rcheck’
* using R version 4.5.0 (2025-04-11)
* using platform: aarch64-unknown-linux-gnu
* R was compiled by
    aarch64-unknown-linux-gnu-gcc (GCC) 14.2.0
    GNU Fortran (GCC) 14.2.0
* running under: openEuler 24.03 (LTS)
* using session charset: UTF-8
* using option ‘--no-vignettes’
* checking for file ‘microbiome/DESCRIPTION’ ... OK
* checking extension type ... Package
* this is package ‘microbiome’ version ‘1.32.0’
* package encoding: UTF-8
* checking package namespace information ... OK
* checking package dependencies ... OK
* checking if this is a source package ... OK
* checking if there is a namespace ... OK
* checking for hidden files and directories ... OK
* checking for portable file names ... OK
* checking for sufficient/correct file permissions ... OK
* checking whether package ‘microbiome’ can be installed ... OK
* checking installed package size ... OK
* checking package directory ... OK
* checking ‘build’ directory ... OK
* checking DESCRIPTION meta-information ... OK
* checking top-level files ... OK
* checking for left-over files ... OK
* checking index information ... OK
* checking package subdirectories ... OK
* checking code files for non-ASCII characters ... OK
* checking R files for syntax errors ... OK
* checking whether the package can be loaded ... OK
* checking whether the package can be loaded with stated dependencies ... OK
* checking whether the package can be unloaded cleanly ... OK
* checking whether the namespace can be loaded with stated dependencies ... OK
* checking whether the namespace can be unloaded cleanly ... OK
* checking loading without being on the library search path ... OK
* checking whether startup messages can be suppressed ... OK
* checking dependencies in R code ... OK
* checking S3 generic/method consistency ... OK
* checking replacement functions ... OK
* checking foreign function calls ... OK
* checking R code for possible problems ... OK
* checking Rd files ... NOTE
checkRd: (-1) bimodality.Rd:51-52: Lost braces in \itemize; meant \describe ?
checkRd: (-1) bimodality.Rd:53-54: Lost braces in \itemize; meant \describe ?
checkRd: (-1) bimodality.Rd:55-58: Lost braces in \itemize; meant \describe ?
checkRd: (-1) bimodality.Rd:38-39: Lost braces in \itemize; \value handles \item{}{} directly
checkRd: (-1) bimodality.Rd:40-41: Lost braces in \itemize; \value handles \item{}{} directly
checkRd: (-1) bimodality.Rd:42-43: Lost braces in \itemize; \value handles \item{}{} directly
checkRd: (-1) bimodality.Rd:91-93: Lost braces in \itemize; meant \describe ?
checkRd: (-1) bimodality.Rd:94-95: Lost braces in \itemize; meant \describe ?
checkRd: (-1) bimodality.Rd:96: Lost braces in \itemize; meant \describe ?
checkRd: (-1) bimodality.Rd:97: Lost braces in \itemize; meant \describe ?
checkRd: (-1) bimodality.Rd:98: Lost braces in \itemize; meant \describe ?
checkRd: (-1) bimodality.Rd:99: Lost braces in \itemize; meant \describe ?
checkRd: (-1) bimodality_sarle.Rd:45: Lost braces in \itemize; meant \describe ?
checkRd: (-1) bimodality_sarle.Rd:46: Lost braces in \itemize; meant \describe ?
checkRd: (-1) bimodality_sarle.Rd:47: Lost braces in \itemize; meant \describe ?
checkRd: (-1) bimodality_sarle.Rd:48: Lost braces in \itemize; meant \describe ?
checkRd: (-1) diversity.Rd:28-29: Lost braces in \itemize; meant \describe ?
checkRd: (-1) diversity.Rd:30-32: Lost braces in \itemize; meant \describe ?
checkRd: (-1) diversity.Rd:33: Lost braces in \itemize; meant \describe ?
checkRd: (-1) diversity.Rd:34: Lost braces in \itemize; meant \describe ?
checkRd: (-1) diversity.Rd:35-36: Lost braces in \itemize; meant \describe ?
checkRd: (-1) dominance.Rd:39-43: Lost braces in \itemize; meant \describe ?
checkRd: (-1) dominance.Rd:44-45: Lost braces in \itemize; meant \describe ?
checkRd: (-1) dominance.Rd:46-48: Lost braces in \itemize; meant \describe ?
checkRd: (-1) dominance.Rd:49-51: Lost braces in \itemize; meant \describe ?
checkRd: (-1) dominance.Rd:52-58: Lost braces in \itemize; meant \describe ?
checkRd: (-1) dominance.Rd:59-60: Lost braces in \itemize; meant \describe ?
checkRd: (-1) dominance.Rd:61-62: Lost braces in \itemize; meant \describe ?
checkRd: (-1) multimodality.Rd:33-34: Lost braces in \itemize; \value handles \item{}{} directly
checkRd: (-1) multimodality.Rd:35-36: Lost braces in \itemize; \value handles \item{}{} directly
checkRd: (-1) multimodality.Rd:37-38: Lost braces in \itemize; \value handles \item{}{} directly
checkRd: (-1) multimodality.Rd:55-57: Lost braces in \itemize; meant \describe ?
checkRd: (-1) multimodality.Rd:58-59: Lost braces in \itemize; meant \describe ?
checkRd: (-1) potential_analysis.Rd:30-31: Lost braces in \itemize; \value handles \item{}{} directly
checkRd: (-1) potential_analysis.Rd:32-33: Lost braces in \itemize; \value handles \item{}{} directly
checkRd: (-1) potential_analysis.Rd:34-35: Lost braces in \itemize; \value handles \item{}{} directly
checkRd: (-1) potential_analysis.Rd:36-37: Lost braces in \itemize; \value handles \item{}{} directly
checkRd: (-1) potential_analysis.Rd:38: Lost braces in \itemize; \value handles \item{}{} directly
checkRd: (-1) potential_analysis.Rd:61-63: Lost braces in \itemize; meant \describe ?
checkRd: (-1) potential_analysis.Rd:64-65: Lost braces in \itemize; meant \describe ?
checkRd: (-1) potential_univariate.Rd:50: Lost braces in \itemize; \value handles \item{}{} directly
checkRd: (-1) potential_univariate.Rd:51-52: Lost braces in \itemize; \value handles \item{}{} directly
checkRd: (-1) potential_univariate.Rd:53: Lost braces in \itemize; \value handles \item{}{} directly
checkRd: (-1) potential_univariate.Rd:54-55: Lost braces in \itemize; \value handles \item{}{} directly
checkRd: (-1) potential_univariate.Rd:56-57: Lost braces in \itemize; \value handles \item{}{} directly
checkRd: (-1) potential_univariate.Rd:58: Lost braces in \itemize; \value handles \item{}{} directly
checkRd: (-1) potential_univariate.Rd:59-60: Lost braces in \itemize; \value handles \item{}{} directly
checkRd: (-1) potential_univariate.Rd:61-62: Lost braces in \itemize; \value handles \item{}{} directly
checkRd: (-1) potential_univariate.Rd:73-75: Lost braces in \itemize; meant \describe ?
checkRd: (-1) potential_univariate.Rd:76-78: Lost braces in \itemize; meant \describe ?
checkRd: (-1) rarity.Rd:35-41: Lost braces in \itemize; meant \describe ?
checkRd: (-1) rarity.Rd:42-44: Lost braces in \itemize; meant \describe ?
checkRd: (-1) rarity.Rd:45-48: Lost braces in \itemize; meant \describe ?
* checking Rd metadata ... OK
* checking Rd cross-references ... NOTE
Found the following Rd file(s) with Rd \link{} targets missing package
anchors:
  TibbleUtilites.Rd: phyloseq-class
  abundances.Rd: phyloseq-class
  add_besthit.Rd: phyloseq-class
  add_refseq.Rd: phyloseq-class
  aggregate_rare.Rd: phyloseq-class
  aggregate_taxa.Rd: phyloseq-class
  alpha.Rd: phyloseq-class, estimate_richness
  atlas1006.Rd: phyloseq-class
  baseline.Rd: phyloseq
  boxplot_abundance.Rd: phyloseq-class, ggplot
  boxplot_alpha.Rd: phyloseq-class, ggplot
  collapse_replicates.Rd: phyloseq-class
  core.Rd: phyloseq-class
  core_abundance.Rd: phyloseq-class
  core_matrix.Rd: phyloseq
  core_members.Rd: phyloseq-class
  coverage.Rd: phyloseq-class
  dietswap.Rd: phyloseq-class
  diversity.Rd: phyloseq-class
  dominance.Rd: phyloseq-class
  dominant.Rd: phyloseq-class
  evenness.Rd: phyloseq-class
  hotplot.Rd: phyloseq-class, ggplot
  inequality.Rd: phyloseq-class
  is_compositional.Rd: phyloseq-class
  low_abundance.Rd: phyloseq-class
  map_levels.Rd: phyloseq, taxonomyTable-class
  merge_taxa2.Rd: phyloseq-class
  meta.Rd: sample_data
  neat.Rd: vegdist
  neatsort.Rd: phyloseq-class, ordinate
  overlap.Rd: phyloseq-class
  peerj32.Rd: phyloseq-class
  plot_composition.Rd: phyloseq-class, ggplot
  plot_core.Rd: phyloseq
  plot_density.Rd: phyloseq-class, ggplot
  plot_frequencies.Rd: ggplot
  plot_landscape.Rd: phyloseq-class, ggplot
  plot_taxa_prevalence.Rd: phyloseq-class, ggplot
  plot_tipping.Rd: phyloseq-class, ggplot
  prevalence.Rd: phyloseq
  psmelt2.Rd: phyloseq-class
  rare.Rd: phyloseq-class
  rare_abundance.Rd: phyloseq-class
  rare_members.Rd: phyloseq-class
  rarity.Rd: phyloseq-class
  read_biom2phyloseq.Rd: phyloseq-class
  read_csv2phyloseq.Rd: phyloseq-class
  read_mothur2phyloseq.Rd: phyloseq-class
  read_phyloseq.Rd: phyloseq-class
  readcount.Rd: phyloseq-class
  remove_samples.Rd: phyloseq-class
  remove_taxa.Rd: phyloseq-class
  richness.Rd: phyloseq-class
  spreadplot.Rd: phyloseq-class
  summarize_phyloseq.Rd: phyloseq-class
  taxa.Rd: phyloseq-class
  transform.Rd: phyloseq-class, phyloseq
Please provide package anchors for all Rd \link{} targets not in the
package itself and the base packages.
* checking for missing documentation entries ... OK
* checking for code/documentation mismatches ... OK
* checking Rd \usage sections ... OK
* checking Rd contents ... OK
* checking for unstated dependencies in examples ... OK
* checking contents of ‘data’ directory ... OK
* checking data for non-ASCII characters ... OK
* checking data for ASCII and uncompressed saves ... OK
* checking files in ‘vignettes’ ... OK
* checking examples ... OK
Examples with CPU (user + system) or elapsed time > 5s
          user system elapsed
overlap 22.031  0.151  22.786
* checking for unstated dependencies in ‘tests’ ... OK
* checking tests ...
  Running ‘testthat.R’
 OK
* checking for unstated dependencies in vignettes ... OK
* checking package vignettes ... OK
* checking running R code from vignettes ... SKIPPED
* checking re-building of vignette outputs ... SKIPPED
* checking PDF version of manual ... OK
* DONE

Status: 2 NOTEs
See
  ‘/home/biocbuild/bbs-3.22-bioc/meat/microbiome.Rcheck/00check.log’
for details.


Installation output

microbiome.Rcheck/00install.out

##############################################################################
##############################################################################
###
### Running command:
###
###   /home/biocbuild/R/R/bin/R CMD INSTALL microbiome
###
##############################################################################
##############################################################################


* installing to library ‘/home/biocbuild/R/R-4.5.0/site-library’
* installing *source* package ‘microbiome’ ...
** this is package ‘microbiome’ version ‘1.32.0’
** using staged installation
** R
** data
** inst
** byte-compile and prepare package for lazy loading
** help
*** installing help indices
** building package indices
** installing vignettes
** testing if installed package can be loaded from temporary location
** testing if installed package can be loaded from final location
** testing if installed package keeps a record of temporary installation path
* DONE (microbiome)

Tests output

microbiome.Rcheck/tests/testthat.Rout


R version 4.5.0 (2025-04-11) -- "How About a Twenty-Six"
Copyright (C) 2025 The R Foundation for Statistical Computing
Platform: aarch64-unknown-linux-gnu

R is free software and comes with ABSOLUTELY NO WARRANTY.
You are welcome to redistribute it under certain conditions.
Type 'license()' or 'licence()' for distribution details.

R is a collaborative project with many contributors.
Type 'contributors()' for more information and
'citation()' on how to cite R or R packages in publications.

Type 'demo()' for some demos, 'help()' for on-line help, or
'help.start()' for an HTML browser interface to help.
Type 'q()' to quit R.

> library(testthat)
> test_check("microbiome")
Loading required package: microbiome
Loading required package: phyloseq
Loading required package: ggplot2

microbiome R package (microbiome.github.com)
    


 Copyright (C) 2011-2025 Leo Lahti, 
    Sudarshan Shetty et al. <microbiome.github.io>
    
 
    Note: we recommend switching to the SummarizedExperiment
    framework, see microbiome.github.io/OMA and the mia package.
    Minimum maintenance is provided microbiome R package but the
    development efforts have switched to mia.

Attaching package: 'microbiome'

The following object is masked from 'package:ggplot2':

    alpha

The following object is masked from 'package:base':

    transform

[ FAIL 0 | WARN 0 | SKIP 1 | PASS 75 ]

══ Skipped tests (1) ═══════════════════════════════════════════════════════════
• On Bioconductor (1): 'test_divergence.R:5:3'

[ FAIL 0 | WARN 0 | SKIP 1 | PASS 75 ]
> 
> proc.time()
   user  system elapsed 
 15.038   0.492  15.571 

Example timings

microbiome.Rcheck/microbiome-Ex.timings

nameusersystemelapsed
TibbleUtilites0.2120.0280.241
abundances0.0060.0000.007
add_besthit000
add_refseq000
aggregate_rare0.3130.0120.325
aggregate_taxa0.1240.0000.124
alpha0.0150.0000.015
associate0.0480.0000.072
baseline0.0430.0000.075
bimodality0.0010.0000.001
bimodality_sarle0.0000.0000.001
boxplot_abundance0.3020.0270.332
boxplot_alpha0.8080.0160.830
chunk_reorder0.0010.0000.000
cmat2table0.0920.0080.100
collapse_replicates0.0450.0080.053
core0.5360.0040.542
core_abundance0.0410.0000.041
core_matrix000
core_members0.0050.0040.009
coverage0.0390.0000.038
default_colors000
densityplot0.0000.0000.001
divergence0.6430.0000.645
diversity0.0100.0040.013
dominance0.010.000.01
dominant0.010.000.01
estimate_stability000
evenness0.0080.0000.007
find_optima000
gktau0.0070.0040.011
group_age0.0170.0040.020
group_bmi0.0000.0000.001
heat0.0800.0020.083
hotplot0.2370.0280.266
inequality0.0280.0080.035
intermediate_stability0.5850.0400.627
is_compositional0.0730.0040.078
log_modulo_skewness0.1240.0040.130
low_abundance0.0110.0040.016
map_levels0.0530.0000.055
merge_taxa20.0320.0000.033
meta0.0070.0000.006
microbiome-package0.0130.0000.019
multimodality000
neat0.0900.0040.093
neatsort0.1730.0000.174
overlap22.031 0.15122.786
plot_atlas0.0880.0000.088
plot_composition0.2940.0160.310
plot_core0.1210.0000.120
plot_density0.0640.0080.072
plot_frequencies0.0390.0000.040
plot_landscape1.2010.0201.224
plot_regression0.1970.0080.205
plot_taxa_prevalence0.7970.0240.823
plot_tipping0.1740.0000.174
potential_analysis0.0450.0000.046
potential_univariate000
prevalence0.0110.0000.011
psmelt20.1010.0000.101
quiet0.0010.0000.000
rare0.0240.0000.024
rare_abundance0.0410.0000.041
rare_members0.010.000.01
rarity0.0970.0000.097
read_biom2phyloseq000
read_csv2phyloseq000
read_mothur2phyloseq000
read_phyloseq000
readcount0.0080.0000.007
remove_samples0.0130.0040.017
remove_taxa0.020.000.02
richness0.0110.0000.012
spreadplot0.0810.0080.090
summarize_phyloseq0.0390.0000.039
taxa0.0060.0000.006
time_normalize0.0390.0000.040
time_sort0.1590.0000.160
timesplit0.1230.0080.130
top0.0030.0040.007
top_taxa0.0030.0040.007
transform0.3060.0280.335
ztransform000