| Back to Multiple platform build/check report for BioC 3.21: simplified long | 
 | 
This page was generated on 2025-08-18 11:42 -0400 (Mon, 18 Aug 2025).
| Hostname | OS | Arch (*) | R version | Installed pkgs | 
|---|---|---|---|---|
| nebbiolo1 | Linux (Ubuntu 24.04.3 LTS) | x86_64 | 4.5.1 (2025-06-13) -- "Great Square Root" | 4824 | 
| palomino7 | Windows Server 2022 Datacenter | x64 | 4.5.1 (2025-06-13 ucrt) -- "Great Square Root" | 4566 | 
| merida1 | macOS 12.7.5 Monterey | x86_64 | 4.5.1 RC (2025-06-05 r88288) -- "Great Square Root" | 4604 | 
| kjohnson1 | macOS 13.6.6 Ventura | arm64 | 4.5.1 Patched (2025-06-14 r88325) -- "Great Square Root" | 4545 | 
| kunpeng2 | Linux (openEuler 24.03 LTS) | aarch64 | R Under development (unstable) (2025-02-19 r87757) -- "Unsuffered Consequences" | 4579 | 
| Click on any hostname to see more info about the system (e.g. compilers) (*) as reported by 'uname -p', except on Windows and Mac OS X | ||||
| Package 1233/2341 | Hostname | OS / Arch | INSTALL | BUILD | CHECK | BUILD BIN | ||||||||
| metagenomeSeq 1.50.0  (landing page) Joseph N. Paulson 
 | nebbiolo1 | Linux (Ubuntu 24.04.3 LTS) / x86_64 | OK | OK | OK |  | ||||||||
| palomino7 | Windows Server 2022 Datacenter / x64 | OK | OK | OK | OK |  | ||||||||
| merida1 | macOS 12.7.5 Monterey / x86_64 | OK | OK | OK | OK |  | ||||||||
| kjohnson1 | macOS 13.6.6 Ventura / arm64 | OK | OK | OK | OK |  | ||||||||
| kunpeng2 | Linux (openEuler 24.03 LTS) / aarch64 | OK | OK | OK | ||||||||||
| To the developers/maintainers of the metagenomeSeq package: - Allow up to 24 hours (and sometimes 48 hours) for your latest push to git@git.bioconductor.org:packages/metagenomeSeq.git to reflect on this report. See Troubleshooting Build Report for more information. - Use the following Renviron settings to reproduce errors and warnings. - If 'R CMD check' started to fail recently on the Linux builder(s) over a missing dependency, add the missing dependency to 'Suggests:' in your DESCRIPTION file. See Renviron.bioc for more information. | 
| Package: metagenomeSeq | 
| Version: 1.50.0 | 
| Command: E:\biocbuild\bbs-3.21-bioc\R\bin\R.exe CMD check --no-multiarch --install=check:metagenomeSeq.install-out.txt --library=E:\biocbuild\bbs-3.21-bioc\R\library --no-vignettes --timings metagenomeSeq_1.50.0.tar.gz | 
| StartedAt: 2025-08-15 03:55:35 -0400 (Fri, 15 Aug 2025) | 
| EndedAt: 2025-08-15 04:00:15 -0400 (Fri, 15 Aug 2025) | 
| EllapsedTime: 280.1 seconds | 
| RetCode: 0 | 
| Status: OK | 
| CheckDir: metagenomeSeq.Rcheck | 
| Warnings: 0 | 
##############################################################################
##############################################################################
###
### Running command:
###
###   E:\biocbuild\bbs-3.21-bioc\R\bin\R.exe CMD check --no-multiarch --install=check:metagenomeSeq.install-out.txt --library=E:\biocbuild\bbs-3.21-bioc\R\library --no-vignettes --timings metagenomeSeq_1.50.0.tar.gz
###
##############################################################################
##############################################################################
* using log directory 'E:/biocbuild/bbs-3.21-bioc/meat/metagenomeSeq.Rcheck'
* using R version 4.5.1 (2025-06-13 ucrt)
* using platform: x86_64-w64-mingw32
* R was compiled by
    gcc.exe (GCC) 14.2.0
    GNU Fortran (GCC) 14.2.0
* running under: Windows Server 2022 x64 (build 20348)
* using session charset: UTF-8
* using option '--no-vignettes'
* checking for file 'metagenomeSeq/DESCRIPTION' ... OK
* this is package 'metagenomeSeq' version '1.50.0'
* checking package namespace information ... OK
* checking package dependencies ... OK
* checking if this is a source package ... OK
* checking if there is a namespace ... OK
* checking for hidden files and directories ... OK
* checking for portable file names ... OK
* checking whether package 'metagenomeSeq' can be installed ... OK
* checking installed package size ... OK
* checking package directory ... OK
* checking 'build' directory ... OK
* checking DESCRIPTION meta-information ... OK
* checking top-level files ... OK
* checking for left-over files ... OK
* checking index information ... OK
* checking package subdirectories ... OK
* checking code files for non-ASCII characters ... OK
* checking R files for syntax errors ... OK
* checking whether the package can be loaded ... OK
* checking whether the package can be loaded with stated dependencies ... OK
* checking whether the package can be unloaded cleanly ... OK
* checking whether the namespace can be loaded with stated dependencies ... OK
* checking whether the namespace can be unloaded cleanly ... OK
* checking dependencies in R code ... OK
* checking S3 generic/method consistency ... OK
* checking replacement functions ... OK
* checking foreign function calls ... OK
* checking R code for possible problems ... OK
* checking Rd files ... OK
* checking Rd metadata ... OK
* checking Rd cross-references ... OK
* checking for missing documentation entries ... OK
* checking for code/documentation mismatches ... OK
* checking Rd \usage sections ... OK
* checking Rd contents ... OK
* checking for unstated dependencies in examples ... OK
* checking contents of 'data' directory ... OK
* checking data for non-ASCII characters ... OK
* checking data for ASCII and uncompressed saves ... OK
* checking sizes of PDF files under 'inst/doc' ... OK
* checking files in 'vignettes' ... OK
* checking examples ... OK
Examples with CPU (user + system) or elapsed time > 5s
             user system elapsed
wrenchNorm  16.67   0.78   17.45
MRfulltable  1.22   0.12    6.38
* checking for unstated dependencies in 'tests' ... OK
* checking tests ...
  Running 'testthat.R'
 OK
* checking for unstated dependencies in vignettes ... OK
* checking package vignettes ... OK
* checking running R code from vignettes ... SKIPPED
* checking re-building of vignette outputs ... SKIPPED
* checking PDF version of manual ... OK
* DONE
Status: OK
metagenomeSeq.Rcheck/00install.out
############################################################################## ############################################################################## ### ### Running command: ### ### E:\biocbuild\bbs-3.21-bioc\R\bin\R.exe CMD INSTALL metagenomeSeq ### ############################################################################## ############################################################################## * installing to library 'E:/biocbuild/bbs-3.21-bioc/R/library' * installing *source* package 'metagenomeSeq' ... ** this is package 'metagenomeSeq' version '1.50.0' ** using staged installation ** R ** data ** inst ** byte-compile and prepare package for lazy loading in method for 'MRihw' with signature '"fitFeatureModelResults"': no definition for class "fitFeatureModelResults" in method for 'MRihw' with signature '"fitZigResults"': no definition for class "fitZigResults" ** help *** installing help indices ** building package indices ** installing vignettes ** testing if installed package can be loaded from temporary location ** testing if installed package can be loaded from final location ** testing if installed package keeps a record of temporary installation path * DONE (metagenomeSeq)
metagenomeSeq.Rcheck/tests/testthat.Rout
R version 4.5.1 (2025-06-13 ucrt) -- "Great Square Root"
Copyright (C) 2025 The R Foundation for Statistical Computing
Platform: x86_64-w64-mingw32/x64
R is free software and comes with ABSOLUTELY NO WARRANTY.
You are welcome to redistribute it under certain conditions.
Type 'license()' or 'licence()' for distribution details.
R is a collaborative project with many contributors.
Type 'contributors()' for more information and
'citation()' on how to cite R or R packages in publications.
Type 'demo()' for some demos, 'help()' for on-line help, or
'help.start()' for an HTML browser interface to help.
Type 'q()' to quit R.
> library("testthat")
> packageVersion("metagenomeSeq")
[1] '1.50.0'
> # As suggested for opt-out option on testing by users, 
> # recommended by CRAN: http://adv-r.had.co.nz/Testing.html
> # Previously, best practice was to put all test files in inst/tests 
> # and ensure that R CMD check ran them by putting the following code in tests/test-all.R:  
> # >library(testthat)
> # >library(yourpackage)
> # >test_package("yourpackage")
> # Now, recommended practice is to put your tests in tests/testthat, 
> # and ensure R CMD check runs them by putting the following code in tests/test-all.R:
> # >library(testthat)
> # >test_check("yourpackage")
> # The advantage of this new structure is that the user has control over whether or not tests are installed using the –install-tests parameter to 
> # R CMD install, or INSTALL_opts = c(“–install-tests”) argument to install.packages(). I’m not sure why you wouldn’t want to install the tests, 
> # but now you have the flexibility as requested by CRAN maintainers.
> test_check("metagenomeSeq")
Loading required package: metagenomeSeq
Loading required package: Biobase
Loading required package: BiocGenerics
Loading required package: generics
Attaching package: 'generics'
The following objects are masked from 'package:base':
    as.difftime, as.factor, as.ordered, intersect, is.element, setdiff,
    setequal, union
Attaching package: 'BiocGenerics'
The following objects are masked from 'package:stats':
    IQR, mad, sd, var, xtabs
The following objects are masked from 'package:base':
    Filter, Find, Map, Position, Reduce, anyDuplicated, aperm, append,
    as.data.frame, basename, cbind, colnames, dirname, do.call,
    duplicated, eval, evalq, get, grep, grepl, is.unsorted, lapply,
    mapply, match, mget, order, paste, pmax, pmax.int, pmin, pmin.int,
    rank, rbind, rownames, sapply, saveRDS, table, tapply, unique,
    unsplit, which.max, which.min
Welcome to Bioconductor
    Vignettes contain introductory material; view with
    'browseVignettes()'. To cite Bioconductor, see
    'citation("Biobase")', and for packages 'citation("pkgname")'.
Loading required package: limma
Attaching package: 'limma'
The following object is masked from 'package:BiocGenerics':
    plotMA
Loading required package: glmnet
Loading required package: Matrix
Loaded glmnet 4.1-10
Loading required package: RColorBrewer
[ FAIL 0 | WARN 6 | SKIP 0 | PASS 15 ]
[ FAIL 0 | WARN 6 | SKIP 0 | PASS 15 ]
> 
> proc.time()
   user  system elapsed 
 102.42    6.32  108.67 
metagenomeSeq.Rcheck/metagenomeSeq-Ex.timings
| name | user | system | elapsed | |
| MRcoefs | 1.52 | 0.07 | 1.60 | |
| MRcounts | 0.50 | 0.15 | 0.64 | |
| MRexperiment-class | 0 | 0 | 0 | |
| MRfulltable | 1.22 | 0.12 | 6.38 | |
| MRtable | 1.26 | 0.11 | 1.37 | |
| aggregateBySample | 0.16 | 0.05 | 0.21 | |
| aggregateByTaxonomy | 0.22 | 0.03 | 0.25 | |
| biom2MRexperiment | 0.31 | 0.04 | 0.37 | |
| calcNormFactors | 0.84 | 0.16 | 1.00 | |
| correctIndices | 0.16 | 0.02 | 0.17 | |
| correlationTest | 0.22 | 0.04 | 0.27 | |
| cumNorm | 0.62 | 0.08 | 0.72 | |
| cumNormMat | 0.67 | 0.10 | 0.77 | |
| cumNormStat | 0.92 | 0.07 | 1.00 | |
| cumNormStatFast | 0.36 | 0.02 | 0.37 | |
| expSummary | 0.10 | 0.05 | 0.14 | |
| exportMat | 2.09 | 1.67 | 3.79 | |
| exportStats | 0.53 | 0.09 | 0.70 | |
| extractMR | 2.22 | 0.69 | 2.90 | |
| filterData | 0.19 | 0.05 | 0.24 | |
| fitDO | 0.36 | 0.14 | 3.25 | |
| fitFeatureModel | 1.08 | 0.17 | 1.25 | |
| fitLogNormal | 2.26 | 0.33 | 2.59 | |
| fitMultipleTimeSeries | 2.05 | 0.26 | 2.31 | |
| fitPA | 0.42 | 0.11 | 3.31 | |
| fitSSTimeSeries | 0.38 | 0.11 | 0.49 | |
| fitTimeSeries | 0.50 | 0.06 | 0.56 | |
| fitZig | 2.42 | 0.46 | 2.88 | |
| libSize-set | 0.39 | 0.11 | 0.50 | |
| libSize | 0.36 | 0.09 | 0.45 | |
| loadBiom | 0.06 | 0.00 | 0.06 | |
| loadMeta | 0.03 | 0.00 | 0.05 | |
| loadMetaQ | 0 | 0 | 0 | |
| loadPhenoData | 0.02 | 0.00 | 0.01 | |
| makeLabels | 0 | 0 | 0 | |
| mergeMRexperiments | 1.78 | 0.36 | 2.14 | |
| newMRexperiment | 0.03 | 0.00 | 0.04 | |
| normFactors-set | 0.34 | 0.14 | 0.48 | |
| normFactors | 0.36 | 0.08 | 0.44 | |
| plotBubble | 0.33 | 0.04 | 3.23 | |
| plotClassTimeSeries | 1.14 | 0.25 | 1.39 | |
| plotCorr | 0.59 | 0.08 | 0.67 | |
| plotFeature | 0.15 | 0.00 | 0.14 | |
| plotGenus | 0.14 | 0.03 | 0.18 | |
| plotMRheatmap | 2.28 | 0.14 | 2.42 | |
| plotOTU | 0.22 | 0.02 | 0.23 | |
| plotOrd | 0.34 | 0.03 | 0.38 | |
| plotRare | 0.16 | 0.03 | 0.19 | |
| plotTimeSeries | 1.26 | 0.21 | 1.46 | |
| posteriorProbs | 2.31 | 0.42 | 2.74 | |
| returnAppropriateObj | 0.27 | 0.09 | 0.36 | |
| ssFit | 0 | 0 | 0 | |
| ssIntervalCandidate | 0 | 0 | 0 | |
| ssPerm | 0 | 0 | 0 | |
| ssPermAnalysis | 0 | 0 | 0 | |
| trapz | 0 | 0 | 0 | |
| ts2MRexperiment | 1.83 | 0.44 | 2.26 | |
| uniqueFeatures | 0.09 | 0.03 | 0.13 | |
| wrenchNorm | 16.67 | 0.78 | 17.45 | |
| zigControl | 0 | 0 | 0 | |