| Back to Multiple platform build/check report for BioC 3.21: simplified long |
|
This page was generated on 2025-10-16 11:41 -0400 (Thu, 16 Oct 2025).
| Hostname | OS | Arch (*) | R version | Installed pkgs |
|---|---|---|---|---|
| nebbiolo1 | Linux (Ubuntu 24.04.3 LTS) | x86_64 | 4.5.1 (2025-06-13) -- "Great Square Root" | 4833 |
| merida1 | macOS 12.7.6 Monterey | x86_64 | 4.5.1 RC (2025-06-05 r88288) -- "Great Square Root" | 4614 |
| kjohnson1 | macOS 13.7.5 Ventura | arm64 | 4.5.1 Patched (2025-06-14 r88325) -- "Great Square Root" | 4555 |
| kunpeng2 | Linux (openEuler 24.03 LTS) | aarch64 | R Under development (unstable) (2025-02-19 r87757) -- "Unsuffered Consequences" | 4586 |
| Click on any hostname to see more info about the system (e.g. compilers) (*) as reported by 'uname -p', except on Windows and Mac OS X | ||||
| Package 1223/2341 | Hostname | OS / Arch | INSTALL | BUILD | CHECK | BUILD BIN | ||||||||
| metabinR 1.10.0 (landing page) Anestis Gkanogiannis
| nebbiolo1 | Linux (Ubuntu 24.04.3 LTS) / x86_64 | OK | OK | OK | |||||||||
| merida1 | macOS 12.7.6 Monterey / x86_64 | OK | OK | OK | OK | |||||||||
| kjohnson1 | macOS 13.7.5 Ventura / arm64 | OK | OK | OK | OK | |||||||||
| kunpeng2 | Linux (openEuler 24.03 LTS) / aarch64 | OK | OK | OK | ||||||||||
|
To the developers/maintainers of the metabinR package: - Allow up to 24 hours (and sometimes 48 hours) for your latest push to git@git.bioconductor.org:packages/metabinR.git to reflect on this report. See Troubleshooting Build Report for more information. - Use the following Renviron settings to reproduce errors and warnings. - If 'R CMD check' started to fail recently on the Linux builder(s) over a missing dependency, add the missing dependency to 'Suggests:' in your DESCRIPTION file. See Renviron.bioc for more information. - See Martin Grigorov's blog post for how to debug Linux ARM64 related issues on a x86_64 host. |
| Package: metabinR |
| Version: 1.10.0 |
| Command: /home/biocbuild/R/R/bin/R CMD check --install=check:metabinR.install-out.txt --library=/home/biocbuild/R/R/site-library --no-vignettes --timings metabinR_1.10.0.tar.gz |
| StartedAt: 2025-10-14 10:57:04 -0000 (Tue, 14 Oct 2025) |
| EndedAt: 2025-10-14 10:58:05 -0000 (Tue, 14 Oct 2025) |
| EllapsedTime: 61.0 seconds |
| RetCode: 0 |
| Status: OK |
| CheckDir: metabinR.Rcheck |
| Warnings: 0 |
##############################################################################
##############################################################################
###
### Running command:
###
### /home/biocbuild/R/R/bin/R CMD check --install=check:metabinR.install-out.txt --library=/home/biocbuild/R/R/site-library --no-vignettes --timings metabinR_1.10.0.tar.gz
###
##############################################################################
##############################################################################
* using log directory ‘/home/biocbuild/bbs-3.21-bioc/meat/metabinR.Rcheck’
* using R Under development (unstable) (2025-02-19 r87757)
* using platform: aarch64-unknown-linux-gnu
* R was compiled by
aarch64-unknown-linux-gnu-gcc (GCC) 14.2.0
GNU Fortran (GCC) 14.2.0
* running under: openEuler 24.03 (LTS-SP1)
* using session charset: UTF-8
* using option ‘--no-vignettes’
* checking for file ‘metabinR/DESCRIPTION’ ... OK
* checking extension type ... Package
* this is package ‘metabinR’ version ‘1.10.0’
* package encoding: UTF-8
* checking package namespace information ... OK
* checking package dependencies ... OK
* checking if this is a source package ... OK
* checking if there is a namespace ... OK
* checking for hidden files and directories ... OK
* checking for portable file names ... OK
* checking for sufficient/correct file permissions ... OK
* checking whether package ‘metabinR’ can be installed ... OK
* checking installed package size ... OK
* checking package directory ... OK
* checking ‘build’ directory ... OK
* checking DESCRIPTION meta-information ... OK
* checking top-level files ... OK
* checking for left-over files ... OK
* checking index information ... OK
* checking package subdirectories ... OK
* checking code files for non-ASCII characters ... OK
* checking R files for syntax errors ... OK
* checking whether the package can be loaded ... OK
* checking whether the package can be loaded with stated dependencies ... OK
* checking whether the package can be unloaded cleanly ... OK
* checking whether the namespace can be loaded with stated dependencies ... OK
* checking whether the namespace can be unloaded cleanly ... OK
* checking loading without being on the library search path ... OK
* checking whether startup messages can be suppressed ... OK
* checking dependencies in R code ... OK
* checking S3 generic/method consistency ... OK
* checking replacement functions ... OK
* checking foreign function calls ... OK
* checking R code for possible problems ... OK
* checking Rd files ... OK
* checking Rd metadata ... OK
* checking Rd cross-references ... OK
* checking for missing documentation entries ... OK
* checking for code/documentation mismatches ... OK
* checking Rd \usage sections ... OK
* checking Rd contents ... OK
* checking for unstated dependencies in examples ... OK
* checking files in ‘vignettes’ ... OK
* checking examples ... OK
Examples with CPU (user + system) or elapsed time > 5s
user system elapsed
abundance_based_binning 8.982 0.478 5.77
* checking for unstated dependencies in ‘tests’ ... OK
* checking tests ...
Running ‘spelling.R’
Running ‘testthat.R’
OK
* checking for unstated dependencies in vignettes ... OK
* checking package vignettes ... OK
* checking running R code from vignettes ... SKIPPED
* checking re-building of vignette outputs ... SKIPPED
* checking PDF version of manual ... OK
* DONE
Status: OK
metabinR.Rcheck/00install.out
############################################################################## ############################################################################## ### ### Running command: ### ### /home/biocbuild/R/R/bin/R CMD INSTALL metabinR ### ############################################################################## ############################################################################## * installing to library ‘/home/biocbuild/R/R-devel_2025-02-19/site-library’ * installing *source* package ‘metabinR’ ... ** this is package ‘metabinR’ version ‘1.10.0’ ** using staged installation ** R ** inst ** byte-compile and prepare package for lazy loading ** help *** installing help indices ** building package indices ** installing vignettes ** testing if installed package can be loaded from temporary location ** testing if installed package can be loaded from final location ** testing if installed package keeps a record of temporary installation path * DONE (metabinR)
metabinR.Rcheck/tests/spelling.Rout
R Under development (unstable) (2025-02-19 r87757) -- "Unsuffered Consequences"
Copyright (C) 2025 The R Foundation for Statistical Computing
Platform: aarch64-unknown-linux-gnu
R is free software and comes with ABSOLUTELY NO WARRANTY.
You are welcome to redistribute it under certain conditions.
Type 'license()' or 'licence()' for distribution details.
R is a collaborative project with many contributors.
Type 'contributors()' for more information and
'citation()' on how to cite R or R packages in publications.
Type 'demo()' for some demos, 'help()' for on-line help, or
'help.start()' for an HTML browser interface to help.
Type 'q()' to quit R.
> if(requireNamespace('spelling', quietly = TRUE))
+ spelling::spell_check_test(vignettes = TRUE, error = FALSE,
+ skip_on_cran = TRUE)
NULL
>
> proc.time()
user system elapsed
0.195 0.027 0.210
metabinR.Rcheck/tests/testthat.Rout
R Under development (unstable) (2025-02-19 r87757) -- "Unsuffered Consequences"
Copyright (C) 2025 The R Foundation for Statistical Computing
Platform: aarch64-unknown-linux-gnu
R is free software and comes with ABSOLUTELY NO WARRANTY.
You are welcome to redistribute it under certain conditions.
Type 'license()' or 'licence()' for distribution details.
R is a collaborative project with many contributors.
Type 'contributors()' for more information and
'citation()' on how to cite R or R packages in publications.
Type 'demo()' for some demos, 'help()' for on-line help, or
'help.start()' for an HTML browser interface to help.
Type 'q()' to quit R.
> library(testthat)
> library(metabinR)
>
> test_check("metabinR")
version MTxAB =Mon Oct 13 20:13:46 UTC 2025
cpus=32
using=1
2025/10/14 10:57:40 Using Dictionary ORIGINAL
2025/10/14 10:57:40 START of AB Counting
2025/10/14 10:57:40 FastaManager: START READ
2025/10/14 10:57:40 SequenceProcessor: 0 AB_KMERCOUNT START
CHUNK_SIZE=67108864
2025/10/14 10:57:40 FastaManager: lines read 53328
2025/10/14 10:57:40 FastaManager: END READ
2025/10/14 10:57:40 FastaManager: FASTA
2025/10/14 10:57:42 SequenceProcessor: 0 AB_KMERCOUNT EXIT
2025/10/14 10:57:42 END of AB Counting
2025/10/14 10:57:42 Loaded sequences: 26664
2025/10/14 10:57:42 Total kmers(before remove): 65536
##### Heap utilization statistics [GB] #####
Max Memory=0.5
Current Total Memory=0.5
Current Used Memory=0.238
Current Free Memory=0.262
############################################
2025/10/14 10:57:42
Unique: 0
Distinct: 65536
Total: 7625904
MaxCount: 1574
2025/10/14 10:57:42 START of EMsync
Run=1
Run=2
Run=3
Run=4
Run=5
Run=6
Run=7
Run=8
Run=9
Run=10
Run=11
Run=12
Run=13
Run=14
Run=15
Run=16
Run=17
Run=18
Run=19
Run=20
Run=21
Run=22
Run=23
Run=24
Run=25
2025/10/14 10:57:42 Runs=25
2025/10/14 10:57:42 END of EMsync
2025/10/14 10:57:42 START of Creating AB Cluster Vectors
Cluster 1 Abundance=241.01134335779187 Length=16168.173737759447 LowLimit=163 HighLimit=318
Cluster 2 Abundance=75.538888587297 Length=49367.82626224055 LowLimit=32 HighLimit=118
2025/10/14 10:57:42 Trove size/4=18022
2025/10/14 10:57:42 Trove size/4=18022
2025/10/14 10:57:42 Cluster 1 size in kmers=65536 norm=126.50589485137961
2025/10/14 10:57:42 Cluster 2 size in kmers=65536 norm=221.81983091435748
2025/10/14 10:57:42 END of Creating AB Cluster Vectors
cpus=32
using=1
2025/10/14 10:57:42 START of AB Binning
2025/10/14 10:57:42 FastaManager: START READ
2025/10/14 10:57:42 SequenceProcessor: 0 AB_BINNING START
2025/10/14 10:57:42 FastaManager: lines read 53328
2025/10/14 10:57:42 FastaManager: END READ
2025/10/14 10:57:42 FastaManager: FASTA
2025/10/14 10:57:45 SequenceProcessor: 0 AB_BINNING EXIT
2025/10/14 10:57:45 END of AB Binning
Clustered reads:
AB Cluster 1: 19871
AB Cluster 2: 6793
##### Heap utilization statistics [GB] #####
Max Memory=0.5
Current Total Memory=0.5
Current Used Memory=0.278
Current Free Memory=0.222
############################################
version MTxCB =Mon Oct 13 20:13:46 UTC 2025
cpus=32
using=1
2025/10/14 10:57:45 START of CB Counting
2025/10/14 10:57:45 FastaManager: START READ
2025/10/14 10:57:45 SequenceProcessor: 0 CB_SEQUENCEVECTORBUILD START
2025/10/14 10:57:45 FastaManager: lines read 53328
2025/10/14 10:57:45 FastaManager: END READ
2025/10/14 10:57:45 FastaManager: FASTA
2025/10/14 10:57:46 SequenceProcessor: 0 CB_SEQUENCEVECTORBUILD EXIT
2025/10/14 10:57:46 END of CB Counting
2025/10/14 10:57:46 Loaded sequences: 26664
##### Heap utilization statistics [GB] #####
Max Memory=0.5
Current Total Memory=0.5
Current Used Memory=0.338
Current Free Memory=0.162
############################################
cpus=32
using=1
2025/10/14 10:57:46 START of Creating CB Clusters Size=26664
K-Means clustering started
... centers initialized
... concurrent processing mode with 1 subtask threads
... iteration 1 moves = 2245
... iteration 2 moves = 428
... iteration 3 moves = 182
... iteration 4 moves = 123
... iteration 5 moves = 76
... iteration 6 moves = 51
... iteration 7 moves = 34
... iteration 8 moves = 29
... iteration 9 moves = 19
... iteration 10 moves = 26
... iteration 11 moves = 17
... iteration 12 moves = 6
... iteration 13 moves = 8
... iteration 14 moves = 7
... iteration 15 moves = 10
... iteration 16 moves = 3
... iteration 17 moves = 2
... iteration 18 moves = 0
...end. 6.556 seconds.
2025/10/14 10:57:52 : kMeans cleanup.
2025/10/14 10:57:52 END of Creating CB Clusters.
cpus=32
using=1
2025/10/14 10:57:52 START of CB Binning
2025/10/14 10:57:52 FastaManager: START READ
2025/10/14 10:57:52 SequenceProcessor: 0 CB_BINNING START
2025/10/14 10:57:52 FastaManager: lines read 53328
2025/10/14 10:57:52 FastaManager: END READ
2025/10/14 10:57:52 FastaManager: FASTA
2025/10/14 10:57:53 SequenceProcessor: 0 CB_BINNING EXIT
Clustered reads:
CB Cluster 1: 17373
CB Cluster 2: 9291
##### Heap utilization statistics [GB] #####
Max Memory=0.5
Current Total Memory=0.5
Current Used Memory=0.331
Current Free Memory=0.169
############################################
version MTxABxCB =Mon Oct 13 20:13:46 UTC 2025
cpus=32
using=1
2025/10/14 10:57:53 Using Dictionary ORIGINAL
2025/10/14 10:57:53 START of AB Counting
2025/10/14 10:57:53 FastaManager: START READ
2025/10/14 10:57:53 SequenceProcessor: 0 AB_KMERCOUNT START
2025/10/14 10:57:53 FastaManager: lines read 53328
2025/10/14 10:57:53 FastaManager: END READ
2025/10/14 10:57:53 FastaManager: FASTA
2025/10/14 10:57:55 SequenceProcessor: 0 AB_KMERCOUNT EXIT
2025/10/14 10:57:55 END of AB Counting
2025/10/14 10:57:55 Loaded sequences: 26664
2025/10/14 10:57:55 Distinct kmers(before remove): 65536
##### Heap utilization statistics [GB] #####
Max Memory=0.5
Current Total Memory=0.5
Current Used Memory=0.221
Current Free Memory=0.279
############################################
2025/10/14 10:57:55
Unique: 0
Distinct: 65536
Total: 7625904
MaxCount: 1574
2025/10/14 10:57:55 START of EMsync
Run=1
Run=2
Run=3
Run=4
Run=5
Run=6
Run=7
Run=8
Run=9
Run=10
Run=11
Run=12
Run=13
Run=14
Run=15
Run=16
Run=17
Run=18
Run=19
Run=20
Run=21
Run=22
Run=23
Run=24
Run=25
2025/10/14 10:57:55 Runs=25
2025/10/14 10:57:55 END of EMsync
2025/10/14 10:57:55 Filter before=2
2025/10/14 10:57:55 Filter after=2
2025/10/14 10:57:55 START of Creating AB Cluster Vectors
Cluster 1 Abundance=75.538888587297 Length=49367.82626224055 LowLimit=32 HighLimit=118
Cluster 2 Abundance=241.01134335779187 Length=16168.173737759447 LowLimit=163 HighLimit=318
2025/10/14 10:57:55 Trove size/4=18022
2025/10/14 10:57:55 Trove size/4=18022
2025/10/14 10:57:55 Cluster 2 size in kmers=65536 norm=126.50589485137961
2025/10/14 10:57:55 Cluster 1 size in kmers=65536 norm=221.81983091435748
2025/10/14 10:57:55 END of Creating AB Cluster Vectors
cpus=32
using=1
2025/10/14 10:57:55 START of AB Binning
2025/10/14 10:57:55 FastaManager: START READ
2025/10/14 10:57:55 SequenceProcessor: 0 AB_BINNING START
2025/10/14 10:57:55 FastaManager: lines read 53328
2025/10/14 10:57:55 FastaManager: END READ
2025/10/14 10:57:55 FastaManager: FASTA
2025/10/14 10:57:57 SequenceProcessor: 0 AB_BINNING EXIT
2025/10/14 10:57:57 END of AB Binning
cpus=32
using=1
2025/10/14 10:57:57 START of CB Counting
2025/10/14 10:57:57 FastaManager: START READ
2025/10/14 10:57:57 SequenceProcessor: 0 CB_SEQUENCEVECTORBUILD START
2025/10/14 10:57:57 FastaManager: lines read 53328
2025/10/14 10:57:57 FastaManager: END READ
2025/10/14 10:57:57 FastaManager: FASTA
2025/10/14 10:57:58 SequenceProcessor: 0 CB_SEQUENCEVECTORBUILD EXIT
2025/10/14 10:57:58 END of CB Counting
2025/10/14 10:57:58 Loaded sequences: 26664
##### Heap utilization statistics [GB] #####
Max Memory=0.5
Current Total Memory=0.5
Current Used Memory=0.274
Current Free Memory=0.226
############################################
2025/10/14 10:57:58 AB Cluster=1 Size=6793
2025/10/14 10:57:58 AB Cluster=2 Size=19871
cpus=32
using=1
ABid size abundance EMLength newLength EMspecies newspecies
----- ---- --------- -------- --------- --------- ----------
1 6,793 75.53889 49,367 13,489 1 1
2025/10/14 10:57:58 START of Creating CB Clusters for AB Cluster=1 Size=6793
K-Means clustering started
... centers initialized
... concurrent processing mode with 1 subtask threads
... iteration 1 moves = 0
...end. 0.779 seconds.
2025/10/14 10:57:58 : kMeans cleanup.
2025/10/14 10:57:58 END of Creating CB Clusters for AB Cluster=1
cpus=32
using=1
ABid size abundance EMLength newLength EMspecies newspecies
----- ---- --------- -------- --------- --------- ----------
2 19,871 241.01134 16,168 12,367 1 1
2025/10/14 10:57:58 START of Creating CB Clusters for AB Cluster=2 Size=19871
K-Means clustering started
... centers initialized
... concurrent processing mode with 1 subtask threads
... iteration 1 moves = 0
...end. 2.265 seconds.
2025/10/14 10:58:01 : kMeans cleanup.
2025/10/14 10:58:01 END of Creating CB Clusters for AB Cluster=2
##### Heap utilization statistics [GB] #####
Max Memory=0.5
Current Total Memory=0.5
Current Used Memory=0.264
Current Free Memory=0.236
############################################
cpus=32
using=1
2025/10/14 10:58:01 START of CB Binning
2025/10/14 10:58:01 FastaManager: START READ
2025/10/14 10:58:01 SequenceProcessor: 0 CB_BINNING START
2025/10/14 10:58:01 FastaManager: lines read 53328
2025/10/14 10:58:01 FastaManager: END READ
2025/10/14 10:58:01 FastaManager: FASTA
2025/10/14 10:58:01 SequenceProcessor: 0 CB_BINNING EXIT
Clustered reads:
ABxCB Cluster 1: 6793
ABxCB Cluster 2: 19871
##### Heap utilization statistics [GB] #####
Max Memory=0.5
Current Total Memory=0.5
Current Used Memory=0.439
Current Free Memory=0.061
############################################
[ FAIL 0 | WARN 0 | SKIP 0 | PASS 52 ]
>
> proc.time()
user system elapsed
31.044 0.780 22.332
metabinR.Rcheck/metabinR-Ex.timings
| name | user | system | elapsed | |
| abundance_based_binning | 8.982 | 0.478 | 5.770 | |
| composition_based_binning | 4.643 | 0.165 | 1.767 | |
| hierarchical_binning | 4.224 | 0.254 | 3.149 | |