| Back to Multiple platform build/check report for BioC 3.21: simplified long |
|
This page was generated on 2025-04-22 13:16 -0400 (Tue, 22 Apr 2025).
| Hostname | OS | Arch (*) | R version | Installed pkgs |
|---|---|---|---|---|
| nebbiolo1 | Linux (Ubuntu 24.04.1 LTS) | x86_64 | 4.5.0 RC (2025-04-04 r88126) -- "How About a Twenty-Six" | 4831 |
| palomino7 | Windows Server 2022 Datacenter | x64 | 4.5.0 RC (2025-04-04 r88126 ucrt) -- "How About a Twenty-Six" | 4573 |
| lconway | macOS 12.7.1 Monterey | x86_64 | 4.5.0 RC (2025-04-04 r88126) -- "How About a Twenty-Six" | 4599 |
| kjohnson3 | macOS 13.7.1 Ventura | arm64 | 4.5.0 RC (2025-04-04 r88126) -- "How About a Twenty-Six" | 4553 |
| kunpeng2 | Linux (openEuler 24.03 LTS) | aarch64 | R Under development (unstable) (2025-02-19 r87757) -- "Unsuffered Consequences" | 4570 |
| Click on any hostname to see more info about the system (e.g. compilers) (*) as reported by 'uname -p', except on Windows and Mac OS X | ||||
| Package 1191/2341 | Hostname | OS / Arch | INSTALL | BUILD | CHECK | BUILD BIN | ||||||||
| matter 2.10.0 (landing page) Kylie A. Bemis
| nebbiolo1 | Linux (Ubuntu 24.04.1 LTS) / x86_64 | OK | OK | OK | |||||||||
| palomino7 | Windows Server 2022 Datacenter / x64 | OK | OK | OK | OK | |||||||||
| lconway | macOS 12.7.1 Monterey / x86_64 | OK | OK | OK | OK | |||||||||
| kjohnson3 | macOS 13.7.1 Ventura / arm64 | OK | OK | OK | OK | |||||||||
| kunpeng2 | Linux (openEuler 24.03 LTS) / aarch64 | OK | OK | OK | ||||||||||
|
To the developers/maintainers of the matter package: - Allow up to 24 hours (and sometimes 48 hours) for your latest push to git@git.bioconductor.org:packages/matter.git to reflect on this report. See Troubleshooting Build Report for more information. - Use the following Renviron settings to reproduce errors and warnings. - If 'R CMD check' started to fail recently on the Linux builder(s) over a missing dependency, add the missing dependency to 'Suggests:' in your DESCRIPTION file. See Renviron.bioc for more information. |
| Package: matter |
| Version: 2.10.0 |
| Command: /Library/Frameworks/R.framework/Resources/bin/R CMD check --install=check:matter.install-out.txt --library=/Library/Frameworks/R.framework/Resources/library --no-vignettes --timings matter_2.10.0.tar.gz |
| StartedAt: 2025-04-21 21:40:10 -0400 (Mon, 21 Apr 2025) |
| EndedAt: 2025-04-21 21:44:01 -0400 (Mon, 21 Apr 2025) |
| EllapsedTime: 231.6 seconds |
| RetCode: 0 |
| Status: OK |
| CheckDir: matter.Rcheck |
| Warnings: 0 |
##############################################################################
##############################################################################
###
### Running command:
###
### /Library/Frameworks/R.framework/Resources/bin/R CMD check --install=check:matter.install-out.txt --library=/Library/Frameworks/R.framework/Resources/library --no-vignettes --timings matter_2.10.0.tar.gz
###
##############################################################################
##############################################################################
* using log directory ‘/Users/biocbuild/bbs-3.21-bioc/meat/matter.Rcheck’
* using R version 4.5.0 RC (2025-04-04 r88126)
* using platform: x86_64-apple-darwin20
* R was compiled by
Apple clang version 14.0.0 (clang-1400.0.29.202)
GNU Fortran (GCC) 14.2.0
* running under: macOS Monterey 12.7.6
* using session charset: UTF-8
* using option ‘--no-vignettes’
* checking for file ‘matter/DESCRIPTION’ ... OK
* checking extension type ... Package
* this is package ‘matter’ version ‘2.10.0’
* checking package namespace information ... OK
* checking package dependencies ... OK
* checking if this is a source package ... OK
* checking if there is a namespace ... OK
* checking for hidden files and directories ... OK
* checking for portable file names ... OK
* checking for sufficient/correct file permissions ... OK
* checking whether package ‘matter’ can be installed ... OK
* used C++ compiler: ‘Apple clang version 14.0.0 (clang-1400.0.29.202)’
* used SDK: ‘MacOSX11.3.sdk’
* checking installed package size ... OK
* checking package directory ... OK
* checking ‘build’ directory ... OK
* checking DESCRIPTION meta-information ... OK
* checking top-level files ... OK
* checking for left-over files ... OK
* checking index information ... OK
* checking package subdirectories ... OK
* checking code files for non-ASCII characters ... OK
* checking R files for syntax errors ... OK
* checking whether the package can be loaded ... OK
* checking whether the package can be loaded with stated dependencies ... OK
* checking whether the package can be unloaded cleanly ... OK
* checking whether the namespace can be loaded with stated dependencies ... OK
* checking whether the namespace can be unloaded cleanly ... OK
* checking whether startup messages can be suppressed ... OK
* checking dependencies in R code ... OK
* checking S3 generic/method consistency ... OK
* checking replacement functions ... OK
* checking foreign function calls ... OK
* checking R code for possible problems ... OK
* checking Rd files ... OK
* checking Rd metadata ... OK
* checking Rd cross-references ... NOTE
Found the following Rd file(s) with Rd \link{} targets missing package
anchors:
SnowfastParam-class.Rd: SnowParam, BiocParallelParam, MulticoreParam
checksum.Rd: digest
chunkApply.Rd: bplapply
colscale.Rd: bplapply
cv_do.Rd: bplapply
matter-options.Rd: bplapply
nscentroids.Rd: bplapply
pls.Rd: bplapply
prcomp.Rd: bplapply
rowDists.Rd: bplapply
rowStats.Rd: bplapply
sgmix.Rd: bplapply
Please provide package anchors for all Rd \link{} targets not in the
package itself and the base packages.
* checking for missing documentation entries ... OK
* checking for code/documentation mismatches ... OK
* checking Rd \usage sections ... OK
* checking Rd contents ... OK
* checking for unstated dependencies in examples ... OK
* checking line endings in C/C++/Fortran sources/headers ... OK
* checking compiled code ... NOTE
Note: information on .o files is not available
File ‘matter/libs/matter.so’:
Found non-API calls to R: ‘DATAPTR’, ‘R_tryWrap’, ‘STRING_PTR’
Compiled code should not call non-API entry points in R.
See ‘Writing portable packages’ in the ‘Writing R Extensions’ manual,
and section ‘Moving into C API compliance’ for issues with the use of
non-API entry points.
* checking files in ‘vignettes’ ... OK
* checking examples ... OK
* checking for unstated dependencies in ‘tests’ ... OK
* checking tests ...
Running ‘testthat.R’
OK
* checking for unstated dependencies in vignettes ... OK
* checking package vignettes ... OK
* checking running R code from vignettes ... SKIPPED
* checking re-building of vignette outputs ... SKIPPED
* checking PDF version of manual ... OK
* DONE
Status: 2 NOTEs
See
‘/Users/biocbuild/bbs-3.21-bioc/meat/matter.Rcheck/00check.log’
for details.
matter.Rcheck/00install.out
############################################################################## ############################################################################## ### ### Running command: ### ### /Library/Frameworks/R.framework/Resources/bin/R CMD INSTALL matter ### ############################################################################## ############################################################################## * installing to library ‘/Library/Frameworks/R.framework/Versions/4.5-x86_64/Resources/library’ * installing *source* package ‘matter’ ... ** this is package ‘matter’ version ‘2.10.0’ ** using staged installation ** libs using C++ compiler: ‘Apple clang version 14.0.0 (clang-1400.0.29.202)’ using SDK: ‘MacOSX11.3.sdk’ clang++ -arch x86_64 -std=gnu++17 -I"/Library/Frameworks/R.framework/Resources/include" -DNDEBUG -I'/Library/Frameworks/R.framework/Versions/4.5-x86_64/Resources/library/BH/include' -I/opt/R/x86_64/include -fPIC -falign-functions=64 -Wall -g -O2 -c altrep.cpp -o altrep.o clang++ -arch x86_64 -std=gnu++17 -I"/Library/Frameworks/R.framework/Resources/include" -DNDEBUG -I'/Library/Frameworks/R.framework/Versions/4.5-x86_64/Resources/library/BH/include' -I/opt/R/x86_64/include -fPIC -falign-functions=64 -Wall -g -O2 -c init.cpp -o init.o clang++ -arch x86_64 -std=gnu++17 -I"/Library/Frameworks/R.framework/Resources/include" -DNDEBUG -I'/Library/Frameworks/R.framework/Versions/4.5-x86_64/Resources/library/BH/include' -I/opt/R/x86_64/include -fPIC -falign-functions=64 -Wall -g -O2 -c matterExports.cpp -o matterExports.o clang++ -arch x86_64 -std=gnu++17 -dynamiclib -Wl,-headerpad_max_install_names -undefined dynamic_lookup -L/Library/Frameworks/R.framework/Resources/lib -L/opt/R/x86_64/lib -o matter.so altrep.o init.o matterExports.o -F/Library/Frameworks/R.framework/.. -framework R installing to /Library/Frameworks/R.framework/Versions/4.5-x86_64/Resources/library/00LOCK-matter/00new/matter/libs ** R ** byte-compile and prepare package for lazy loading ** help *** installing help indices ** building package indices ** installing vignettes ** testing if installed package can be loaded from temporary location ** checking absolute paths in shared objects and dynamic libraries ** testing if installed package can be loaded from final location ** testing if installed package keeps a record of temporary installation path * DONE (matter)
matter.Rcheck/tests/testthat.Rout
R version 4.5.0 RC (2025-04-04 r88126) -- "How About a Twenty-Six"
Copyright (C) 2025 The R Foundation for Statistical Computing
Platform: x86_64-apple-darwin20
R is free software and comes with ABSOLUTELY NO WARRANTY.
You are welcome to redistribute it under certain conditions.
Type 'license()' or 'licence()' for distribution details.
R is a collaborative project with many contributors.
Type 'contributors()' for more information and
'citation()' on how to cite R or R packages in publications.
Type 'demo()' for some demos, 'help()' for on-line help, or
'help.start()' for an HTML browser interface to help.
Type 'q()' to quit R.
> library(testthat)
> library(matter)
Loading required package: BiocParallel
Loading required package: Matrix
>
> test_check("matter")
|
| | 0%
|
|==== | 5%
|
|======= | 10%
|
|========== | 15%
|
|============== | 20%
|
|================== | 25%
|
|===================== | 30%
|
|======================== | 35%
|
|============================ | 40%
|
|================================ | 45%
|
|=================================== | 50%
|
|====================================== | 55%
|
|========================================== | 60%
|
|============================================== | 65%
|
|================================================= | 70%
|
|==================================================== | 75%
|
|======================================================== | 80%
|
|============================================================ | 85%
|
|=============================================================== | 90%
|
|================================================================== | 95%
|
|======================================================================| 100%
[ FAIL 0 | WARN 0 | SKIP 0 | PASS 2079 ]
>
> proc.time()
user system elapsed
87.861 4.907 112.939
matter.Rcheck/matter-Ex.timings
| name | user | system | elapsed | |
| RNGStreams | 0.873 | 0.007 | 0.884 | |
| SnowfastParam-class | 0.212 | 0.029 | 2.967 | |
| approx1 | 0.002 | 0.001 | 0.004 | |
| approx2 | 0.004 | 0.002 | 0.005 | |
| avg | 0.002 | 0.000 | 0.002 | |
| binpeaks | 0.007 | 0.001 | 0.008 | |
| binvec | 0.001 | 0.000 | 0.000 | |
| bsearch | 0.001 | 0.000 | 0.001 | |
| checksum | 0.032 | 0.006 | 0.040 | |
| chunkApply | 0.241 | 0.019 | 0.263 | |
| chunked-class | 0.011 | 0.002 | 0.013 | |
| colscale | 0.197 | 0.004 | 0.202 | |
| colsweep | 0.025 | 0.001 | 0.025 | |
| convolve_at | 0.085 | 0.004 | 0.090 | |
| coscore | 0.047 | 0.008 | 0.055 | |
| cpal | 0.004 | 0.001 | 0.005 | |
| cv_do | 0.173 | 0.003 | 0.177 | |
| deferred-ops | 0.251 | 0.011 | 0.264 | |
| downsample | 0.034 | 0.002 | 0.036 | |
| drle-class | 0.002 | 0.000 | 0.002 | |
| enhance | 0.023 | 0.002 | 0.026 | |
| estbase | 0.010 | 0.002 | 0.012 | |
| estdim | 0.003 | 0.001 | 0.003 | |
| estnoise | 0.033 | 0.004 | 0.039 | |
| estres | 0.002 | 0.000 | 0.001 | |
| fastmap | 0.139 | 0.001 | 0.141 | |
| fetch | 0.129 | 0.011 | 0.143 | |
| filt1 | 0.025 | 0.002 | 0.027 | |
| filt2 | 0.026 | 0.002 | 0.028 | |
| filtn | 0.004 | 0.001 | 0.006 | |
| findpeaks | 0.026 | 0.004 | 0.030 | |
| findpeaks_cwt | 0.134 | 0.014 | 0.152 | |
| findpeaks_knn | 0.004 | 0.000 | 0.004 | |
| iQuote | 0.000 | 0.000 | 0.001 | |
| inpoly | 0.003 | 0.001 | 0.004 | |
| isofun | 0.023 | 0.001 | 0.025 | |
| knnsearch | 0.001 | 0.000 | 0.002 | |
| matter-class | 0.025 | 0.003 | 0.027 | |
| matter_arr-class | 0.031 | 0.002 | 0.032 | |
| matter_fct-class | 0.022 | 0.002 | 0.023 | |
| matter_list-class | 0.011 | 0.002 | 0.013 | |
| matter_str-class | 0.020 | 0.002 | 0.023 | |
| mem | 0.464 | 0.008 | 0.648 | |
| mi_learn | 0.644 | 0.009 | 0.658 | |
| nnmf | 0.052 | 0.001 | 0.053 | |
| nscentroids | 0.117 | 0.002 | 0.120 | |
| peakwidths | 0.000 | 0.001 | 0.001 | |
| pinv | 0.002 | 0.001 | 0.002 | |
| plot_signal | 0.469 | 0.056 | 0.530 | |
| pls | 0.048 | 0.000 | 0.050 | |
| prcomp | 0.124 | 0.015 | 0.141 | |
| predscore | 0.001 | 0.000 | 0.001 | |
| rescale | 0.001 | 0.001 | 0.001 | |
| rocscore | 0.003 | 0.001 | 0.003 | |
| rollvec | 0.001 | 0.001 | 0.001 | |
| rowDists | 0.100 | 0.003 | 0.103 | |
| rowStats | 0.128 | 0.011 | 0.141 | |
| seq_rel | 0.001 | 0.001 | 0.001 | |
| sgmix | 2.670 | 0.055 | 2.742 | |
| shingles | 0.001 | 0.001 | 0.003 | |
| simple_logger-class | 0.012 | 0.003 | 0.015 | |
| simspec | 0.031 | 0.004 | 0.036 | |
| sparse_arr-class | 0.006 | 0.001 | 0.007 | |
| stream_stat | 0.007 | 0.001 | 0.008 | |
| struct | 0.009 | 0.002 | 0.010 | |
| summary-stats | 0.353 | 0.015 | 0.371 | |
| to_raster | 0.003 | 0.001 | 0.004 | |
| trans2d | 0.041 | 0.002 | 0.043 | |
| uuid | 0.001 | 0.001 | 0.001 | |
| vizi-functions | 0.052 | 0.004 | 0.058 | |
| warp1 | 0.023 | 0.003 | 0.027 | |
| warp2 | 0.916 | 0.014 | 0.936 | |