| Back to Multiple platform build/check report for BioC 3.21: simplified long |
|
This page was generated on 2025-10-16 11:40 -0400 (Thu, 16 Oct 2025).
| Hostname | OS | Arch (*) | R version | Installed pkgs |
|---|---|---|---|---|
| nebbiolo1 | Linux (Ubuntu 24.04.3 LTS) | x86_64 | 4.5.1 (2025-06-13) -- "Great Square Root" | 4833 |
| merida1 | macOS 12.7.6 Monterey | x86_64 | 4.5.1 RC (2025-06-05 r88288) -- "Great Square Root" | 4614 |
| kjohnson1 | macOS 13.7.5 Ventura | arm64 | 4.5.1 Patched (2025-06-14 r88325) -- "Great Square Root" | 4555 |
| kunpeng2 | Linux (openEuler 24.03 LTS) | aarch64 | R Under development (unstable) (2025-02-19 r87757) -- "Unsuffered Consequences" | 4586 |
| Click on any hostname to see more info about the system (e.g. compilers) (*) as reported by 'uname -p', except on Windows and Mac OS X | ||||
| Package 1178/2341 | Hostname | OS / Arch | INSTALL | BUILD | CHECK | BUILD BIN | ||||||||
| martini 1.28.0 (landing page) Hector Climente-Gonzalez
| nebbiolo1 | Linux (Ubuntu 24.04.3 LTS) / x86_64 | OK | OK | OK | |||||||||
| merida1 | macOS 12.7.6 Monterey / x86_64 | OK | OK | OK | OK | |||||||||
| kjohnson1 | macOS 13.7.5 Ventura / arm64 | OK | OK | OK | OK | |||||||||
| kunpeng2 | Linux (openEuler 24.03 LTS) / aarch64 | OK | OK | WARNINGS | ||||||||||
|
To the developers/maintainers of the martini package: - Allow up to 24 hours (and sometimes 48 hours) for your latest push to git@git.bioconductor.org:packages/martini.git to reflect on this report. See Troubleshooting Build Report for more information. - Use the following Renviron settings to reproduce errors and warnings. - If 'R CMD check' started to fail recently on the Linux builder(s) over a missing dependency, add the missing dependency to 'Suggests:' in your DESCRIPTION file. See Renviron.bioc for more information. |
| Package: martini |
| Version: 1.28.0 |
| Command: /Library/Frameworks/R.framework/Resources/bin/R CMD check --install=check:martini.install-out.txt --library=/Library/Frameworks/R.framework/Resources/library --no-vignettes --timings martini_1.28.0.tar.gz |
| StartedAt: 2025-10-15 02:22:50 -0400 (Wed, 15 Oct 2025) |
| EndedAt: 2025-10-15 02:25:50 -0400 (Wed, 15 Oct 2025) |
| EllapsedTime: 180.0 seconds |
| RetCode: 0 |
| Status: OK |
| CheckDir: martini.Rcheck |
| Warnings: 0 |
##############################################################################
##############################################################################
###
### Running command:
###
### /Library/Frameworks/R.framework/Resources/bin/R CMD check --install=check:martini.install-out.txt --library=/Library/Frameworks/R.framework/Resources/library --no-vignettes --timings martini_1.28.0.tar.gz
###
##############################################################################
##############################################################################
* using log directory ‘/Users/biocbuild/bbs-3.21-bioc/meat/martini.Rcheck’
* using R version 4.5.1 Patched (2025-06-14 r88325)
* using platform: aarch64-apple-darwin20
* R was compiled by
Apple clang version 16.0.0 (clang-1600.0.26.6)
GNU Fortran (GCC) 14.2.0
* running under: macOS Ventura 13.7.5
* using session charset: UTF-8
* using option ‘--no-vignettes’
* checking for file ‘martini/DESCRIPTION’ ... OK
* checking extension type ... Package
* this is package ‘martini’ version ‘1.28.0’
* package encoding: UTF-8
* checking package namespace information ... OK
* checking package dependencies ... OK
* checking if this is a source package ... OK
* checking if there is a namespace ... OK
* checking for hidden files and directories ... OK
* checking for portable file names ... OK
* checking for sufficient/correct file permissions ... OK
* checking whether package ‘martini’ can be installed ... OK
* used C++ compiler: ‘Apple clang version 15.0.0 (clang-1500.0.40.1)’
* used SDK: ‘MacOSX11.3.sdk’
* checking installed package size ... OK
* checking package directory ... OK
* checking ‘build’ directory ... OK
* checking DESCRIPTION meta-information ... OK
* checking top-level files ... OK
* checking for left-over files ... OK
* checking index information ... OK
* checking package subdirectories ... OK
* checking code files for non-ASCII characters ... OK
* checking R files for syntax errors ... OK
* checking whether the package can be loaded ... OK
* checking whether the package can be loaded with stated dependencies ... OK
* checking whether the package can be unloaded cleanly ... OK
* checking whether the namespace can be loaded with stated dependencies ... OK
* checking whether the namespace can be unloaded cleanly ... OK
* checking dependencies in R code ... OK
* checking S3 generic/method consistency ... OK
* checking replacement functions ... OK
* checking foreign function calls ... OK
* checking R code for possible problems ... NOTE
get_GI_network: no visible binding for global variable ‘gene1’
get_GI_network: no visible binding for global variable ‘gene2’
get_GM_network: no visible binding for global variable ‘gene’
group_snps: no visible binding for global variable ‘.’
Undefined global functions or variables:
. gene gene1 gene2
* checking Rd files ... OK
* checking Rd metadata ... OK
* checking Rd cross-references ... OK
* checking for missing documentation entries ... OK
* checking for code/documentation mismatches ... OK
* checking Rd \usage sections ... NOTE
Documented arguments not in \usage in Rd file 'organism_id2name.Rd':
‘organism’
Functions with \usage entries need to have the appropriate \alias
entries, and all their arguments documented.
The \usage entries must correspond to syntactically valid R code.
See chapter ‘Writing R documentation files’ in the ‘Writing R
Extensions’ manual.
* checking Rd contents ... OK
* checking for unstated dependencies in examples ... OK
* checking contents of ‘data’ directory ... OK
* checking data for non-ASCII characters ... OK
* checking LazyData ... OK
* checking data for ASCII and uncompressed saves ... OK
* checking line endings in C/C++/Fortran sources/headers ... OK
* checking line endings in Makefiles ... OK
* checking compilation flags in Makevars ... OK
* checking for GNU extensions in Makefiles ... OK
* checking for portable use of $(BLAS_LIBS) and $(LAPACK_LIBS) ... OK
* checking use of PKG_*FLAGS in Makefiles ... OK
* checking compiled code ... NOTE
Note: information on .o files is not available
File ‘/Library/Frameworks/R.framework/Versions/4.5-arm64/Resources/library/martini/libs/martini.so’:
Found ‘_exit’, possibly from ‘exit’ (C)
Compiled code should not call entry points which might terminate R nor
write to stdout/stderr instead of to the console, nor use Fortran I/O
nor system RNGs nor [v]sprintf. The detected symbols are linked into
the code but might come from libraries and not actually be called.
See ‘Writing portable packages’ in the ‘Writing R Extensions’ manual.
* checking files in ‘vignettes’ ... OK
* checking examples ... OK
* checking for unstated dependencies in ‘tests’ ... OK
* checking tests ...
Running ‘testthat.R’
OK
* checking for unstated dependencies in vignettes ... OK
* checking package vignettes ... OK
* checking running R code from vignettes ... SKIPPED
* checking re-building of vignette outputs ... SKIPPED
* checking PDF version of manual ... OK
* DONE
Status: 3 NOTEs
See
‘/Users/biocbuild/bbs-3.21-bioc/meat/martini.Rcheck/00check.log’
for details.
martini.Rcheck/00install.out
##############################################################################
##############################################################################
###
### Running command:
###
### /Library/Frameworks/R.framework/Resources/bin/R CMD INSTALL martini
###
##############################################################################
##############################################################################
* installing to library ‘/Library/Frameworks/R.framework/Versions/4.5-arm64/Resources/library’
* installing *source* package ‘martini’ ...
** this is package ‘martini’ version ‘1.28.0’
** using staged installation
** libs
using C++ compiler: ‘Apple clang version 15.0.0 (clang-1500.0.40.1)’
using SDK: ‘MacOSX11.3.sdk’
clang++ -arch arm64 -std=gnu++17 -I"/Library/Frameworks/R.framework/Resources/include" -DNDEBUG -I'/Library/Frameworks/R.framework/Versions/4.5-arm64/Resources/library/Rcpp/include' -I'/Library/Frameworks/R.framework/Versions/4.5-arm64/Resources/library/RcppEigen/include' -I/opt/R/arm64/include -std=c++11 -D_USE_KNETFILE -D_FILE_OFFSET_BITS=64 -U_FORTIFY_SOURCE -DBGZF_CACHE -I./lib `/Library/Frameworks/R.framework/Resources/bin/Rscript -e "Rcpp:::CxxFlags()"` -DEIGEN_PERMANENTLY_DISABLE_STUPID_WARNINGS -fPIC -falign-functions=64 -Wall -g -O2 -c RcppExports.cpp -o RcppExports.o
In file included from RcppExports.cpp:4:
In file included from ./../inst/include/martini.h:7:
In file included from ./../inst/include/martini_RcppExports.h:7:
In file included from /Library/Frameworks/R.framework/Versions/4.5-arm64/Resources/library/RcppEigen/include/RcppEigen.h:25:
In file included from /Library/Frameworks/R.framework/Versions/4.5-arm64/Resources/library/RcppEigen/include/RcppEigenForward.h:29:
In file included from /Library/Frameworks/R.framework/Versions/4.5-arm64/Resources/library/RcppEigen/include/Eigen/Sparse:26:
In file included from /Library/Frameworks/R.framework/Versions/4.5-arm64/Resources/library/RcppEigen/include/Eigen/SparseCore:61:
/Library/Frameworks/R.framework/Versions/4.5-arm64/Resources/library/RcppEigen/include/Eigen/src/SparseCore/TriangularSolver.h:273:13: warning: variable 'count' set but not used [-Wunused-but-set-variable]
Index count = 0;
^
In file included from RcppExports.cpp:4:
In file included from ./../inst/include/martini.h:7:
In file included from ./../inst/include/martini_RcppExports.h:7:
In file included from /Library/Frameworks/R.framework/Versions/4.5-arm64/Resources/library/RcppEigen/include/RcppEigen.h:25:
In file included from /Library/Frameworks/R.framework/Versions/4.5-arm64/Resources/library/RcppEigen/include/RcppEigenForward.h:29:
In file included from /Library/Frameworks/R.framework/Versions/4.5-arm64/Resources/library/RcppEigen/include/Eigen/Sparse:29:
In file included from /Library/Frameworks/R.framework/Versions/4.5-arm64/Resources/library/RcppEigen/include/Eigen/SparseLU:35:
/Library/Frameworks/R.framework/Versions/4.5-arm64/Resources/library/RcppEigen/include/Eigen/src/SparseLU/SparseLU_heap_relax_snode.h:78:9: warning: variable 'nsuper_et_post' set but not used [-Wunused-but-set-variable]
Index nsuper_et_post = 0; // Number of relaxed snodes in postordered etree
^
/Library/Frameworks/R.framework/Versions/4.5-arm64/Resources/library/RcppEigen/include/Eigen/src/SparseLU/SparseLU_heap_relax_snode.h:79:9: warning: variable 'nsuper_et' set but not used [-Wunused-but-set-variable]
Index nsuper_et = 0; // Number of relaxed snodes in the original etree
^
In file included from RcppExports.cpp:4:
In file included from ./../inst/include/martini.h:7:
In file included from ./../inst/include/martini_RcppExports.h:7:
In file included from /Library/Frameworks/R.framework/Versions/4.5-arm64/Resources/library/RcppEigen/include/RcppEigen.h:25:
In file included from /Library/Frameworks/R.framework/Versions/4.5-arm64/Resources/library/RcppEigen/include/RcppEigenForward.h:31:
In file included from /Library/Frameworks/R.framework/Versions/4.5-arm64/Resources/library/RcppEigen/include/unsupported/Eigen/IterativeSolvers:46:
/Library/Frameworks/R.framework/Versions/4.5-arm64/Resources/library/RcppEigen/include/unsupported/Eigen/src/IterativeSolvers/IDRS.h:72:10: warning: variable 'replacements' set but not used [-Wunused-but-set-variable]
Index replacements = 0;
^
In file included from RcppExports.cpp:4:
In file included from ./../inst/include/martini.h:7:
In file included from ./../inst/include/martini_RcppExports.h:7:
In file included from /Library/Frameworks/R.framework/Versions/4.5-arm64/Resources/library/RcppEigen/include/RcppEigen.h:25:
In file included from /Library/Frameworks/R.framework/Versions/4.5-arm64/Resources/library/RcppEigen/include/RcppEigenForward.h:37:
In file included from /Library/Frameworks/R.framework/Versions/4.5-arm64/Resources/library/RcppEigen/include/unsupported/Eigen/SparseExtra:45:
/Library/Frameworks/R.framework/Versions/4.5-arm64/Resources/library/RcppEigen/include/unsupported/Eigen/src/SparseExtra/MarketIO.h:246:7: warning: variable 'count' set but not used [-Wunused-but-set-variable]
int count = 0;
^
5 warnings generated.
clang++ -arch arm64 -std=gnu++17 -I"/Library/Frameworks/R.framework/Resources/include" -DNDEBUG -I'/Library/Frameworks/R.framework/Versions/4.5-arm64/Resources/library/Rcpp/include' -I'/Library/Frameworks/R.framework/Versions/4.5-arm64/Resources/library/RcppEigen/include' -I/opt/R/arm64/include -std=c++11 -D_USE_KNETFILE -D_FILE_OFFSET_BITS=64 -U_FORTIFY_SOURCE -DBGZF_CACHE -I./lib `/Library/Frameworks/R.framework/Resources/bin/Rscript -e "Rcpp:::CxxFlags()"` -DEIGEN_PERMANENTLY_DISABLE_STUPID_WARNINGS -fPIC -falign-functions=64 -Wall -g -O2 -c mincut.cpp -o mincut.o
In file included from mincut.cpp:7:
In file included from /Library/Frameworks/R.framework/Versions/4.5-arm64/Resources/library/RcppEigen/include/RcppEigen.h:25:
In file included from /Library/Frameworks/R.framework/Versions/4.5-arm64/Resources/library/RcppEigen/include/RcppEigenForward.h:29:
In file included from /Library/Frameworks/R.framework/Versions/4.5-arm64/Resources/library/RcppEigen/include/Eigen/Sparse:26:
In file included from /Library/Frameworks/R.framework/Versions/4.5-arm64/Resources/library/RcppEigen/include/Eigen/SparseCore:61:
/Library/Frameworks/R.framework/Versions/4.5-arm64/Resources/library/RcppEigen/include/Eigen/src/SparseCore/TriangularSolver.h:273:13: warning: variable 'count' set but not used [-Wunused-but-set-variable]
Index count = 0;
^
In file included from mincut.cpp:7:
In file included from /Library/Frameworks/R.framework/Versions/4.5-arm64/Resources/library/RcppEigen/include/RcppEigen.h:25:
In file included from /Library/Frameworks/R.framework/Versions/4.5-arm64/Resources/library/RcppEigen/include/RcppEigenForward.h:29:
In file included from /Library/Frameworks/R.framework/Versions/4.5-arm64/Resources/library/RcppEigen/include/Eigen/Sparse:29:
In file included from /Library/Frameworks/R.framework/Versions/4.5-arm64/Resources/library/RcppEigen/include/Eigen/SparseLU:35:
/Library/Frameworks/R.framework/Versions/4.5-arm64/Resources/library/RcppEigen/include/Eigen/src/SparseLU/SparseLU_heap_relax_snode.h:78:9: warning: variable 'nsuper_et_post' set but not used [-Wunused-but-set-variable]
Index nsuper_et_post = 0; // Number of relaxed snodes in postordered etree
^
/Library/Frameworks/R.framework/Versions/4.5-arm64/Resources/library/RcppEigen/include/Eigen/src/SparseLU/SparseLU_heap_relax_snode.h:79:9: warning: variable 'nsuper_et' set but not used [-Wunused-but-set-variable]
Index nsuper_et = 0; // Number of relaxed snodes in the original etree
^
In file included from mincut.cpp:7:
In file included from /Library/Frameworks/R.framework/Versions/4.5-arm64/Resources/library/RcppEigen/include/RcppEigen.h:25:
In file included from /Library/Frameworks/R.framework/Versions/4.5-arm64/Resources/library/RcppEigen/include/RcppEigenForward.h:31:
In file included from /Library/Frameworks/R.framework/Versions/4.5-arm64/Resources/library/RcppEigen/include/unsupported/Eigen/IterativeSolvers:46:
/Library/Frameworks/R.framework/Versions/4.5-arm64/Resources/library/RcppEigen/include/unsupported/Eigen/src/IterativeSolvers/IDRS.h:72:10: warning: variable 'replacements' set but not used [-Wunused-but-set-variable]
Index replacements = 0;
^
In file included from mincut.cpp:7:
In file included from /Library/Frameworks/R.framework/Versions/4.5-arm64/Resources/library/RcppEigen/include/RcppEigen.h:25:
In file included from /Library/Frameworks/R.framework/Versions/4.5-arm64/Resources/library/RcppEigen/include/RcppEigenForward.h:37:
In file included from /Library/Frameworks/R.framework/Versions/4.5-arm64/Resources/library/RcppEigen/include/unsupported/Eigen/SparseExtra:45:
/Library/Frameworks/R.framework/Versions/4.5-arm64/Resources/library/RcppEigen/include/unsupported/Eigen/src/SparseExtra/MarketIO.h:246:7: warning: variable 'count' set but not used [-Wunused-but-set-variable]
int count = 0;
^
5 warnings generated.
clang++ -arch arm64 -std=gnu++17 -I"/Library/Frameworks/R.framework/Resources/include" -DNDEBUG -I'/Library/Frameworks/R.framework/Versions/4.5-arm64/Resources/library/Rcpp/include' -I'/Library/Frameworks/R.framework/Versions/4.5-arm64/Resources/library/RcppEigen/include' -I/opt/R/arm64/include -std=c++11 -D_USE_KNETFILE -D_FILE_OFFSET_BITS=64 -U_FORTIFY_SOURCE -DBGZF_CACHE -I./lib `/Library/Frameworks/R.framework/Resources/bin/Rscript -e "Rcpp:::CxxFlags()"` -DEIGEN_PERMANENTLY_DISABLE_STUPID_WARNINGS -fPIC -falign-functions=64 -Wall -g -O2 -c lib/maxflow/maxflow.cpp -o lib/maxflow/maxflow.o
lib/maxflow/maxflow.cpp:628:6: warning: variable 'num1' set but not used [-Wunused-but-set-variable]
int num1 = 0, num2 = 0;
^
lib/maxflow/maxflow.cpp:628:16: warning: variable 'num2' set but not used [-Wunused-but-set-variable]
int num1 = 0, num2 = 0;
^
lib/maxflow/maxflow.cpp:555:19: warning: implicit truncation from 'int' to a one-bit wide bit-field changes value from 1 to -1 [-Wsingle-bit-bitfield-constant-conversion]
j -> is_sink = 1;
^ ~
lib/maxflow/instances.inc:15:16: note: in instantiation of member function 'Graph<int, int, int>::maxflow' requested here
template class Graph<int,int,int>;
^
In file included from lib/maxflow/maxflow.cpp:7:
lib/maxflow/maxflow.h:510:15: warning: implicit truncation from 'int' to a one-bit wide bit-field changes value from 1 to -1 [-Wsingle-bit-bitfield-constant-conversion]
i->is_marked = 1;
^ ~
lib/maxflow/instances.inc:15:16: note: in instantiation of member function 'Graph<int, int, int>::mark_node' requested here
template class Graph<int,int,int>;
^
lib/maxflow/maxflow.cpp:159:17: warning: implicit truncation from 'int' to a one-bit wide bit-field changes value from 1 to -1 [-Wsingle-bit-bitfield-constant-conversion]
i -> is_sink = 1;
^ ~
lib/maxflow/instances.inc:15:16: note: in instantiation of member function 'Graph<int, int, int>::maxflow_init' requested here
template class Graph<int,int,int>;
^
lib/maxflow/maxflow.cpp:221:16: warning: implicit truncation from 'int' to a one-bit wide bit-field changes value from 1 to -1 [-Wsingle-bit-bitfield-constant-conversion]
i->is_sink = 1;
^ ~
lib/maxflow/instances.inc:15:16: note: in instantiation of member function 'Graph<int, int, int>::maxflow_reuse_trees_init' requested here
template class Graph<int,int,int>;
^
lib/maxflow/maxflow.cpp:555:19: warning: implicit truncation from 'int' to a one-bit wide bit-field changes value from 1 to -1 [-Wsingle-bit-bitfield-constant-conversion]
j -> is_sink = 1;
^ ~
lib/maxflow/instances.inc:16:16: note: in instantiation of member function 'Graph<short, int, int>::maxflow' requested here
template class Graph<short,int,int>;
^
In file included from lib/maxflow/maxflow.cpp:7:
lib/maxflow/maxflow.h:510:15: warning: implicit truncation from 'int' to a one-bit wide bit-field changes value from 1 to -1 [-Wsingle-bit-bitfield-constant-conversion]
i->is_marked = 1;
^ ~
lib/maxflow/instances.inc:16:16: note: in instantiation of member function 'Graph<short, int, int>::mark_node' requested here
template class Graph<short,int,int>;
^
lib/maxflow/maxflow.cpp:159:17: warning: implicit truncation from 'int' to a one-bit wide bit-field changes value from 1 to -1 [-Wsingle-bit-bitfield-constant-conversion]
i -> is_sink = 1;
^ ~
lib/maxflow/instances.inc:16:16: note: in instantiation of member function 'Graph<short, int, int>::maxflow_init' requested here
template class Graph<short,int,int>;
^
lib/maxflow/maxflow.cpp:221:16: warning: implicit truncation from 'int' to a one-bit wide bit-field changes value from 1 to -1 [-Wsingle-bit-bitfield-constant-conversion]
i->is_sink = 1;
^ ~
lib/maxflow/instances.inc:16:16: note: in instantiation of member function 'Graph<short, int, int>::maxflow_reuse_trees_init' requested here
template class Graph<short,int,int>;
^
lib/maxflow/maxflow.cpp:555:19: warning: implicit truncation from 'int' to a one-bit wide bit-field changes value from 1 to -1 [-Wsingle-bit-bitfield-constant-conversion]
j -> is_sink = 1;
^ ~
lib/maxflow/instances.inc:17:16: note: in instantiation of member function 'Graph<float, float, float>::maxflow' requested here
template class Graph<float,float,float>;
^
In file included from lib/maxflow/maxflow.cpp:7:
lib/maxflow/maxflow.h:510:15: warning: implicit truncation from 'int' to a one-bit wide bit-field changes value from 1 to -1 [-Wsingle-bit-bitfield-constant-conversion]
i->is_marked = 1;
^ ~
lib/maxflow/instances.inc:17:16: note: in instantiation of member function 'Graph<float, float, float>::mark_node' requested here
template class Graph<float,float,float>;
^
lib/maxflow/maxflow.cpp:159:17: warning: implicit truncation from 'int' to a one-bit wide bit-field changes value from 1 to -1 [-Wsingle-bit-bitfield-constant-conversion]
i -> is_sink = 1;
^ ~
lib/maxflow/instances.inc:17:16: note: in instantiation of member function 'Graph<float, float, float>::maxflow_init' requested here
template class Graph<float,float,float>;
^
lib/maxflow/maxflow.cpp:221:16: warning: implicit truncation from 'int' to a one-bit wide bit-field changes value from 1 to -1 [-Wsingle-bit-bitfield-constant-conversion]
i->is_sink = 1;
^ ~
lib/maxflow/instances.inc:17:16: note: in instantiation of member function 'Graph<float, float, float>::maxflow_reuse_trees_init' requested here
template class Graph<float,float,float>;
^
lib/maxflow/maxflow.cpp:555:19: warning: implicit truncation from 'int' to a one-bit wide bit-field changes value from 1 to -1 [-Wsingle-bit-bitfield-constant-conversion]
j -> is_sink = 1;
^ ~
lib/maxflow/instances.inc:18:16: note: in instantiation of member function 'Graph<double, double, double>::maxflow' requested here
template class Graph<double,double,double>;
^
In file included from lib/maxflow/maxflow.cpp:7:
lib/maxflow/maxflow.h:510:15: warning: implicit truncation from 'int' to a one-bit wide bit-field changes value from 1 to -1 [-Wsingle-bit-bitfield-constant-conversion]
i->is_marked = 1;
^ ~
lib/maxflow/instances.inc:18:16: note: in instantiation of member function 'Graph<double, double, double>::mark_node' requested here
template class Graph<double,double,double>;
^
lib/maxflow/maxflow.cpp:159:17: warning: implicit truncation from 'int' to a one-bit wide bit-field changes value from 1 to -1 [-Wsingle-bit-bitfield-constant-conversion]
i -> is_sink = 1;
^ ~
lib/maxflow/instances.inc:18:16: note: in instantiation of member function 'Graph<double, double, double>::maxflow_init' requested here
template class Graph<double,double,double>;
^
lib/maxflow/maxflow.cpp:221:16: warning: implicit truncation from 'int' to a one-bit wide bit-field changes value from 1 to -1 [-Wsingle-bit-bitfield-constant-conversion]
i->is_sink = 1;
^ ~
lib/maxflow/instances.inc:18:16: note: in instantiation of member function 'Graph<double, double, double>::maxflow_reuse_trees_init' requested here
template class Graph<double,double,double>;
^
18 warnings generated.
ar -crus libmaxflow.a lib/maxflow/maxflow.o
cp -r lib/maxflow "/Library/Frameworks/R.framework/Versions/4.5-arm64/Resources/library/00LOCK-martini/00new/martini/include"
mkdir -p "/Library/Frameworks/R.framework/Versions/4.5-arm64/Resources/library/00LOCK-martini/00new/martini/usrlib"
cp libmaxflow.a "/Library/Frameworks/R.framework/Versions/4.5-arm64/Resources/library/00LOCK-martini/00new/martini/usrlib"
clang++ -arch arm64 -std=gnu++17 -dynamiclib -Wl,-headerpad_max_install_names -undefined dynamic_lookup -L/Library/Frameworks/R.framework/Resources/lib -L/opt/R/arm64/lib -o martini.so RcppExports.o mincut.o -pthread /Library/Frameworks/R.framework/Versions/4.5-arm64/Resources/library/00LOCK-martini/00new/martini/usrlib/libmaxflow.a -pthread -F/Library/Frameworks/R.framework/.. -framework R
installing to /Library/Frameworks/R.framework/Versions/4.5-arm64/Resources/library/00LOCK-martini/00new/martini/libs
** R
** data
*** moving datasets to lazyload DB
** inst
** byte-compile and prepare package for lazy loading
** help
*** installing help indices
** building package indices
** installing vignettes
** testing if installed package can be loaded from temporary location
** checking absolute paths in shared objects and dynamic libraries
** testing if installed package can be loaded from final location
** testing if installed package keeps a record of temporary installation path
* DONE (martini)
martini.Rcheck/tests/testthat.Rout
R version 4.5.1 Patched (2025-06-14 r88325) -- "Great Square Root"
Copyright (C) 2025 The R Foundation for Statistical Computing
Platform: aarch64-apple-darwin20
R is free software and comes with ABSOLUTELY NO WARRANTY.
You are welcome to redistribute it under certain conditions.
Type 'license()' or 'licence()' for distribution details.
R is a collaborative project with many contributors.
Type 'contributors()' for more information and
'citation()' on how to cite R or R packages in publications.
Type 'demo()' for some demos, 'help()' for on-line help, or
'help.start()' for an HTML browser interface to help.
Type 'q()' to quit R.
> library(testthat)
> library(martini)
> library(igraph)
Attaching package: 'igraph'
The following object is masked from 'package:testthat':
compare
The following objects are masked from 'package:stats':
decompose, spectrum
The following object is masked from 'package:base':
union
>
> test_check("martini")
trying URL 'https://stringdb-downloads.org/download/protein.links.v11.5/9606.protein.links.v11.5.txt.gz'
Content type 'application/octet-stream' length 72718210 bytes (69.3 MB)
==================================================
downloaded 69.3 MB
[ FAIL 0 | WARN 4 | SKIP 4 | PASS 232 ]
══ Skipped tests (4) ═══════════════════════════════════════════════════════════
• On Bioconductor (3): 'test_connect_biomart.R:1:1', 'test_get_gxg.R:1:1',
'test_snp2ensembl.R:1:1'
• empty test (1): 'test_plot_ideogram.R:3:1'
[ FAIL 0 | WARN 4 | SKIP 4 | PASS 232 ]
>
> proc.time()
user system elapsed
92.126 3.469 102.398
martini.Rcheck/martini-Ex.timings
| name | user | system | elapsed | |
| check_installed | 0.000 | 0.000 | 0.001 | |
| get_GI_network | 0.052 | 0.004 | 0.058 | |
| get_GM_network | 0.019 | 0.002 | 0.020 | |
| get_GS_network | 0.007 | 0.000 | 0.008 | |
| get_grid | 0.003 | 0.000 | 0.003 | |
| get_gxg_biogrid | 0 | 0 | 0 | |
| get_gxg_string | 0 | 0 | 0 | |
| get_snp_modules | 0.000 | 0.001 | 0.001 | |
| is_coherent | 0.003 | 0.000 | 0.003 | |
| ldweight_edges | 0.121 | 0.007 | 0.132 | |
| mget_gxg_biogrid | 0 | 0 | 0 | |
| mget_gxg_string | 0 | 0 | 0 | |
| minigwas | 0.023 | 0.008 | 0.032 | |
| minippi | 0.002 | 0.002 | 0.004 | |
| minisnpMapping | 0.002 | 0.001 | 0.004 | |
| scones | 0.054 | 0.003 | 0.060 | |
| scones.cv | 0.177 | 0.005 | 0.187 | |
| scones.cv_ | 0.088 | 0.003 | 0.092 | |
| scones_ | 0.042 | 0.003 | 0.046 | |
| search_cones | 0.001 | 0.001 | 0.000 | |
| sigmod | 0.035 | 0.002 | 0.037 | |
| sigmod.cv | 0.140 | 0.004 | 0.147 | |
| sigmod.cv_ | 0.094 | 0.003 | 0.098 | |
| sigmod_ | 0.037 | 0.002 | 0.039 | |
| simulate_causal_snps | 0.037 | 0.002 | 0.040 | |
| simulate_phenotype | 0.049 | 0.005 | 0.055 | |
| subnet | 0.034 | 0.003 | 0.036 | |
| subvert | 0.029 | 0.002 | 0.030 | |