Back to Build/check report for BioC 3.22:   simplified   long
ABCDEFGHIJKL[M]NOPQRSTUVWXYZ

This page was generated on 2025-11-13 11:55 -0500 (Thu, 13 Nov 2025).

HostnameOSArch (*)R versionInstalled pkgs
taishanLinux (openEuler 24.03 LTS)aarch644.5.0 (2025-04-11) -- "How About a Twenty-Six" 4668
Click on any hostname to see more info about the system (e.g. compilers)      (*) as reported by 'uname -p', except on Windows and Mac OS X

Package 1189/2361HostnameOS / ArchINSTALLBUILDCHECKBUILD BIN
mariner 1.10.0  (landing page)
Eric Davis
Snapshot Date: 2025-11-12 13:45 -0500 (Wed, 12 Nov 2025)
git_url: https://git.bioconductor.org/packages/mariner
git_branch: RELEASE_3_22
git_last_commit: 0e27ac7
git_last_commit_date: 2025-10-29 11:23:11 -0500 (Wed, 29 Oct 2025)
taishanLinux (openEuler 24.03 LTS) / aarch64  OK    OK    OK  


CHECK results for mariner on taishan

To the developers/maintainers of the mariner package:
- Allow up to 24 hours (and sometimes 48 hours) for your latest push to git@git.bioconductor.org:packages/mariner.git to reflect on this report. See Troubleshooting Build Report for more information.
- Use the following Renviron settings to reproduce errors and warnings.
- If 'R CMD check' started to fail recently on the Linux builder(s) over a missing dependency, add the missing dependency to 'Suggests:' in your DESCRIPTION file. See Renviron.bioc for more information.
- See Martin Grigorov's blog post for how to debug Linux ARM64 related issues on a x86_64 host.

raw results


Summary

Package: mariner
Version: 1.10.0
Command: /home/biocbuild/R/R/bin/R CMD check --install=check:mariner.install-out.txt --library=/home/biocbuild/R/R/site-library --no-vignettes --timings mariner_1.10.0.tar.gz
StartedAt: 2025-11-11 11:19:56 -0000 (Tue, 11 Nov 2025)
EndedAt: 2025-11-11 11:43:26 -0000 (Tue, 11 Nov 2025)
EllapsedTime: 1409.8 seconds
RetCode: 0
Status:   OK  
CheckDir: mariner.Rcheck
Warnings: 0

Command output

##############################################################################
##############################################################################
###
### Running command:
###
###   /home/biocbuild/R/R/bin/R CMD check --install=check:mariner.install-out.txt --library=/home/biocbuild/R/R/site-library --no-vignettes --timings mariner_1.10.0.tar.gz
###
##############################################################################
##############################################################################


* using log directory ‘/home/biocbuild/bbs-3.22-bioc/meat/mariner.Rcheck’
* using R version 4.5.0 (2025-04-11)
* using platform: aarch64-unknown-linux-gnu
* R was compiled by
    aarch64-unknown-linux-gnu-gcc (GCC) 14.2.0
    GNU Fortran (GCC) 14.2.0
* running under: openEuler 24.03 (LTS)
* using session charset: UTF-8
* using option ‘--no-vignettes’
* checking for file ‘mariner/DESCRIPTION’ ... OK
* checking extension type ... Package
* this is package ‘mariner’ version ‘1.10.0’
* package encoding: UTF-8
* checking package namespace information ... OK
* checking package dependencies ... INFO
Imports includes 26 non-default packages.
Importing from so many packages makes the package vulnerable to any of
them becoming unavailable.  Move as many as possible to Suggests and
use conditionally.
* checking if this is a source package ... OK
* checking if there is a namespace ... OK
* checking for hidden files and directories ... OK
* checking for portable file names ... OK
* checking for sufficient/correct file permissions ... OK
* checking whether package ‘mariner’ can be installed ... OK
* checking installed package size ... OK
* checking package directory ... OK
* checking ‘build’ directory ... OK
* checking DESCRIPTION meta-information ... OK
* checking top-level files ... OK
* checking for left-over files ... OK
* checking index information ... OK
* checking package subdirectories ... OK
* checking code files for non-ASCII characters ... OK
* checking R files for syntax errors ... OK
* checking whether the package can be loaded ... OK
* checking whether the package can be loaded with stated dependencies ... OK
* checking whether the package can be unloaded cleanly ... OK
* checking whether the namespace can be loaded with stated dependencies ... OK
* checking whether the namespace can be unloaded cleanly ... OK
* checking loading without being on the library search path ... OK
* checking dependencies in R code ... NOTE
Unexported objects imported by ':::' calls:
  ‘plotgardener:::check_page’ ‘plotgardener:::convert_page’
  ‘plotgardener:::current_viewports’ ‘plotgardener:::defaultUnits’
  ‘plotgardener:::pgEnv’
  See the note in ?`:::` about the use of this operator.
* checking S3 generic/method consistency ... OK
* checking replacement functions ... OK
* checking foreign function calls ... OK
* checking R code for possible problems ... OK
* checking Rd files ... OK
* checking Rd metadata ... OK
* checking Rd cross-references ... OK
* checking for missing documentation entries ... OK
* checking for code/documentation mismatches ... OK
* checking Rd \usage sections ... OK
* checking Rd contents ... OK
* checking for unstated dependencies in examples ... OK
* checking files in ‘vignettes’ ... OK
* checking examples ... OK
Examples with CPU (user + system) or elapsed time > 5s
                                  user system elapsed
pileupDomains                   13.692  4.303  17.845
adjustEnrichment                12.954  0.961  27.125
calcLoopEnrichment               9.151  1.772  22.546
CountMatrix-class               10.189  0.530  25.204
pileupBoundaries                 9.460  1.098  13.764
pullHicMatrices                  7.381  0.896  16.207
aggHicMatrices                   6.399  1.380  19.428
changePixelRes                   6.334  1.049  17.552
aggMetadata                      6.080  0.850  17.998
selectPixel                      6.426  0.443  16.324
pileupPixels                     5.205  1.005  15.981
pullHicPixels                    5.168  0.407  30.730
counts                           4.389  0.315   7.681
MergedGInteractions-class        4.324  0.244  18.027
regularize                       4.156  0.298  11.952
InteractionJaggedArray-overlaps  4.133  0.195  14.819
clusters                         3.717  0.345   7.961
path                             3.759  0.212   9.469
selectionMethod                  3.525  0.248  13.101
sources                          3.540  0.231  12.272
JaggedArray-class                3.475  0.143   9.765
mergePairs                       3.393  0.175   8.428
InteractionJaggedArray-class     3.330  0.166  15.631
* checking for unstated dependencies in ‘tests’ ... OK
* checking tests ...
  Running ‘testthat.R’
 OK
* checking for unstated dependencies in vignettes ... OK
* checking package vignettes ... OK
* checking running R code from vignettes ... SKIPPED
* checking re-building of vignette outputs ... SKIPPED
* checking PDF version of manual ... OK
* DONE

Status: 1 NOTE
See
  ‘/home/biocbuild/bbs-3.22-bioc/meat/mariner.Rcheck/00check.log’
for details.


Installation output

mariner.Rcheck/00install.out

##############################################################################
##############################################################################
###
### Running command:
###
###   /home/biocbuild/R/R/bin/R CMD INSTALL mariner
###
##############################################################################
##############################################################################


* installing to library ‘/home/biocbuild/R/R-4.5.0/site-library’
* installing *source* package ‘mariner’ ...
** this is package ‘mariner’ version ‘1.10.0’
** using staged installation
** R
** inst
** byte-compile and prepare package for lazy loading
** help
*** installing help indices
*** copying figures
** building package indices
** installing vignettes
** testing if installed package can be loaded from temporary location
** testing if installed package can be loaded from final location
** testing if installed package keeps a record of temporary installation path
* DONE (mariner)

Tests output

mariner.Rcheck/tests/testthat.Rout


R version 4.5.0 (2025-04-11) -- "How About a Twenty-Six"
Copyright (C) 2025 The R Foundation for Statistical Computing
Platform: aarch64-unknown-linux-gnu

R is free software and comes with ABSOLUTELY NO WARRANTY.
You are welcome to redistribute it under certain conditions.
Type 'license()' or 'licence()' for distribution details.

R is a collaborative project with many contributors.
Type 'contributors()' for more information and
'citation()' on how to cite R or R packages in publications.

Type 'demo()' for some demos, 'help()' for on-line help, or
'help.start()' for an HTML browser interface to help.
Type 'q()' to quit R.

> library(testthat)
> library(mariner)
> 
> test_check("mariner")
see ?marinerData and browseVignettes('marinerData') for documentation
loading from cache
see ?marinerData and browseVignettes('marinerData') for documentation
loading from cache
see ?marinerData and browseVignettes('marinerData') for documentation
loading from cache
see ?marinerData and browseVignettes('marinerData') for documentation
loading from cache
see ?marinerData and browseVignettes('marinerData') for documentation
loading from cache
see ?marinerData and browseVignettes('marinerData') for documentation
loading from cache
see ?marinerData and browseVignettes('marinerData') for documentation
loading from cache
class: InteractionMatrix 
dim: count matrix with 3 interactions and 2 file(s)
metadata(3): binSize norm matrix
assays(1): counts
rownames: NULL
rowData names(0):
colnames(2): FS WT
colData names(2): files fileNames
type: GInteractions
regions: 4
class: InteractionMatrix 
dim: count matrix with 3 interactions and 2 file(s)
metadata(3): binSize norm matrix
assays(1): counts
rownames: NULL
rowData names(0):
colnames(2): FS WT
colData names(2): files fileNames
type: GInteractions
regions: 4
class: InteractionMatrix 
dim: count matrix with 3 interactions and 2 file(s)
metadata(3): binSize norm matrix
assays(1): counts
rownames: NULL
rowData names(0):
colnames(2): FS WT
colData names(2): files fileNames
type: GInteractions
regions: 4
see ?marinerData and browseVignettes('marinerData') for documentation
loading from cache
see ?marinerData and browseVignettes('marinerData') for documentation
loading from cache
Loading required package: stats4
Loading required package: BiocGenerics
Loading required package: generics

Attaching package: 'generics'

The following objects are masked from 'package:base':

    as.difftime, as.factor, as.ordered, intersect, is.element, setdiff,
    setequal, union


Attaching package: 'BiocGenerics'

The following objects are masked from 'package:stats':

    IQR, mad, sd, var, xtabs

The following objects are masked from 'package:base':

    Filter, Find, Map, Position, Reduce, anyDuplicated, aperm, append,
    as.data.frame, basename, cbind, colnames, dirname, do.call,
    duplicated, eval, evalq, get, grep, grepl, is.unsorted, lapply,
    mapply, match, mget, order, paste, pmax, pmax.int, pmin, pmin.int,
    rank, rbind, rownames, sapply, saveRDS, table, tapply, unique,
    unsplit, which.max, which.min

Loading required package: S4Vectors

Attaching package: 'S4Vectors'

The following object is masked from 'package:utils':

    findMatches

The following objects are masked from 'package:base':

    I, expand.grid, unname

Loading required package: IRanges
Loading required package: Seqinfo
Loading required package: SummarizedExperiment
Loading required package: MatrixGenerics
Loading required package: matrixStats

Attaching package: 'MatrixGenerics'

The following objects are masked from 'package:matrixStats':

    colAlls, colAnyNAs, colAnys, colAvgsPerRowSet, colCollapse,
    colCounts, colCummaxs, colCummins, colCumprods, colCumsums,
    colDiffs, colIQRDiffs, colIQRs, colLogSumExps, colMadDiffs,
    colMads, colMaxs, colMeans2, colMedians, colMins, colOrderStats,
    colProds, colQuantiles, colRanges, colRanks, colSdDiffs, colSds,
    colSums2, colTabulates, colVarDiffs, colVars, colWeightedMads,
    colWeightedMeans, colWeightedMedians, colWeightedSds,
    colWeightedVars, rowAlls, rowAnyNAs, rowAnys, rowAvgsPerColSet,
    rowCollapse, rowCounts, rowCummaxs, rowCummins, rowCumprods,
    rowCumsums, rowDiffs, rowIQRDiffs, rowIQRs, rowLogSumExps,
    rowMadDiffs, rowMads, rowMaxs, rowMeans2, rowMedians, rowMins,
    rowOrderStats, rowProds, rowQuantiles, rowRanges, rowRanks,
    rowSdDiffs, rowSds, rowSums2, rowTabulates, rowVarDiffs, rowVars,
    rowWeightedMads, rowWeightedMeans, rowWeightedMedians,
    rowWeightedSds, rowWeightedVars

Loading required package: Biobase
Welcome to Bioconductor

    Vignettes contain introductory material; view with
    'browseVignettes()'. To cite Bioconductor, see
    'citation("Biobase")', and for packages 'citation("pkgname")'.


Attaching package: 'Biobase'

The following object is masked from 'package:MatrixGenerics':

    rowMedians

The following objects are masked from 'package:matrixStats':

    anyMissing, rowMedians


Attaching package: 'data.table'

The following object is masked from 'package:SummarizedExperiment':

    shift

The following object is masked from 'package:GenomicRanges':

    shift

The following object is masked from 'package:IRanges':

    shift

The following objects are masked from 'package:S4Vectors':

    first, second

see ?marinerData and browseVignettes('marinerData') for documentation
loading from cache
see ?marinerData and browseVignettes('marinerData') for documentation
loading from cache
see ?marinerData and browseVignettes('marinerData') for documentation
loading from cache
see ?marinerData and browseVignettes('marinerData') for documentation
loading from cache
see ?marinerData and browseVignettes('marinerData') for documentation
loading from cache
see ?marinerData and browseVignettes('marinerData') for documentation
loading from cache
see ?marinerData and browseVignettes('marinerData') for documentation
Error while performing HEAD request.
   Proceeding without cache information.
loading from cache
see ?marinerData and browseVignettes('marinerData') for documentation
loading from cache
see ?marinerData and browseVignettes('marinerData') for documentation
loading from cache
see ?marinerData and browseVignettes('marinerData') for documentation
loading from cache
see ?marinerData and browseVignettes('marinerData') for documentation
loading from cache
see ?marinerData and browseVignettes('marinerData') for documentation
loading from cache
see ?marinerData and browseVignettes('marinerData') for documentation
loading from cache
'0' = foreground;
'X' = background;
'*' = both;
'-' = unselected
                                 
 X  X  X  X  -  -  -  -  -  -  - 
 X  X  X  X  -  -  -  -  -  -  - 
 X  X  X  X  -  -  -  -  -  -  - 
 X  X  X  X  -  -  -  -  -  -  - 
 -  -  -  -  -  0  -  -  -  -  - 
 -  -  -  -  0  0  0  -  -  -  - 
 -  -  -  -  -  0  -  -  -  -  - 
 -  -  -  -  -  -  -  X  X  X  X 
 -  -  -  -  -  -  -  X  X  X  X 
 -  -  -  -  -  -  -  X  X  X  X 
 -  -  -  -  -  -  -  X  X  X  X 
/ reading and realizing block 5/5 ... ok
\ processing it ... ok

/ reading and realizing block 1/5 ... ok
\ processing it ... ok
/ reading and realizing block 2/5 ... ok
\ processing it ... ok

/ reading and realizing block 3/5 ... ok
\ processing it ... ok
/ reading and realizing block 4/5 ... ok
\ processing it ... ok

see ?marinerData and browseVignettes('marinerData') for documentation
loading from cache
see ?marinerData and browseVignettes('marinerData') for documentation
loading from cache
see ?marinerData and browseVignettes('marinerData') for documentation
loading from cache
see ?marinerData and browseVignettes('marinerData') for documentation
loading from cache
see ?marinerData and browseVignettes('marinerData') for documentation
loading from cache
see ?marinerData and browseVignettes('marinerData') for documentation
loading from cache
see ?marinerData and browseVignettes('marinerData') for documentation
loading from cache
see ?marinerData and browseVignettes('marinerData') for documentation
loading from cache
see ?marinerData and browseVignettes('marinerData') for documentation
loading from cache
'0' = selected; '- ' = unselected
         
 0  0  0 
 -  -  - 
 0  0  0 
'0' = selected; '- ' = unselected
         
 -  -  - 
 0  0  0 
 -  -  - 
'0' = selected; '- ' = unselected
                           
 -  -  -  -  -  -  -  -  - 
 -  -  -  -  -  -  -  -  - 
 -  0  -  0  -  0  0  0  - 
 -  0  -  0  -  -  0  -  - 
 -  0  0  0  -  -  0  -  - 
 -  0  -  0  -  -  0  -  - 
 -  0  -  0  -  0  0  0  - 
 -  -  -  -  -  -  -  -  - 
 -  -  -  -  -  -  -  -  - 
'0' = selected; '- ' = unselected
                           
 0  0  0  0  0  0  0  0  0 
 0  0  0  0  0  0  0  0  0 
 0  -  0  -  0  -  -  -  0 
 0  -  0  -  0  0  -  0  0 
 0  -  -  -  0  0  -  0  0 
 0  -  0  -  0  0  -  0  0 
 0  -  0  -  0  -  -  -  0 
 0  0  0  0  0  0  0  0  0 
 0  0  0  0  0  0  0  0  0 
'0' = foreground;
'X' = background;
'*' = both;
'-' = unselected
                     
 X  X  X  X  X  X  X 
 X  X  X  X  X  X  X 
 X  X  X  0  X  X  X 
 X  X  0  0  0  X  X 
 X  X  X  0  X  X  X 
 X  X  X  X  X  X  X 
 X  X  X  X  X  X  X 
'0' = foreground;
'X' = background;
'*' = both;
'-' = unselected
                                 
 X  X  X  X  -  -  -  -  -  -  - 
 X  X  X  X  -  -  -  -  -  -  - 
 X  X  X  X  -  -  -  -  -  -  - 
 X  X  X  X  -  -  -  -  -  -  - 
 -  -  -  -  -  0  -  -  -  -  - 
 -  -  -  -  0  0  0  -  -  -  - 
 -  -  -  -  -  0  -  -  -  -  - 
 -  -  -  -  -  -  -  X  X  X  X 
 -  -  -  -  -  -  -  X  X  X  X 
 -  -  -  -  -  -  -  X  X  X  X 
 -  -  -  -  -  -  -  X  X  X  X 
/ reading and realizing block 1/5 ... ok
\ processing it ... ok
/ reading and realizing block 2/5 ... ok
\ processing it ... ok

/ reading and realizing block 3/5 ... ok
\ processing it ... ok
/ reading and realizing block 4/5 ... ok
\ processing it ... ok

/ reading and realizing block 5/5 ... ok
\ processing it ... ok

'0' = foreground;
'X' = background;
'*' = both;
'-' = unselected
                                                               
 X  X  X  X  -  -  -  -  -  -  -  -  -  -  -  -  -  -  -  -  - 
 X  X  X  X  -  -  -  -  -  -  -  -  -  -  -  -  -  -  -  -  - 
 X  X  X  X  -  -  -  -  -  -  -  -  -  -  -  -  -  -  -  -  - 
 X  X  X  X  -  -  -  -  -  -  -  -  -  -  -  -  -  -  -  -  - 
 -  -  -  -  -  -  -  -  -  -  -  -  -  -  -  -  -  -  -  -  - 
 -  -  -  -  -  -  -  -  -  -  -  -  -  -  -  -  -  -  -  -  - 
 -  -  -  -  -  -  -  -  -  -  -  -  -  -  -  -  -  -  -  -  - 
 -  -  -  -  -  -  -  -  -  -  -  -  -  -  -  -  -  -  -  -  - 
 -  -  -  -  -  -  -  -  -  -  -  -  -  -  -  -  -  -  -  -  - 
 -  -  -  -  -  -  -  -  -  -  0  -  -  -  -  -  -  -  -  -  - 
 -  -  -  -  -  -  -  -  -  0  0  0  -  -  -  -  -  -  -  -  - 
 -  -  -  -  -  -  -  -  -  -  0  -  -  -  -  -  -  -  -  -  - 
 -  -  -  -  -  -  -  -  -  -  -  -  -  -  -  -  -  -  -  -  - 
 -  -  -  -  -  -  -  -  -  -  -  -  -  -  -  -  -  -  -  -  - 
 -  -  -  -  -  -  -  -  -  -  -  -  -  -  -  -  -  -  -  -  - 
 -  -  -  -  -  -  -  -  -  -  -  -  -  -  -  -  -  -  -  -  - 
 -  -  -  -  -  -  -  -  -  -  -  -  -  -  -  -  -  -  -  -  - 
 -  -  -  -  -  -  -  -  -  -  -  -  -  -  -  -  -  X  X  X  X 
 -  -  -  -  -  -  -  -  -  -  -  -  -  -  -  -  -  X  X  X  X 
 -  -  -  -  -  -  -  -  -  -  -  -  -  -  -  -  -  X  X  X  X 
 -  -  -  -  -  -  -  -  -  -  -  -  -  -  -  -  -  X  X  X  X 
/ reading and realizing block 1/5 ... ok
\ processing it ... ok
/ reading and realizing block 2/5 ... ok
\ processing it ... ok

/ reading and realizing block 3/5 ... ok
\ processing it ... ok
/ reading and realizing block 4/5 ... ok
\ processing it ... ok

/ reading and realizing block 5/5 ... ok
\ processing it ... ok

'0' = foreground;
'X' = background;
'*' = both;
'-' = unselected
                                                               
 X  X  X  X  -  -  -  -  -  -  -  -  -  -  -  -  -  -  -  -  - 
 X  X  X  X  -  -  -  -  -  -  -  -  -  -  -  -  -  -  -  -  - 
 X  X  X  X  -  -  -  -  -  -  -  -  -  -  -  -  -  -  -  -  - 
 X  X  X  X  -  -  -  -  -  -  -  -  -  -  -  -  -  -  -  -  - 
 -  -  -  -  -  -  -  -  -  -  -  -  -  -  -  -  -  -  -  -  - 
 -  -  -  -  -  -  -  -  -  -  -  -  -  -  -  -  -  -  -  -  - 
 -  -  -  -  -  -  -  -  -  -  -  -  -  -  -  -  -  -  -  -  - 
 -  -  -  -  -  -  -  -  -  -  -  -  -  -  -  -  -  -  -  -  - 
 -  -  -  -  -  -  -  -  -  -  -  -  -  -  -  -  -  -  -  -  - 
 -  -  -  -  -  -  -  -  -  -  0  -  -  -  -  -  -  -  -  -  - 
 -  -  -  -  -  -  -  -  -  0  0  0  -  -  -  -  -  -  -  -  - 
 -  -  -  -  -  -  -  -  -  -  0  -  -  -  -  -  -  -  -  -  - 
 -  -  -  -  -  -  -  -  -  -  -  -  -  -  -  -  -  -  -  -  - 
 -  -  -  -  -  -  -  -  -  -  -  -  -  -  -  -  -  -  -  -  - 
 -  -  -  -  -  -  -  -  -  -  -  -  -  -  -  -  -  -  -  -  - 
 -  -  -  -  -  -  -  -  -  -  -  -  -  -  -  -  -  -  -  -  - 
 -  -  -  -  -  -  -  -  -  -  -  -  -  -  -  -  -  -  -  -  - 
 -  -  -  -  -  -  -  -  -  -  -  -  -  -  -  -  -  X  X  X  X 
 -  -  -  -  -  -  -  -  -  -  -  -  -  -  -  -  -  X  X  X  X 
 -  -  -  -  -  -  -  -  -  -  -  -  -  -  -  -  -  X  X  X  X 
 -  -  -  -  -  -  -  -  -  -  -  -  -  -  -  -  -  X  X  X  X 
/ reading and realizing block 1/5 ... ok
\ processing it ... ok
/ reading and realizing block 2/5 ... ok
\ processing it ... ok

/ reading and realizing block 3/5 ... ok
\ processing it ... ok
/ reading and realizing block 4/5 ... ok
\ processing it ... ok

/ reading and realizing block 5/5 ... ok
\ processing it ... ok

'0' = foreground;
'X' = background;
'*' = both;
'-' = unselected
                                                               
 X  X  X  X  -  -  -  -  -  -  -  -  -  -  -  -  -  -  -  -  - 
 X  X  X  X  -  -  -  -  -  -  -  -  -  -  -  -  -  -  -  -  - 
 X  X  X  X  -  -  -  -  -  -  -  -  -  -  -  -  -  -  -  -  - 
 X  X  X  X  -  -  -  -  -  -  -  -  -  -  -  -  -  -  -  -  - 
 -  -  -  -  -  -  -  -  -  -  -  -  -  -  -  -  -  -  -  -  - 
 -  -  -  -  -  -  -  -  -  -  -  -  -  -  -  -  -  -  -  -  - 
 -  -  -  -  -  -  -  -  -  -  -  -  -  -  -  -  -  -  -  -  - 
 -  -  -  -  -  -  -  -  -  -  -  -  -  -  -  -  -  -  -  -  - 
 -  -  -  -  -  -  -  -  -  -  -  -  -  -  -  -  -  -  -  -  - 
 -  -  -  -  -  -  -  -  -  -  0  -  -  -  -  -  -  -  -  -  - 
 -  -  -  -  -  -  -  -  -  0  0  0  -  -  -  -  -  -  -  -  - 
 -  -  -  -  -  -  -  -  -  -  0  -  -  -  -  -  -  -  -  -  - 
 -  -  -  -  -  -  -  -  -  -  -  -  -  -  -  -  -  -  -  -  - 
 -  -  -  -  -  -  -  -  -  -  -  -  -  -  -  -  -  -  -  -  - 
 -  -  -  -  -  -  -  -  -  -  -  -  -  -  -  -  -  -  -  -  - 
 -  -  -  -  -  -  -  -  -  -  -  -  -  -  -  -  -  -  -  -  - 
 -  -  -  -  -  -  -  -  -  -  -  -  -  -  -  -  -  -  -  -  - 
 -  -  -  -  -  -  -  -  -  -  -  -  -  -  -  -  -  X  X  X  X 
 -  -  -  -  -  -  -  -  -  -  -  -  -  -  -  -  -  X  X  X  X 
 -  -  -  -  -  -  -  -  -  -  -  -  -  -  -  -  -  X  X  X  X 
 -  -  -  -  -  -  -  -  -  -  -  -  -  -  -  -  -  X  X  X  X 
/ reading and realizing block 5/5 ... ok
\ processing it ... ok

/ reading and realizing block 1/5 ... ok
\ processing it ... ok
/ reading and realizing block 2/5 ... ok
\ processing it ... ok

/ reading and realizing block 3/5 ... ok
\ processing it ... ok
/ reading and realizing block 4/5 ... ok
\ processing it ... ok

'0' = foreground;
'X' = background;
'*' = both;
'-' = unselected
                                                               
 X  X  X  X  -  -  -  -  -  -  -  -  -  -  -  -  -  -  -  -  - 
 X  X  X  X  -  -  -  -  -  -  -  -  -  -  -  -  -  -  -  -  - 
 X  X  X  X  -  -  -  -  -  -  -  -  -  -  -  -  -  -  -  -  - 
 X  X  X  X  -  -  -  -  -  -  -  -  -  -  -  -  -  -  -  -  - 
 -  -  -  -  -  -  -  -  -  -  -  -  -  -  -  -  -  -  -  -  - 
 -  -  -  -  -  -  -  -  -  -  -  -  -  -  -  -  -  -  -  -  - 
 -  -  -  -  -  -  -  -  -  -  -  -  -  -  -  -  -  -  -  -  - 
 -  -  -  -  -  -  -  -  -  -  -  -  -  -  -  -  -  -  -  -  - 
 -  -  -  -  -  -  -  -  -  -  -  -  -  -  -  -  -  -  -  -  - 
 -  -  -  -  -  -  -  -  -  -  0  -  -  -  -  -  -  -  -  -  - 
 -  -  -  -  -  -  -  -  -  0  0  0  -  -  -  -  -  -  -  -  - 
 -  -  -  -  -  -  -  -  -  -  0  -  -  -  -  -  -  -  -  -  - 
 -  -  -  -  -  -  -  -  -  -  -  -  -  -  -  -  -  -  -  -  - 
 -  -  -  -  -  -  -  -  -  -  -  -  -  -  -  -  -  -  -  -  - 
 -  -  -  -  -  -  -  -  -  -  -  -  -  -  -  -  -  -  -  -  - 
 -  -  -  -  -  -  -  -  -  -  -  -  -  -  -  -  -  -  -  -  - 
 -  -  -  -  -  -  -  -  -  -  -  -  -  -  -  -  -  -  -  -  - 
 -  -  -  -  -  -  -  -  -  -  -  -  -  -  -  -  -  X  X  X  X 
 -  -  -  -  -  -  -  -  -  -  -  -  -  -  -  -  -  X  X  X  X 
 -  -  -  -  -  -  -  -  -  -  -  -  -  -  -  -  -  X  X  X  X 
 -  -  -  -  -  -  -  -  -  -  -  -  -  -  -  -  -  X  X  X  X 
/ reading and realizing block 1/5 ... ok
\ processing it ... ok
/ reading and realizing block 2/5 ... ok
\ processing it ... ok

/ reading and realizing block 5/5 ... ok
\ processing it ... ok

/ reading and realizing block 3/5 ... ok
\ processing it ... ok
/ reading and realizing block 4/5 ... ok
\ processing it ... ok

'0' = foreground;
'X' = background;
'*' = both;
'-' = unselected
                                                               
 X  X  X  X  -  -  -  -  -  -  -  -  -  -  -  -  -  -  -  -  - 
 X  X  X  X  -  -  -  -  -  -  -  -  -  -  -  -  -  -  -  -  - 
 X  X  X  X  -  -  -  -  -  -  -  -  -  -  -  -  -  -  -  -  - 
 X  X  X  X  -  -  -  -  -  -  -  -  -  -  -  -  -  -  -  -  - 
 -  -  -  -  -  -  -  -  -  -  -  -  -  -  -  -  -  -  -  -  - 
 -  -  -  -  -  -  -  -  -  -  -  -  -  -  -  -  -  -  -  -  - 
 -  -  -  -  -  -  -  -  -  -  -  -  -  -  -  -  -  -  -  -  - 
 -  -  -  -  -  -  -  -  -  -  -  -  -  -  -  -  -  -  -  -  - 
 -  -  -  -  -  -  -  -  -  -  -  -  -  -  -  -  -  -  -  -  - 
 -  -  -  -  -  -  -  -  -  -  0  -  -  -  -  -  -  -  -  -  - 
 -  -  -  -  -  -  -  -  -  0  0  0  -  -  -  -  -  -  -  -  - 
 -  -  -  -  -  -  -  -  -  -  0  -  -  -  -  -  -  -  -  -  - 
 -  -  -  -  -  -  -  -  -  -  -  -  -  -  -  -  -  -  -  -  - 
 -  -  -  -  -  -  -  -  -  -  -  -  -  -  -  -  -  -  -  -  - 
 -  -  -  -  -  -  -  -  -  -  -  -  -  -  -  -  -  -  -  -  - 
 -  -  -  -  -  -  -  -  -  -  -  -  -  -  -  -  -  -  -  -  - 
 -  -  -  -  -  -  -  -  -  -  -  -  -  -  -  -  -  -  -  -  - 
 -  -  -  -  -  -  -  -  -  -  -  -  -  -  -  -  -  X  X  X  X 
 -  -  -  -  -  -  -  -  -  -  -  -  -  -  -  -  -  X  X  X  X 
 -  -  -  -  -  -  -  -  -  -  -  -  -  -  -  -  -  X  X  X  X 
 -  -  -  -  -  -  -  -  -  -  -  -  -  -  -  -  -  X  X  X  X 
/ reading and realizing block 1/5 ... ok
\ processing it ... ok
/ reading and realizing block 2/5 ... ok
\ processing it ... ok

/ reading and realizing block 3/5 ... ok
\ processing it ... ok
/ reading and realizing block 4/5 ... ok
\ processing it ... ok

/ reading and realizing block 5/5 ... ok
\ processing it ... ok

'0' = foreground;
'X' = background;
'*' = both;
'-' = unselected
                                                               
 X  X  X  X  -  -  -  -  -  -  -  -  -  -  -  -  -  -  -  -  - 
 X  X  X  X  -  -  -  -  -  -  -  -  -  -  -  -  -  -  -  -  - 
 X  X  X  X  -  -  -  -  -  -  -  -  -  -  -  -  -  -  -  -  - 
 X  X  X  X  -  -  -  -  -  -  -  -  -  -  -  -  -  -  -  -  - 
 -  -  -  -  -  -  -  -  -  -  -  -  -  -  -  -  -  -  -  -  - 
 -  -  -  -  -  -  -  -  -  -  -  -  -  -  -  -  -  -  -  -  - 
 -  -  -  -  -  -  -  -  -  -  -  -  -  -  -  -  -  -  -  -  - 
 -  -  -  -  -  -  -  -  -  -  -  -  -  -  -  -  -  -  -  -  - 
 -  -  -  -  -  -  -  -  -  -  -  -  -  -  -  -  -  -  -  -  - 
 -  -  -  -  -  -  -  -  -  -  0  -  -  -  -  -  -  -  -  -  - 
 -  -  -  -  -  -  -  -  -  0  0  0  -  -  -  -  -  -  -  -  - 
 -  -  -  -  -  -  -  -  -  -  0  -  -  -  -  -  -  -  -  -  - 
 -  -  -  -  -  -  -  -  -  -  -  -  -  -  -  -  -  -  -  -  - 
 -  -  -  -  -  -  -  -  -  -  -  -  -  -  -  -  -  -  -  -  - 
 -  -  -  -  -  -  -  -  -  -  -  -  -  -  -  -  -  -  -  -  - 
 -  -  -  -  -  -  -  -  -  -  -  -  -  -  -  -  -  -  -  -  - 
 -  -  -  -  -  -  -  -  -  -  -  -  -  -  -  -  -  -  -  -  - 
 -  -  -  -  -  -  -  -  -  -  -  -  -  -  -  -  -  X  X  X  X 
 -  -  -  -  -  -  -  -  -  -  -  -  -  -  -  -  -  X  X  X  X 
 -  -  -  -  -  -  -  -  -  -  -  -  -  -  -  -  -  X  X  X  X 
 -  -  -  -  -  -  -  -  -  -  -  -  -  -  -  -  -  X  X  X  X 
/ reading and realizing block 1/5 ... ok
\ processing it ... ok
/ reading and realizing block 2/5 ... ok
\ processing it ... ok

/ reading and realizing block 3/5 ... ok
\ processing it ... ok
/ reading and realizing block 4/5 ... ok
\ processing it ... ok

/ reading and realizing block 5/5 ... ok
\ processing it ... ok

'0' = foreground;
'X' = background;
'*' = both;
'-' = unselected
                                 
 X  X  X  X  -  -  -  -  -  -  - 
 X  X  X  X  -  -  -  -  -  -  - 
 X  X  X  X  -  -  -  -  -  -  - 
 X  X  X  X  -  -  -  -  -  -  - 
 -  -  -  -  -  0  -  -  -  -  - 
 -  -  -  -  0  0  0  -  -  -  - 
 -  -  -  -  -  0  -  -  -  -  - 
 -  -  -  -  -  -  -  X  X  X  X 
 -  -  -  -  -  -  -  X  X  X  X 
 -  -  -  -  -  -  -  X  X  X  X 
 -  -  -  -  -  -  -  X  X  X  X 
/ reading and realizing block 1/5 ... ok
\ processing it ... ok
/ reading and realizing block 2/5 ... ok
\ processing it ... ok

/ reading and realizing block 3/5 ... ok
\ processing it ... ok
/ reading and realizing block 4/5 ... ok
\ processing it ... ok

/ reading and realizing block 5/5 ... ok
\ processing it ... ok

'0' = foreground;
'X' = background;
'*' = both;
'-' = unselected
                                 
 X  X  X  X  -  -  -  -  -  -  - 
 X  X  X  X  -  -  -  -  -  -  - 
 X  X  X  X  -  -  -  -  -  -  - 
 X  X  X  X  -  -  -  -  -  -  - 
 -  -  -  -  -  0  -  -  -  -  - 
 -  -  -  -  0  0  0  -  -  -  - 
 -  -  -  -  -  0  -  -  -  -  - 
 -  -  -  -  -  -  -  X  X  X  X 
 -  -  -  -  -  -  -  X  X  X  X 
 -  -  -  -  -  -  -  X  X  X  X 
 -  -  -  -  -  -  -  X  X  X  X 
/ reading and realizing block 1/5 ... ok
\ processing it ... ok
/ reading and realizing block 2/5 ... ok
\ processing it ... ok

/ reading and realizing block 3/5 ... ok
\ processing it ... ok
/ reading and realizing block 4/5 ... ok
\ processing it ... ok

/ reading and realizing block 5/5 ... ok
\ processing it ... ok

'0' = foreground;
'X' = background;
'*' = both;
'-' = unselected
                                 
 X  X  X  X  -  -  -  -  -  -  - 
 X  X  X  X  -  -  -  -  -  -  - 
 X  X  X  X  -  -  -  -  -  -  - 
 X  X  X  X  -  -  -  -  -  -  - 
 -  -  -  -  -  0  -  -  -  -  - 
 -  -  -  -  0  0  0  -  -  -  - 
 -  -  -  -  -  0  -  -  -  -  - 
 -  -  -  -  -  -  -  X  X  X  X 
 -  -  -  -  -  -  -  X  X  X  X 
 -  -  -  -  -  -  -  X  X  X  X 
 -  -  -  -  -  -  -  X  X  X  X 
/ reading and realizing block 1/5 ... ok
\ processing it ... ok
/ reading and realizing block 2/5 ... ok
\ processing it ... ok

/ reading and realizing block 3/5 ... ok
\ processing it ... ok
/ reading and realizing block 4/5 ... ok
\ processing it ... ok

/ reading and realizing block 5/5 ... ok
\ processing it ... ok

see ?marinerData and browseVignettes('marinerData') for documentation
loading from cache
see ?marinerData and browseVignettes('marinerData') for documentation
loading from cache
see ?marinerData and browseVignettes('marinerData') for documentation
loading from cache
/ Reading and realizing block 1/5 ... OK
\ Processing it ... OK
/ Reading and realizing block 2/5 ... OK
\ Processing it ... OK
/ Reading and realizing block 3/5 ... OK
\ Processing it ... OK
/ Reading and realizing block 4/5 ... OK
\ Processing it ... OK
/ Reading and realizing block 5/5 ... OK
\ Processing it ... OK
/ Reading and realizing block 1/5 ... OK
\ Processing it ... OK
/ Reading and realizing block 2/5 ... OK
\ Processing it ... OK
/ Reading and realizing block 3/5 ... OK
\ Processing it ... OK
/ Reading and realizing block 4/5 ... OK
\ Processing it ... OK
/ Reading and realizing block 5/5 ... OK
\ Processing it ... OK
Loading required package: Matrix

Attaching package: 'Matrix'

The following object is masked from 'package:S4Vectors':

    expand

Loading required package: S4Arrays
Loading required package: abind

Attaching package: 'S4Arrays'

The following object is masked from 'package:abind':

    abind

The following object is masked from 'package:base':

    rowsum

Loading required package: SparseArray

Attaching package: 'DelayedArray'

The following objects are masked from 'package:base':

    apply, scale, sweep

/ Reading and realizing block 1/10 ... OK
\ Processing it ... OK
/ Reading and realizing block 2/10 ... OK
\ Processing it ... OK
/ Reading and realizing block 3/10 ... OK
\ Processing it ... OK
/ Reading and realizing block 4/10 ... OK
\ Processing it ... OK
/ Reading and realizing block 5/10 ... OK
\ Processing it ... OK
/ Reading and realizing block 6/10 ... OK
\ Processing it ... OK
/ Reading and realizing block 7/10 ... OK
\ Processing it ... OK
/ Reading and realizing block 8/10 ... OK
\ Processing it ... OK
/ Reading and realizing block 9/10 ... OK
\ Processing it ... OK
/ Reading and realizing block 10/10 ... OK
\ Processing it ... OK
Loading required package: GenomicFeatures
Loading required package: AnnotationDbi
see ?marinerData and browseVignettes('marinerData') for documentation
loading from cache
see ?marinerData and browseVignettes('marinerData') for documentation
loading from cache
see ?marinerData and browseVignettes('marinerData') for documentation
loading from cache
see ?marinerData and browseVignettes('marinerData') for documentation
loading from cache
see ?marinerData and browseVignettes('marinerData') for documentation
loading from cache
see ?marinerData and browseVignettes('marinerData') for documentation
loading from cache
see ?marinerData and browseVignettes('marinerData') for documentation
loading from cache
see ?marinerData and browseVignettes('marinerData') for documentation
loading from cache
see ?marinerData and browseVignettes('marinerData') for documentation
loading from cache
/ reading and realizing block 1/5 ... ok
\ processing it ... ok
/ reading and realizing block 2/5 ... ok
\ processing it ... ok

/ reading and realizing block 3/5 ... ok
\ processing it ... ok
/ reading and realizing block 4/5 ... ok
\ processing it ... ok

/ reading and realizing block 5/5 ... ok
\ processing it ... ok

/ reading and realizing block 1/5 ... ok
\ processing it ... ok
/ reading and realizing block 2/5 ... ok
\ processing it ... ok

/ reading and realizing block 3/5 ... ok
\ processing it ... ok
/ reading and realizing block 4/5 ... ok
\ processing it ... ok

/ reading and realizing block 5/5 ... ok
\ processing it ... ok

/ reading and realizing block 1/5 ... ok
\ processing it ... ok
/ reading and realizing block 2/5 ... ok
\ processing it ... ok

/ reading and realizing block 3/5 ... ok
\ processing it ... ok
/ reading and realizing block 4/5 ... ok
\ processing it ... ok

/ reading and realizing block 5/5 ... ok
\ processing it ... ok


Attaching package: 'plotgardener'

The following object is masked from 'package:base':

    c

MatrixPlot[MatrixPlot1]
MatrixPlot[MatrixPlot1]
MatrixPlot[MatrixPlot1]
MatrixPlot[MatrixPlot1]
MatrixPlot[MatrixPlot1]
see ?marinerData and browseVignettes('marinerData') for documentation
loading from cache
see ?marinerData and browseVignettes('marinerData') for documentation
loading from cache
see ?marinerData and browseVignettes('marinerData') for documentation
loading from cache
see ?marinerData and browseVignettes('marinerData') for documentation
loading from cache
see ?marinerData and browseVignettes('marinerData') for documentation
loading from cache
see ?marinerData and browseVignettes('marinerData') for documentation
loading from cache
/ Reading and realizing block 1/5 of file 1/2 ... OK
\ Processing it ... OK
/ Reading and realizing block 2/5 of file 1/2 ... OK
\ Processing it ... OK
/ Reading and realizing block 3/5 of file 1/2 ... OK
\ Processing it ... OK
/ Reading and realizing block 4/5 of file 1/2 ... OK
\ Processing it ... OK
/ Reading and realizing block 5/5 of file 1/2 ... OK
\ Processing it ... OK
/ Reading and realizing block 1/5 of file 2/2 ... OK
\ Processing it ... OK
/ Reading and realizing block 2/5 of file 2/2 ... OK
\ Processing it ... OK
/ Reading and realizing block 3/5 of file 2/2 ... OK
\ Processing it ... OK
/ Reading and realizing block 4/5 of file 2/2 ... OK
\ Processing it ... OK
/ Reading and realizing block 5/5 of file 2/2 ... OK
\ Processing it ... OK
/ Reading and realizing block 1/1 of file 1/2 ... OK
\ Processing it ... OK
/ Reading and realizing block 1/1 of file 2/2 ... OK
\ Processing it ... OK
/ Reading and realizing block 1/5 of file 1/2 ... OK
\ Processing it ... OK
/ Reading and realizing block 2/5 of file 1/2 ... OK
\ Processing it ... OK
/ Reading and realizing block 3/5 of file 1/2 ... OK
\ Processing it ... OK
/ Reading and realizing block 4/5 of file 1/2 ... OK
\ Processing it ... OK
/ Reading and realizing block 5/5 of file 1/2 ... OK
\ Processing it ... OK
/ Reading and realizing block 1/5 of file 2/2 ... OK
\ Processing it ... OK
/ Reading and realizing block 2/5 of file 2/2 ... OK
\ Processing it ... OK
/ Reading and realizing block 3/5 of file 2/2 ... OK
\ Processing it ... OK
/ Reading and realizing block 4/5 of file 2/2 ... OK
\ Processing it ... OK
/ Reading and realizing block 5/5 of file 2/2 ... OK
\ Processing it ... OK
/ Reading and realizing block 1/3 of file 1/2 ... OK
\ Processing it ... OK
/ Reading and realizing block 2/3 of file 1/2 ... OK
\ Processing it ... OK
/ Reading and realizing block 3/3 of file 1/2 ... OK
\ Processing it ... OK
/ Reading and realizing block 1/3 of file 2/2 ... OK
\ Processing it ... OK
/ Reading and realizing block 2/3 of file 2/2 ... OK
\ Processing it ... OK
/ Reading and realizing block 3/3 of file 2/2 ... OK
\ Processing it ... OK
/ Reading and realizing block 1/5 of file 1/1 ... OK
\ Processing it ... OK
/ Reading and realizing block 2/5 of file 1/1 ... OK
\ Processing it ... OK
/ Reading and realizing block 3/5 of file 1/1 ... OK
\ Processing it ... OK
/ Reading and realizing block 4/5 of file 1/1 ... OK
\ Processing it ... OK
/ Reading and realizing block 5/5 of file 1/1 ... OK
\ Processing it ... OK
/ Reading and realizing block 1/5 of file 1/2 ... OK
\ Processing it ... OK
/ Reading and realizing block 2/5 of file 1/2 ... OK
\ Processing it ... OK
/ Reading and realizing block 3/5 of file 1/2 ... OK
\ Processing it ... OK
/ Reading and realizing block 4/5 of file 1/2 ... OK
\ Processing it ... OK
/ Reading and realizing block 5/5 of file 1/2 ... OK
\ Processing it ... OK
/ Reading and realizing block 1/5 of file 2/2 ... OK
\ Processing it ... OK
/ Reading and realizing block 2/5 of file 2/2 ... OK
\ Processing it ... OK
/ Reading and realizing block 3/5 of file 2/2 ... OK
\ Processing it ... OK
/ Reading and realizing block 4/5 of file 2/2 ... OK
\ Processing it ... OK
/ Reading and realizing block 5/5 of file 2/2 ... OK
\ Processing it ... OK
/ Reading and realizing block 1/1 of file 1/2 ... OK
\ Processing it ... OK
/ Reading and realizing block 1/1 of file 2/2 ... OK
\ Processing it ... OK
/ Reading and realizing block 1/5 of file 1/2 ... OK
\ Processing it ... OK
/ Reading and realizing block 2/5 of file 1/2 ... OK
\ Processing it ... OK
/ Reading and realizing block 3/5 of file 1/2 ... OK
\ Processing it ... OK
/ Reading and realizing block 4/5 of file 1/2 ... OK
\ Processing it ... OK
/ Reading and realizing block 5/5 of file 1/2 ... OK
\ Processing it ... OK
/ Reading and realizing block 1/5 of file 2/2 ... OK
\ Processing it ... OK
/ Reading and realizing block 2/5 of file 2/2 ... OK
\ Processing it ... OK
/ Reading and realizing block 3/5 of file 2/2 ... OK
\ Processing it ... OK
/ Reading and realizing block 4/5 of file 2/2 ... OK
\ Processing it ... OK
/ Reading and realizing block 5/5 of file 2/2 ... OK
\ Processing it ... OK
/ Reading and realizing block 1/1 of file 1/2 ... OK
\ Processing it ... OK
/ Reading and realizing block 1/1 of file 2/2 ... OK
\ Processing it ... OK
/ Reading and realizing block 1/1 of file 1/2 ... OK
\ Processing it ... OK
/ Reading and realizing block 1/1 of file 2/2 ... OK
\ Processing it ... OK
/ Reading and realizing block 1/1 of file 1/2 ... OK
\ Processing it ... OK
/ Reading and realizing block 1/1 of file 2/2 ... OK
\ Processing it ... OK
/ Reading and realizing block 1/3 of file 1/1 ... OK
\ Processing it ... OK
/ Reading and realizing block 2/3 of file 1/1 ... OK
\ Processing it ... OK
/ Reading and realizing block 3/3 of file 1/1 ... OK
\ Processing it ... OK
/ Reading and realizing block 1/3 of file 1/1 ... OK
\ Processing it ... OK
/ Reading and realizing block 2/3 of file 1/1 ... OK
\ Processing it ... OK
/ Reading and realizing block 3/3 of file 1/1 ... OK
\ Processing it ... OK
/ Reading and realizing block 1/3 of file 1/1 ... OK
\ Processing it ... OK
/ Reading and realizing block 2/3 of file 1/1 ... OK
\ Processing it ... OK
/ Reading and realizing block 3/3 of file 1/1 ... OK
\ Processing it ... OK
see ?marinerData and browseVignettes('marinerData') for documentation
loading from cache
see ?marinerData and browseVignettes('marinerData') for documentation
loading from cache

Attaching package: 'rlang'

The following object is masked from 'package:data.table':

    :=

The following object is masked from 'package:Biobase':

    exprs

The following objects are masked from 'package:testthat':

    is_false, is_null, is_true


Attaching package: 'assertthat'

The following object is masked from 'package:rlang':

    has_name

see ?marinerData and browseVignettes('marinerData') for documentation
loading from cache
see ?marinerData and browseVignettes('marinerData') for documentation
loading from cache
see ?marinerData and browseVignettes('marinerData') for documentation
loading from cache
see ?marinerData and browseVignettes('marinerData') for documentation
loading from cache
[ FAIL 0 | WARN 0 | SKIP 7 | PASS 1010 ]

══ Skipped tests (7) ═══════════════════════════════════════════════════════════
• On CRAN (7): 'test_InteractionArray.R:39:5', 'test_InteractionArray.R:97:5',
  'test_InteractionJaggedArray.R:30:5', 'test_InteractionMatrix.R:74:5',
  'test_JaggedArray.R:34:5', 'test_MergedGInteractions.R:61:5',
  'test_regularize.R:91:5'

[ FAIL 0 | WARN 0 | SKIP 7 | PASS 1010 ]
> 
> proc.time()
   user  system elapsed 
416.171  52.675 695.447 

Example timings

mariner.Rcheck/mariner-Ex.timings

nameusersystemelapsed
CountMatrix-class10.189 0.53025.204
GInteractions-accessors0.4560.0080.466
InteractionArray-class0.0960.0000.096
InteractionJaggedArray-class 3.330 0.16615.631
InteractionJaggedArray-overlaps 4.133 0.19514.819
InteractionMatrix-class0.0750.0000.075
JaggedArray-class3.4750.1439.765
MatrixSelection-class0.0140.0000.014
MergedGInteractions-class 4.324 0.24418.027
adjustEnrichment12.954 0.96127.125
aggHicMatrices 6.399 1.38019.428
aggMetadata 6.080 0.85017.998
as_ginteractions1.1130.0841.207
assignToBins1.3230.0841.412
binRanges0.8120.0320.847
calcLoopEnrichment 9.151 1.77222.546
changePixelRes 6.334 1.04917.552
clusters3.7170.3457.961
counts4.3890.3157.681
hdf5BlockApply0.7750.0550.834
makeRandomGInteractions1.5840.0991.689
mergePairs3.3930.1758.428
path3.7590.2129.469
pileupBoundaries 9.460 1.09813.764
pileupDomains13.692 4.30317.845
pileupPixels 5.205 1.00515.981
pixelsToMatrices1.0950.7061.059
plotMatrix0.2620.0960.360
pullHicMatrices 7.381 0.89616.207
pullHicPixels 5.168 0.40730.730
regularize 4.156 0.29811.952
removeShortPairs0.1700.0190.191
selectPixel 6.426 0.44316.324
selection-functions0.1490.0120.161
selectionMethod 3.525 0.24813.101
sets0.6290.0120.643
shiftRanges0.6300.0280.659
snapToBins2.1460.0712.225
sources 3.540 0.23112.272