Back to Multiple platform build/check report for BioC 3.22:   simplified   long
ABCDEFGH[I]JKLMNOPQRSTUVWXYZ

This page was generated on 2025-11-12 11:58 -0500 (Wed, 12 Nov 2025).

HostnameOSArch (*)R versionInstalled pkgs
nebbiolo2Linux (Ubuntu 24.04.3 LTS)x86_644.5.1 Patched (2025-08-23 r88802) -- "Great Square Root" 4902
taishanLinux (openEuler 24.03 LTS)aarch644.5.0 (2025-04-11) -- "How About a Twenty-Six" 4668
Click on any hostname to see more info about the system (e.g. compilers)      (*) as reported by 'uname -p', except on Windows and Mac OS X

Package 1058/2361HostnameOS / ArchINSTALLBUILDCHECKBUILD BIN
iNETgrate 1.8.0  (landing page)
Habil Zare
Snapshot Date: 2025-11-11 13:45 -0500 (Tue, 11 Nov 2025)
git_url: https://git.bioconductor.org/packages/iNETgrate
git_branch: RELEASE_3_22
git_last_commit: 1ca2a7a
git_last_commit_date: 2025-10-29 11:23:49 -0500 (Wed, 29 Oct 2025)
nebbiolo2Linux (Ubuntu 24.04.3 LTS) / x86_64  OK    OK    OK  NO, package depends on 'Pigengene' which is not available
taishanLinux (openEuler 24.03 LTS) / aarch64  OK    OK    OK  


CHECK results for iNETgrate on nebbiolo2

To the developers/maintainers of the iNETgrate package:
- Allow up to 24 hours (and sometimes 48 hours) for your latest push to git@git.bioconductor.org:packages/iNETgrate.git to reflect on this report. See Troubleshooting Build Report for more information.
- Use the following Renviron settings to reproduce errors and warnings.
- If 'R CMD check' started to fail recently on the Linux builder(s) over a missing dependency, add the missing dependency to 'Suggests:' in your DESCRIPTION file. See Renviron.bioc for more information.

raw results


Summary

Package: iNETgrate
Version: 1.8.0
Command: /home/biocbuild/bbs-3.22-bioc/R/bin/R CMD check --install=check:iNETgrate.install-out.txt --library=/home/biocbuild/bbs-3.22-bioc/R/site-library --timings iNETgrate_1.8.0.tar.gz
StartedAt: 2025-11-12 00:42:20 -0500 (Wed, 12 Nov 2025)
EndedAt: 2025-11-12 00:59:42 -0500 (Wed, 12 Nov 2025)
EllapsedTime: 1041.2 seconds
RetCode: 0
Status:   OK  
CheckDir: iNETgrate.Rcheck
Warnings: 0

Command output

##############################################################################
##############################################################################
###
### Running command:
###
###   /home/biocbuild/bbs-3.22-bioc/R/bin/R CMD check --install=check:iNETgrate.install-out.txt --library=/home/biocbuild/bbs-3.22-bioc/R/site-library --timings iNETgrate_1.8.0.tar.gz
###
##############################################################################
##############################################################################


* using log directory ‘/home/biocbuild/bbs-3.22-bioc/meat/iNETgrate.Rcheck’
* using R version 4.5.1 Patched (2025-08-23 r88802)
* using platform: x86_64-pc-linux-gnu
* R was compiled by
    gcc (Ubuntu 13.3.0-6ubuntu2~24.04) 13.3.0
    GNU Fortran (Ubuntu 13.3.0-6ubuntu2~24.04) 13.3.0
* running under: Ubuntu 24.04.3 LTS
* using session charset: UTF-8
* checking for file ‘iNETgrate/DESCRIPTION’ ... OK
* checking extension type ... Package
* this is package ‘iNETgrate’ version ‘1.8.0’
* checking package namespace information ... OK
* checking package dependencies ... OK
* checking if this is a source package ... OK
* checking if there is a namespace ... OK
* checking for hidden files and directories ... OK
* checking for portable file names ... OK
* checking for sufficient/correct file permissions ... OK
* checking whether package ‘iNETgrate’ can be installed ... OK
* checking installed package size ... OK
* checking package directory ... OK
* checking ‘build’ directory ... OK
* checking DESCRIPTION meta-information ... OK
* checking top-level files ... OK
* checking for left-over files ... OK
* checking index information ... OK
* checking package subdirectories ... OK
* checking code files for non-ASCII characters ... OK
* checking R files for syntax errors ... OK
* checking whether the package can be loaded ... OK
* checking whether the package can be loaded with stated dependencies ... OK
* checking whether the package can be unloaded cleanly ... OK
* checking whether the namespace can be loaded with stated dependencies ... OK
* checking whether the namespace can be unloaded cleanly ... OK
* checking loading without being on the library search path ... OK
* checking dependencies in R code ... OK
* checking S3 generic/method consistency ... OK
* checking replacement functions ... OK
* checking foreign function calls ... OK
* checking R code for possible problems ... OK
* checking Rd files ... OK
* checking Rd metadata ... OK
* checking Rd cross-references ... OK
* checking for missing documentation entries ... OK
* checking for code/documentation mismatches ... OK
* checking Rd \usage sections ... OK
* checking Rd contents ... OK
* checking for unstated dependencies in examples ... OK
* checking contents of ‘data’ directory ... OK
* checking data for non-ASCII characters ... OK
* checking data for ASCII and uncompressed saves ... OK
* checking files in ‘vignettes’ ... OK
* checking examples ... OK
Examples with CPU (user + system) or elapsed time > 5s
                     user system elapsed
iNETgrate         121.849  1.030 122.895
toyEigengenes      69.660  0.597  70.258
computEigengenes   61.593  0.553  62.148
toyComputEloci     50.160  0.804  50.977
analyzeSurvival    48.968  0.571  49.388
makeNetwork        43.413  0.288  43.702
computEigenloci    15.051  0.348  15.405
cleanAllData       11.448  0.715  12.263
accelFailAnalysis   7.765  0.127   7.849
* checking for unstated dependencies in vignettes ... OK
* checking package vignettes ... OK
* checking re-building of vignette outputs ... OK
* checking PDF version of manual ... OK
* DONE

Status: OK


Installation output

iNETgrate.Rcheck/00install.out

##############################################################################
##############################################################################
###
### Running command:
###
###   /home/biocbuild/bbs-3.22-bioc/R/bin/R CMD INSTALL iNETgrate
###
##############################################################################
##############################################################################


* installing to library ‘/home/biocbuild/bbs-3.22-bioc/R/site-library’
* installing *source* package ‘iNETgrate’ ...
** this is package ‘iNETgrate’ version ‘1.8.0’
** using staged installation
** R
** data
** inst
** byte-compile and prepare package for lazy loading
** help
*** installing help indices
** building package indices
** installing vignettes
** testing if installed package can be loaded from temporary location
** testing if installed package can be loaded from final location
** testing if installed package keeps a record of temporary installation path
* DONE (iNETgrate)

Tests output


Example timings

iNETgrate.Rcheck/iNETgrate-Ex.timings

nameusersystemelapsed
accelFailAnalysis7.7650.1277.849
analyzeSurvival48.968 0.57149.388
bestInetgrator0.2070.0230.255
cleanAllData11.448 0.71512.263
computEigengenes61.593 0.55362.148
computEigenloci15.051 0.34815.405
computeInetgrator0.2110.0350.248
computeUnion1.9090.0371.947
coxAnalysis1.9920.0011.994
createLocusGene0.1880.0050.193
distanceToTss2.8890.0582.948
downloaData000
electGenes2.2920.0292.310
filterLowCor0.4950.0040.498
findAliveCutoff0.1890.0040.193
findCore1.7540.0021.757
findTcgaDuplicates0.2460.0010.247
iNETgrate-package0.2070.0160.223
iNETgrate121.849 1.030122.895
inferEigengenes0.2060.0200.226
makeNetwork43.413 0.28843.702
plotKM0.4200.0100.429
plotLociNum0.3360.0060.342
plotLociTss0.0510.0000.051
prepareSurvival0.2040.0030.207
preprocessDnam0.8960.0200.917
sample2pat0.2270.0040.230
sampleData0.7040.1360.840
toyCleanedAml0.1700.0020.172
toyComputEloci50.160 0.80450.977
toyEigengenes69.660 0.59770.258
toyRawAml0.1970.0060.203