| Back to Multiple platform build/check report for BioC 3.21: simplified long |
|
This page was generated on 2025-10-16 11:38 -0400 (Thu, 16 Oct 2025).
| Hostname | OS | Arch (*) | R version | Installed pkgs |
|---|---|---|---|---|
| nebbiolo1 | Linux (Ubuntu 24.04.3 LTS) | x86_64 | 4.5.1 (2025-06-13) -- "Great Square Root" | 4833 |
| merida1 | macOS 12.7.6 Monterey | x86_64 | 4.5.1 RC (2025-06-05 r88288) -- "Great Square Root" | 4614 |
| kjohnson1 | macOS 13.7.5 Ventura | arm64 | 4.5.1 Patched (2025-06-14 r88325) -- "Great Square Root" | 4555 |
| kunpeng2 | Linux (openEuler 24.03 LTS) | aarch64 | R Under development (unstable) (2025-02-19 r87757) -- "Unsuffered Consequences" | 4586 |
| Click on any hostname to see more info about the system (e.g. compilers) (*) as reported by 'uname -p', except on Windows and Mac OS X | ||||
| Package 1011/2341 | Hostname | OS / Arch | INSTALL | BUILD | CHECK | BUILD BIN | ||||||||
| iBBiG 1.52.0 (landing page) Aedin Culhane
| nebbiolo1 | Linux (Ubuntu 24.04.3 LTS) / x86_64 | OK | OK | OK | |||||||||
| merida1 | macOS 12.7.6 Monterey / x86_64 | OK | OK | OK | OK | |||||||||
| kjohnson1 | macOS 13.7.5 Ventura / arm64 | OK | OK | OK | OK | |||||||||
| kunpeng2 | Linux (openEuler 24.03 LTS) / aarch64 | OK | OK | OK | ||||||||||
|
To the developers/maintainers of the iBBiG package: - Allow up to 24 hours (and sometimes 48 hours) for your latest push to git@git.bioconductor.org:packages/iBBiG.git to reflect on this report. See Troubleshooting Build Report for more information. - Use the following Renviron settings to reproduce errors and warnings. - If 'R CMD check' started to fail recently on the Linux builder(s) over a missing dependency, add the missing dependency to 'Suggests:' in your DESCRIPTION file. See Renviron.bioc for more information. |
| Package: iBBiG |
| Version: 1.52.0 |
| Command: /home/biocbuild/bbs-3.21-bioc/R/bin/R CMD check --install=check:iBBiG.install-out.txt --library=/home/biocbuild/bbs-3.21-bioc/R/site-library --timings iBBiG_1.52.0.tar.gz |
| StartedAt: 2025-10-16 00:10:53 -0400 (Thu, 16 Oct 2025) |
| EndedAt: 2025-10-16 00:13:17 -0400 (Thu, 16 Oct 2025) |
| EllapsedTime: 143.2 seconds |
| RetCode: 0 |
| Status: OK |
| CheckDir: iBBiG.Rcheck |
| Warnings: 0 |
##############################################################################
##############################################################################
###
### Running command:
###
### /home/biocbuild/bbs-3.21-bioc/R/bin/R CMD check --install=check:iBBiG.install-out.txt --library=/home/biocbuild/bbs-3.21-bioc/R/site-library --timings iBBiG_1.52.0.tar.gz
###
##############################################################################
##############################################################################
* using log directory ‘/home/biocbuild/bbs-3.21-bioc/meat/iBBiG.Rcheck’
* using R version 4.5.1 (2025-06-13)
* using platform: x86_64-pc-linux-gnu
* R was compiled by
gcc (Ubuntu 13.3.0-6ubuntu2~24.04) 13.3.0
GNU Fortran (Ubuntu 13.3.0-6ubuntu2~24.04) 13.3.0
* running under: Ubuntu 24.04.3 LTS
* using session charset: UTF-8
* checking for file ‘iBBiG/DESCRIPTION’ ... OK
* checking extension type ... Package
* this is package ‘iBBiG’ version ‘1.52.0’
* checking package namespace information ... NOTE
Found export directives that require package ‘methods’:
‘exportClasses’ ‘exportMethods’
Remove all such namespace directives (if obsolete) or ensure that the
DESCRIPTION Depends or Imports field contains ‘methods’.
* checking package dependencies ... OK
* checking if this is a source package ... OK
* checking if there is a namespace ... OK
* checking for hidden files and directories ... OK
* checking for portable file names ... OK
* checking for sufficient/correct file permissions ... OK
* checking whether package ‘iBBiG’ can be installed ... OK
* used C compiler: ‘gcc (Ubuntu 13.3.0-6ubuntu2~24.04) 13.3.0’
* checking installed package size ... OK
* checking package directory ... OK
* checking ‘build’ directory ... OK
* checking DESCRIPTION meta-information ... NOTE
Malformed Description field: should contain one or more complete sentences.
* checking top-level files ... OK
* checking for left-over files ... OK
* checking index information ... OK
* checking package subdirectories ... OK
* checking code files for non-ASCII characters ... OK
* checking R files for syntax errors ... OK
* checking whether the package can be loaded ... OK
* checking whether the package can be loaded with stated dependencies ... OK
* checking whether the package can be unloaded cleanly ... OK
* checking whether the namespace can be loaded with stated dependencies ... OK
* checking whether the namespace can be unloaded cleanly ... OK
* checking loading without being on the library search path ... OK
* checking dependencies in R code ... NOTE
'library' or 'require' call to ‘biclust’ which was already attached by Depends.
Please remove these calls from your code.
* checking S3 generic/method consistency ... OK
* checking replacement functions ... OK
* checking foreign function calls ... OK
* checking R code for possible problems ... NOTE
addSignal: no visible global function definition for ‘runif’
iBBiG: no visible global function definition for ‘new’
makeArtificial: no visible global function definition for ‘runif’
makeArtificial: no visible global function definition for ‘new’
Clusterscores,iBBiG: no visible global function definition for ‘slot’
Clusterscores<-,iBBiG: no visible global function definition for
‘slot<-’
Clusterscores<-,iBBiG: no visible global function definition for
‘validObject’
Number,iBBiG: no visible global function definition for ‘slot’
Number<-,iBBiG: no visible global function definition for ‘slot<-’
Number<-,iBBiG: no visible global function definition for ‘validObject’
NumberxCol,iBBiG: no visible global function definition for ‘slot’
NumberxCol<-,iBBiG: no visible global function definition for ‘slot<-’
NumberxCol<-,iBBiG: no visible global function definition for
‘validObject’
Parameters,iBBiG: no visible global function definition for ‘slot’
Parameters<-,iBBiG: no visible global function definition for ‘slot<-’
Parameters<-,iBBiG: no visible global function definition for
‘validObject’
RowScorexNumber,iBBiG: no visible global function definition for ‘slot’
RowScorexNumber<-,iBBiG: no visible global function definition for
‘slot<-’
RowScorexNumber<-,iBBiG: no visible global function definition for
‘validObject’
RowxNumber,iBBiG: no visible global function definition for ‘slot’
RowxNumber<-,iBBiG: no visible global function definition for ‘slot<-’
RowxNumber<-,iBBiG: no visible global function definition for
‘validObject’
Seeddata,iBBiG: no visible global function definition for ‘slot’
Seeddata<-,iBBiG: no visible global function definition for ‘slot<-’
Seeddata<-,iBBiG: no visible global function definition for
‘validObject’
analyzeClust,Biclust-iBBiG: no visible global function definition for
‘as’
analyzeClust,list-iBBiG: no visible global function definition for
‘new’
coerce,Biclust-iBBiG: no visible global function definition for ‘new’
info,iBBiG: no visible global function definition for ‘slot’
info<-,iBBiG: no visible global function definition for ‘slot<-’
info<-,iBBiG: no visible global function definition for ‘validObject’
plot,iBBiG-ANY: no visible global function definition for ‘layout’
plot,iBBiG-ANY: no visible global function definition for ‘colors’
plot,iBBiG-ANY: no visible global function definition for ‘image’
plot,iBBiG-ANY: no visible global function definition for ‘legend’
plot,iBBiG-ANY: no visible binding for global variable ‘title’
plot,iBBiG-ANY: no visible global function definition for ‘title’
plot,iBBiG-ANY: no visible global function definition for ‘barplot’
Undefined global functions or variables:
as barplot colors image layout legend new runif slot slot<- title
validObject
Consider adding
importFrom("grDevices", "colors")
importFrom("graphics", "barplot", "image", "layout", "legend", "title")
importFrom("methods", "as", "new", "slot", "slot<-", "validObject")
importFrom("stats", "runif")
to your NAMESPACE file (and ensure that your DESCRIPTION Imports field
contains 'methods').
* checking Rd files ... OK
* checking Rd metadata ... OK
* checking Rd cross-references ... NOTE
Found the following Rd file(s) with Rd \link{} targets missing package
anchors:
iBBiG-class.Rd: Biclust-class
Please provide package anchors for all Rd \link{} targets not in the
package itself and the base packages.
* checking for missing documentation entries ... OK
* checking for code/documentation mismatches ... OK
* checking Rd \usage sections ... OK
* checking Rd contents ... OK
* checking for unstated dependencies in examples ... OK
* checking line endings in C/C++/Fortran sources/headers ... OK
* checking compiled code ... NOTE
Note: information on .o files is not available
File ‘/home/biocbuild/bbs-3.21-bioc/R/site-library/iBBiG/libs/iBBiG.so’:
Found ‘rand’, possibly from ‘rand’ (C)
Found ‘srand’, possibly from ‘srand’ (C)
Compiled code should not call entry points which might terminate R nor
write to stdout/stderr instead of to the console, nor use Fortran I/O
nor system RNGs nor [v]sprintf. The detected symbols are linked into
the code but might come from libraries and not actually be called.
See ‘Writing portable packages’ in the ‘Writing R Extensions’ manual.
* checking files in ‘vignettes’ ... OK
* checking examples ... OK
Examples with CPU (user + system) or elapsed time > 5s
user system elapsed
iBBiG-class 24.855 0.124 24.980
iBBiG-package 22.495 0.077 22.577
iBBiG 20.027 0.070 20.099
* checking for unstated dependencies in vignettes ... OK
* checking package vignettes ... OK
* checking re-building of vignette outputs ... OK
* checking PDF version of manual ... OK
* DONE
Status: 6 NOTEs
See
‘/home/biocbuild/bbs-3.21-bioc/meat/iBBiG.Rcheck/00check.log’
for details.
iBBiG.Rcheck/00install.out
############################################################################## ############################################################################## ### ### Running command: ### ### /home/biocbuild/bbs-3.21-bioc/R/bin/R CMD INSTALL iBBiG ### ############################################################################## ############################################################################## * installing to library ‘/home/biocbuild/bbs-3.21-bioc/R/site-library’ * installing *source* package ‘iBBiG’ ... ** this is package ‘iBBiG’ version ‘1.52.0’ ** using staged installation ** libs using C compiler: ‘gcc (Ubuntu 13.3.0-6ubuntu2~24.04) 13.3.0’ gcc -std=gnu2x -I"/home/biocbuild/bbs-3.21-bioc/R/include" -DNDEBUG -I/usr/local/include -fpic -g -O2 -Wall -Werror=format-security -c R_init_iBBiG.c -o R_init_iBBiG.o gcc -std=gnu2x -I"/home/biocbuild/bbs-3.21-bioc/R/include" -DNDEBUG -I/usr/local/include -fpic -g -O2 -Wall -Werror=format-security -c iBBiG.c -o iBBiG.o gcc -std=gnu2x -shared -L/home/biocbuild/bbs-3.21-bioc/R/lib -L/usr/local/lib -o iBBiG.so R_init_iBBiG.o iBBiG.o -L/home/biocbuild/bbs-3.21-bioc/R/lib -lR installing to /home/biocbuild/bbs-3.21-bioc/R/site-library/00LOCK-iBBiG/00new/iBBiG/libs ** R ** byte-compile and prepare package for lazy loading ** help *** installing help indices ** building package indices ** installing vignettes ** testing if installed package can be loaded from temporary location ** checking absolute paths in shared objects and dynamic libraries ** testing if installed package can be loaded from final location ** testing if installed package keeps a record of temporary installation path * DONE (iBBiG)
iBBiG.Rcheck/iBBiG-Ex.timings
| name | user | system | elapsed | |
| iBBiG-class | 24.855 | 0.124 | 24.980 | |
| iBBiG-package | 22.495 | 0.077 | 22.577 | |
| iBBiG | 20.027 | 0.070 | 20.099 | |
| makeArtificial | 0.402 | 0.012 | 0.414 | |