| Back to Multiple platform build/check report for BioC 3.21: simplified long |
|
This page was generated on 2025-10-16 11:41 -0400 (Thu, 16 Oct 2025).
| Hostname | OS | Arch (*) | R version | Installed pkgs |
|---|---|---|---|---|
| nebbiolo1 | Linux (Ubuntu 24.04.3 LTS) | x86_64 | 4.5.1 (2025-06-13) -- "Great Square Root" | 4833 |
| merida1 | macOS 12.7.6 Monterey | x86_64 | 4.5.1 RC (2025-06-05 r88288) -- "Great Square Root" | 4614 |
| kjohnson1 | macOS 13.7.5 Ventura | arm64 | 4.5.1 Patched (2025-06-14 r88325) -- "Great Square Root" | 4555 |
| kunpeng2 | Linux (openEuler 24.03 LTS) | aarch64 | R Under development (unstable) (2025-02-19 r87757) -- "Unsuffered Consequences" | 4586 |
| Click on any hostname to see more info about the system (e.g. compilers) (*) as reported by 'uname -p', except on Windows and Mac OS X | ||||
| Package 868/2341 | Hostname | OS / Arch | INSTALL | BUILD | CHECK | BUILD BIN | ||||||||
| ggkegg 1.6.2 (landing page) Noriaki Sato
| nebbiolo1 | Linux (Ubuntu 24.04.3 LTS) / x86_64 | OK | OK | OK | |||||||||
| merida1 | macOS 12.7.6 Monterey / x86_64 | OK | OK | OK | OK | |||||||||
| kjohnson1 | macOS 13.7.5 Ventura / arm64 | OK | OK | OK | OK | |||||||||
| kunpeng2 | Linux (openEuler 24.03 LTS) / aarch64 | OK | OK | OK | ||||||||||
|
To the developers/maintainers of the ggkegg package: - Allow up to 24 hours (and sometimes 48 hours) for your latest push to git@git.bioconductor.org:packages/ggkegg.git to reflect on this report. See Troubleshooting Build Report for more information. - Use the following Renviron settings to reproduce errors and warnings. - If 'R CMD check' started to fail recently on the Linux builder(s) over a missing dependency, add the missing dependency to 'Suggests:' in your DESCRIPTION file. See Renviron.bioc for more information. - See Martin Grigorov's blog post for how to debug Linux ARM64 related issues on a x86_64 host. |
| Package: ggkegg |
| Version: 1.6.2 |
| Command: /home/biocbuild/R/R/bin/R CMD check --install=check:ggkegg.install-out.txt --library=/home/biocbuild/R/R/site-library --no-vignettes --timings ggkegg_1.6.2.tar.gz |
| StartedAt: 2025-10-14 09:39:31 -0000 (Tue, 14 Oct 2025) |
| EndedAt: 2025-10-14 09:42:50 -0000 (Tue, 14 Oct 2025) |
| EllapsedTime: 199.1 seconds |
| RetCode: 0 |
| Status: OK |
| CheckDir: ggkegg.Rcheck |
| Warnings: 0 |
##############################################################################
##############################################################################
###
### Running command:
###
### /home/biocbuild/R/R/bin/R CMD check --install=check:ggkegg.install-out.txt --library=/home/biocbuild/R/R/site-library --no-vignettes --timings ggkegg_1.6.2.tar.gz
###
##############################################################################
##############################################################################
* using log directory ‘/home/biocbuild/bbs-3.21-bioc/meat/ggkegg.Rcheck’
* using R Under development (unstable) (2025-02-19 r87757)
* using platform: aarch64-unknown-linux-gnu
* R was compiled by
aarch64-unknown-linux-gnu-gcc (GCC) 14.2.0
GNU Fortran (GCC) 14.2.0
* running under: openEuler 24.03 (LTS-SP1)
* using session charset: UTF-8
* using option ‘--no-vignettes’
* checking for file ‘ggkegg/DESCRIPTION’ ... OK
* checking extension type ... Package
* this is package ‘ggkegg’ version ‘1.6.2’
* package encoding: UTF-8
* checking package namespace information ... OK
* checking package dependencies ... OK
* checking if this is a source package ... OK
* checking if there is a namespace ... OK
* checking for hidden files and directories ... OK
* checking for portable file names ... OK
* checking for sufficient/correct file permissions ... OK
* checking whether package ‘ggkegg’ can be installed ... OK
* checking installed package size ... OK
* checking package directory ... OK
* checking ‘build’ directory ... OK
* checking DESCRIPTION meta-information ... NOTE
License stub is invalid DCF.
* checking top-level files ... OK
* checking for left-over files ... OK
* checking index information ... OK
* checking package subdirectories ... OK
* checking code files for non-ASCII characters ... OK
* checking R files for syntax errors ... OK
* checking whether the package can be loaded ... OK
* checking whether the package can be loaded with stated dependencies ... OK
* checking whether the package can be unloaded cleanly ... OK
* checking whether the namespace can be loaded with stated dependencies ... OK
* checking whether the namespace can be unloaded cleanly ... OK
* checking loading without being on the library search path ... OK
* checking dependencies in R code ... OK
* checking S3 generic/method consistency ... OK
* checking replacement functions ... OK
* checking foreign function calls ... OK
* checking R code for possible problems ... NOTE
ggplot_add.add_readable_edge_label: no visible binding for global
variable ‘x’
ggplot_add.add_readable_edge_label: no visible binding for global
variable ‘y’
ggplot_add.add_readable_edge_label: no visible binding for global
variable ‘xend’
ggplot_add.add_readable_edge_label: no visible binding for global
variable ‘yend’
ggplot_add.add_readable_edge_label: no visible binding for global
variable ‘group’
ggplot_add.add_readable_edge_label: no visible binding for global
variable ‘label’
ggplot_add.add_readable_edge_label: no visible binding for global
variable ‘angle2’
ggplot_add.add_readable_edge_label: no visible binding for global
variable ‘angle’
ggplot_add.add_readable_edge_label: no visible binding for global
variable ‘x1’
ggplot_add.add_readable_edge_label: no visible binding for global
variable ‘y1’
ggplot_add.add_readable_edge_label: no visible binding for global
variable ‘x2’
ggplot_add.add_readable_edge_label: no visible binding for global
variable ‘y2’
ggplot_add.add_readable_edge_label: no visible binding for global
variable ‘mx’
ggplot_add.add_readable_edge_label: no visible binding for global
variable ‘my’
ggplot_add.add_readable_edge_label: no visible binding for global
variable ‘ma’
Undefined global functions or variables:
angle angle2 group label ma mx my x x1 x2 xend y y1 y2 yend
* checking Rd files ... OK
* checking Rd metadata ... OK
* checking Rd cross-references ... OK
* checking for missing documentation entries ... OK
* checking for code/documentation mismatches ... OK
* checking Rd \usage sections ... OK
* checking Rd contents ... OK
* checking for unstated dependencies in examples ... OK
* checking files in ‘vignettes’ ... OK
* checking examples ... OK
Examples with CPU (user + system) or elapsed time > 5s
user system elapsed
append_cp 7.720 0.412 36.322
rawMap 1.723 0.065 6.901
module 1.374 0.115 7.716
pathway_abundance 1.365 0.076 22.128
* checking for unstated dependencies in ‘tests’ ... OK
* checking tests ...
Running ‘testthat.R’
OK
* checking for unstated dependencies in vignettes ... OK
* checking package vignettes ... OK
* checking running R code from vignettes ... SKIPPED
* checking re-building of vignette outputs ... SKIPPED
* checking PDF version of manual ... OK
* DONE
Status: 2 NOTEs
See
‘/home/biocbuild/bbs-3.21-bioc/meat/ggkegg.Rcheck/00check.log’
for details.
ggkegg.Rcheck/00install.out
############################################################################## ############################################################################## ### ### Running command: ### ### /home/biocbuild/R/R/bin/R CMD INSTALL ggkegg ### ############################################################################## ############################################################################## * installing to library ‘/home/biocbuild/R/R-devel_2025-02-19/site-library’ * installing *source* package ‘ggkegg’ ... ** this is package ‘ggkegg’ version ‘1.6.2’ ** using staged installation ** R ** inst ** byte-compile and prepare package for lazy loading ** help *** installing help indices *** copying figures ** building package indices ** installing vignettes ** testing if installed package can be loaded from temporary location ** testing if installed package can be loaded from final location ** testing if installed package keeps a record of temporary installation path * DONE (ggkegg)
ggkegg.Rcheck/tests/testthat.Rout
R Under development (unstable) (2025-02-19 r87757) -- "Unsuffered Consequences"
Copyright (C) 2025 The R Foundation for Statistical Computing
Platform: aarch64-unknown-linux-gnu
R is free software and comes with ABSOLUTELY NO WARRANTY.
You are welcome to redistribute it under certain conditions.
Type 'license()' or 'licence()' for distribution details.
R is a collaborative project with many contributors.
Type 'contributors()' for more information and
'citation()' on how to cite R or R packages in publications.
Type 'demo()' for some demos, 'help()' for on-line help, or
'help.start()' for an HTML browser interface to help.
Type 'q()' to quit R.
> # This file is part of the standard setup for testthat.
> # It is recommended that you do not modify it.
> #
> # Where should you do additional test configuration?
> # Learn more about the roles of various files in:
> # * https://r-pkgs.org/tests.html
> # * https://testthat.r-lib.org/reference/test_package.html#special-files
>
> library(testthat)
> library(ggkegg)
Loading required package: ggplot2
Loading required package: ggraph
Loading required package: XML
Loading required package: igraph
Attaching package: 'igraph'
The following object is masked from 'package:testthat':
compare
The following objects are masked from 'package:stats':
decompose, spectrum
The following object is masked from 'package:base':
union
Loading required package: tidygraph
Attaching package: 'tidygraph'
The following object is masked from 'package:igraph':
groups
The following object is masked from 'package:testthat':
matches
The following object is masked from 'package:stats':
filter
>
> test_check("ggkegg")
trying URL 'https://rest.kegg.jp/get/M00004'
downloaded 274 KB
trying URL 'https://rest.kegg.jp/get/N00002'
downloaded 2119 bytes
trying URL 'https://rest.kegg.jp/get/hsa04110/kgml'
downloaded 51 KB
[ FAIL 0 | WARN 5 | SKIP 0 | PASS 20 ]
[ FAIL 0 | WARN 5 | SKIP 0 | PASS 20 ]
>
> proc.time()
user system elapsed
6.680 0.451 17.057
ggkegg.Rcheck/ggkegg-Ex.timings
| name | user | system | elapsed | |
| add_readable_edge_label | 0.293 | 0.012 | 0.305 | |
| append_cp | 7.720 | 0.412 | 36.322 | |
| append_label_position | 0.065 | 0.004 | 0.069 | |
| assign_deseq2 | 0.011 | 0.000 | 0.012 | |
| carrow | 0.001 | 0.000 | 0.001 | |
| combine_with_bnlearn | 0.103 | 0.020 | 0.123 | |
| convert_id | 0.298 | 0.036 | 0.349 | |
| create_test_module | 0.004 | 0.000 | 0.005 | |
| create_test_network | 0.003 | 0.000 | 0.002 | |
| create_test_pathway | 0.098 | 0.016 | 0.114 | |
| edge_matrix | 0.029 | 0.004 | 0.034 | |
| edge_numeric | 0.013 | 0.000 | 0.013 | |
| edge_numeric_sum | 0.063 | 0.008 | 0.072 | |
| geom_kegg | 0.085 | 0.008 | 0.093 | |
| geom_node_rect | 0.030 | 0.004 | 0.034 | |
| geom_node_rect_kegg | 0.026 | 0.008 | 0.035 | |
| geom_node_rect_multi | 0.101 | 0.000 | 0.101 | |
| geom_node_shadowtext | 0.032 | 0.000 | 0.033 | |
| ggkegg | 0.336 | 0.076 | 0.873 | |
| ggplot_add.add_readable_edge_label | 0.149 | 0.028 | 0.178 | |
| ggplot_add.geom_kegg | 0.076 | 0.016 | 0.091 | |
| ggplot_add.geom_node_rect_kegg | 0.029 | 0.004 | 0.034 | |
| ggplot_add.geom_node_rect_multi | 0.088 | 0.012 | 0.101 | |
| ggplot_add.overlay_raw_map | 0.912 | 0.068 | 0.837 | |
| ggplot_add.stamp | 0.033 | 0.008 | 0.041 | |
| highlight_entities | 1.297 | 0.135 | 1.284 | |
| highlight_module | 0.022 | 0.004 | 0.025 | |
| highlight_set_edges | 0.012 | 0.000 | 0.012 | |
| highlight_set_nodes | 0.085 | 0.008 | 0.094 | |
| module | 1.374 | 0.115 | 7.716 | |
| module_abundance | 0.623 | 0.012 | 0.643 | |
| module_completeness | 0.002 | 0.004 | 0.006 | |
| module_text | 0.008 | 0.000 | 0.008 | |
| multi_pathway_native | 0.347 | 0.023 | 0.760 | |
| network | 0.026 | 0.000 | 0.337 | |
| network_graph | 0.012 | 0.004 | 0.015 | |
| node_matrix | 0.017 | 0.001 | 0.017 | |
| node_numeric | 0.011 | 0.000 | 0.011 | |
| obtain_sequential_module_definition | 0.024 | 0.000 | 0.024 | |
| output_overlay_image | 0 | 0 | 0 | |
| overlay_raw_map | 0.928 | 0.039 | 0.819 | |
| pathway | 0.203 | 0.004 | 0.207 | |
| pathway_abundance | 1.365 | 0.076 | 22.128 | |
| pathway_info | 0.027 | 0.000 | 0.663 | |
| plot_kegg_network | 0.137 | 0.012 | 0.150 | |
| plot_module_blocks | 0.143 | 0.000 | 0.144 | |
| plot_module_text | 0.191 | 0.008 | 0.200 | |
| process_line | 0.017 | 0.000 | 0.018 | |
| process_reaction | 0.012 | 0.000 | 0.012 | |
| rawMap | 1.723 | 0.065 | 6.901 | |
| rawValue | 0.063 | 0.000 | 0.064 | |
| return_line_compounds | 0.02 | 0.00 | 0.02 | |
| stamp | 0.03 | 0.00 | 0.03 | |