| Back to Multiple platform build/check report for BioC 3.22: simplified long |
|
This page was generated on 2025-11-20 12:06 -0500 (Thu, 20 Nov 2025).
| Hostname | OS | Arch (*) | R version | Installed pkgs |
|---|---|---|---|---|
| nebbiolo2 | Linux (Ubuntu 24.04.3 LTS) | x86_64 | 4.5.2 (2025-10-31) -- "[Not] Part in a Rumble" | 4615 |
| merida1 | macOS 12.7.6 Monterey | x86_64 | 4.5.2 Patched (2025-11-05 r88990) -- "[Not] Part in a Rumble" | 4610 |
| kjohnson1 | macOS 13.7.5 Ventura | arm64 | 4.5.2 Patched (2025-11-04 r88984) -- "[Not] Part in a Rumble" | 4598 |
| taishan | Linux (openEuler 24.03 LTS) | aarch64 | 4.5.0 (2025-04-11) -- "How About a Twenty-Six" | 4668 |
| Click on any hostname to see more info about the system (e.g. compilers) (*) as reported by 'uname -p', except on Windows and Mac OS X | ||||
| Package 867/2361 | Hostname | OS / Arch | INSTALL | BUILD | CHECK | BUILD BIN | ||||||||
| gep2pep 1.30.0 (landing page) Francesco Napolitano
| nebbiolo2 | Linux (Ubuntu 24.04.3 LTS) / x86_64 | OK | OK | OK | |||||||||
| merida1 | macOS 12.7.6 Monterey / x86_64 | OK | OK | OK | OK | |||||||||
| kjohnson1 | macOS 13.7.5 Ventura / arm64 | OK | OK | OK | OK | |||||||||
| taishan | Linux (openEuler 24.03 LTS) / aarch64 | OK | OK | OK | ||||||||||
|
To the developers/maintainers of the gep2pep package: - Allow up to 24 hours (and sometimes 48 hours) for your latest push to git@git.bioconductor.org:packages/gep2pep.git to reflect on this report. See Troubleshooting Build Report for more information. - Use the following Renviron settings to reproduce errors and warnings. - If 'R CMD check' started to fail recently on the Linux builder(s) over a missing dependency, add the missing dependency to 'Suggests:' in your DESCRIPTION file. See Renviron.bioc for more information. |
| Package: gep2pep |
| Version: 1.30.0 |
| Command: /Library/Frameworks/R.framework/Resources/bin/R CMD check --install=check:gep2pep.install-out.txt --library=/Library/Frameworks/R.framework/Resources/library --no-vignettes --timings gep2pep_1.30.0.tar.gz |
| StartedAt: 2025-11-18 07:06:16 -0500 (Tue, 18 Nov 2025) |
| EndedAt: 2025-11-18 07:07:24 -0500 (Tue, 18 Nov 2025) |
| EllapsedTime: 68.6 seconds |
| RetCode: 0 |
| Status: OK |
| CheckDir: gep2pep.Rcheck |
| Warnings: 0 |
##############################################################################
##############################################################################
###
### Running command:
###
### /Library/Frameworks/R.framework/Resources/bin/R CMD check --install=check:gep2pep.install-out.txt --library=/Library/Frameworks/R.framework/Resources/library --no-vignettes --timings gep2pep_1.30.0.tar.gz
###
##############################################################################
##############################################################################
* using log directory ‘/Users/biocbuild/bbs-3.22-bioc/meat/gep2pep.Rcheck’
* using R version 4.5.2 Patched (2025-11-04 r88984)
* using platform: aarch64-apple-darwin20
* R was compiled by
Apple clang version 16.0.0 (clang-1600.0.26.6)
GNU Fortran (GCC) 14.2.0
* running under: macOS Ventura 13.7.8
* using session charset: UTF-8
* using option ‘--no-vignettes’
* checking for file ‘gep2pep/DESCRIPTION’ ... OK
* checking extension type ... Package
* this is package ‘gep2pep’ version ‘1.30.0’
* package encoding: UTF-8
* checking package namespace information ... OK
* checking package dependencies ... OK
* checking if this is a source package ... OK
* checking if there is a namespace ... OK
* checking for hidden files and directories ... OK
* checking for portable file names ... OK
* checking for sufficient/correct file permissions ... OK
* checking whether package ‘gep2pep’ can be installed ... OK
* checking installed package size ... OK
* checking package directory ... OK
* checking ‘build’ directory ... OK
* checking DESCRIPTION meta-information ... OK
* checking top-level files ... OK
* checking for left-over files ... OK
* checking index information ... OK
* checking package subdirectories ... OK
* checking code files for non-ASCII characters ... OK
* checking R files for syntax errors ... OK
* checking whether the package can be loaded ... OK
* checking whether the package can be loaded with stated dependencies ... OK
* checking whether the package can be unloaded cleanly ... OK
* checking whether the namespace can be loaded with stated dependencies ... OK
* checking whether the namespace can be unloaded cleanly ... OK
* checking dependencies in R code ... OK
* checking S3 generic/method consistency ... OK
* checking replacement functions ... OK
* checking foreign function calls ... OK
* checking R code for possible problems ... OK
* checking Rd files ... NOTE
checkRd: (-1) as.CategorizedCollection.Rd:27: Lost braces; missing escapes or markup?
27 | in the collection to {CategorizedCollection}. If
| ^
checkRd: (-1) gep2pep-package.Rd:50-51: Lost braces in \itemize; meant \describe ?
checkRd: (-1) gep2pep-package.Rd:53: Lost braces in \itemize; meant \describe ?
checkRd: (-1) gep2pep-package.Rd:55-56: Lost braces in \itemize; meant \describe ?
checkRd: (-1) gep2pep-package.Rd:58-61: Lost braces in \itemize; meant \describe ?
checkRd: (-1) gep2pep-package.Rd:63-65: Lost braces in \itemize; meant \describe ?
checkRd: (-1) gep2pep-package.Rd:67-69: Lost braces in \itemize; meant \describe ?
checkRd: (-1) gep2pep-package.Rd:71-73: Lost braces in \itemize; meant \describe ?
checkRd: (-1) loadESmatrix.Rd:19: Lost braces
19 | reports the ES for the pathway \code{i}, condition{j}. If
| ^
checkRd: (-1) loadPVmatrix.Rd:19: Lost braces
19 | reports the PV for the pathway \code{i}, condition{j}. If
| ^
* checking Rd metadata ... OK
* checking Rd cross-references ... OK
* checking for missing documentation entries ... OK
* checking for code/documentation mismatches ... OK
* checking Rd \usage sections ... OK
* checking Rd contents ... OK
* checking for unstated dependencies in examples ... OK
* checking files in ‘vignettes’ ... OK
* checking examples ... OK
* checking for unstated dependencies in ‘tests’ ... OK
* checking tests ...
Running ‘testthat.R’
OK
* checking for unstated dependencies in vignettes ... OK
* checking package vignettes ... OK
* checking running R code from vignettes ... SKIPPED
* checking re-building of vignette outputs ... SKIPPED
* checking PDF version of manual ... OK
* DONE
Status: 1 NOTE
See
‘/Users/biocbuild/bbs-3.22-bioc/meat/gep2pep.Rcheck/00check.log’
for details.
gep2pep.Rcheck/00install.out
############################################################################## ############################################################################## ### ### Running command: ### ### /Library/Frameworks/R.framework/Resources/bin/R CMD INSTALL gep2pep ### ############################################################################## ############################################################################## * installing to library ‘/Library/Frameworks/R.framework/Versions/4.5-arm64/Resources/library’ * installing *source* package ‘gep2pep’ ... ** this is package ‘gep2pep’ version ‘1.30.0’ ** using staged installation ** R ** inst ** byte-compile and prepare package for lazy loading ** help *** installing help indices ** building package indices ** installing vignettes ** testing if installed package can be loaded from temporary location ** testing if installed package can be loaded from final location ** testing if installed package keeps a record of temporary installation path * DONE (gep2pep)
gep2pep.Rcheck/tests/testthat.Rout
R version 4.5.2 Patched (2025-11-04 r88984) -- "[Not] Part in a Rumble"
Copyright (C) 2025 The R Foundation for Statistical Computing
Platform: aarch64-apple-darwin20
R is free software and comes with ABSOLUTELY NO WARRANTY.
You are welcome to redistribute it under certain conditions.
Type 'license()' or 'licence()' for distribution details.
R is a collaborative project with many contributors.
Type 'contributors()' for more information and
'citation()' on how to cite R or R packages in publications.
Type 'demo()' for some demos, 'help()' for on-line help, or
'help.start()' for an HTML browser interface to help.
Type 'q()' to quit R.
> library(testthat)
> library(gep2pep)
>
> test_check("gep2pep")
Chunk 1 of 2, 524 bytes (current file size: 4.3 Kb)
Chunk 2 of 2, 673 bytes (current file size: 16.3 Kb)
Chunk 1 of 2, 544 bytes (current file size: 4.3 Kb)
Chunk 2 of 2, 705 bytes (current file size: 16.3 Kb)
Chunk 1 of 2, 554 bytes (current file size: 4.3 Kb)
Chunk 2 of 2, 695 bytes (current file size: 16.3 Kb)
[ FAIL 0 | WARN 2271 | SKIP 1 | PASS 154 ]
══ Skipped tests (1) ═══════════════════════════════════════════════════════════
• empty test (1): 'test_rawMode.R:216:1'
[ FAIL 0 | WARN 2271 | SKIP 1 | PASS 154 ]
>
> proc.time()
user system elapsed
10.266 0.621 12.628
gep2pep.Rcheck/gep2pep-Ex.timings
| name | user | system | elapsed | |
| CategorizedCollection | 0.051 | 0.005 | 0.062 | |
| CondSEA | 0.268 | 0.038 | 0.362 | |
| PathSEA | 0.243 | 0.040 | 0.337 | |
| addSingleGeneSets | 0.184 | 0.018 | 0.215 | |
| as.CategorizedCollection | 0.126 | 0.025 | 0.159 | |
| buildPEPs | 0.187 | 0.031 | 0.226 | |
| checkRepository | 0.074 | 0.017 | 0.101 | |
| clearCache | 0.232 | 0.038 | 0.289 | |
| createMergedRepository | 0.242 | 0.049 | 0.326 | |
| createRepository | 0.063 | 0.016 | 0.092 | |
| exportSEA | 0.201 | 0.036 | 0.364 | |
| gene2pathways | 0.072 | 0.019 | 0.123 | |
| getCollections | 0.066 | 0.016 | 0.122 | |
| getDetails | 0.186 | 0.032 | 0.230 | |
| getResults | 0.248 | 0.030 | 0.291 | |
| importFromRawMode | 0.203 | 0.033 | 0.246 | |
| importMSigDB.xml | 0.066 | 0.016 | 0.086 | |
| loadCollection | 0.065 | 0.016 | 0.098 | |
| loadESmatrix | 0.169 | 0.029 | 0.238 | |
| loadPVmatrix | 0.170 | 0.029 | 0.249 | |
| loadSampleGEP | 0.000 | 0.001 | 0.001 | |
| loadSamplePWS | 0.001 | 0.000 | 0.000 | |
| makeCollectionIDs | 0.013 | 0.000 | 0.013 | |
| openRepository | 0.065 | 0.015 | 0.082 | |
| setId2setName | 0.013 | 0.000 | 0.013 | |