Back to Multiple platform build/check report for BioC 3.22:   simplified   long
ABCDEF[G]HIJKLMNOPQRSTUVWXYZ

This page was generated on 2025-11-12 11:57 -0500 (Wed, 12 Nov 2025).

HostnameOSArch (*)R versionInstalled pkgs
nebbiolo2Linux (Ubuntu 24.04.3 LTS)x86_644.5.1 Patched (2025-08-23 r88802) -- "Great Square Root" 4902
taishanLinux (openEuler 24.03 LTS)aarch644.5.0 (2025-04-11) -- "How About a Twenty-Six" 4668
Click on any hostname to see more info about the system (e.g. compilers)      (*) as reported by 'uname -p', except on Windows and Mac OS X

All results for package gdsfmt


To the developers/maintainers of the gdsfmt package:
- Allow up to 24 hours (and sometimes 48 hours) for your latest push to git@git.bioconductor.org:packages/gdsfmt.git to reflect on this report. See Troubleshooting Build Report for more information.
- Use the following Renviron settings to reproduce errors and warnings.
- If 'R CMD check' started to fail recently on the Linux builder(s) over a missing dependency, add the missing dependency to 'Suggests:' in your DESCRIPTION file. See Renviron.bioc for more information.

raw results

Package 808/2361HostnameOS / ArchINSTALLBUILDCHECKBUILD BIN
gdsfmt 1.46.0  (landing page)
Xiuwen Zheng
Snapshot Date: 2025-11-11 13:45 -0500 (Tue, 11 Nov 2025)
git_url: https://git.bioconductor.org/packages/gdsfmt
git_branch: RELEASE_3_22
git_last_commit: 36ad4a4
git_last_commit_date: 2025-10-29 10:23:33 -0500 (Wed, 29 Oct 2025)
nebbiolo2Linux (Ubuntu 24.04.3 LTS) / x86_64  OK    OK    OK  UNNEEDED, same version is already published
taishanLinux (openEuler 24.03 LTS) / aarch64  OK    OK    OK  



Results for Bioconductor software packages that depend directly on package gdsfmt

QUICK STATSOS / ArchINSTALLBUILDCHECKBUILD BIN
nebbiolo2Linux (Ubuntu 24.04.3 LTS) / x86_64
0016
0214
00212
taishanLinux (openEuler 24.03 LTS) / aarch64
0016
0214
01211
Package 1/16HostnameOS / ArchINSTALLBUILDCHECKBUILD BIN
bigmelon 1.36.0  (landing page)
Leonard C. Schalkwyk
git_last_commit: 8527321
git_last_commit_date: 2025-10-29 10:34:26 -0500
nebbiolo2Linux (Ubuntu 24.04.3 LTS) / x86_64  OK    OK    WARNINGS  UNNEEDED, same version is already published
taishanLinux (openEuler 24.03 LTS) / aarch64  OK    OK    WARNINGS  
Package 2/16HostnameOS / ArchINSTALLBUILDCHECKBUILD BIN
CNVRanger 1.26.0  (landing page)
Ludwig Geistlinger
git_last_commit: 53ff90f
git_last_commit_date: 2025-10-29 10:49:56 -0500
nebbiolo2Linux (Ubuntu 24.04.3 LTS) / x86_64  OK    OK    OK  UNNEEDED, same version is already published
taishanLinux (openEuler 24.03 LTS) / aarch64  OK    OK    OK  
Package 3/16HostnameOS / ArchINSTALLBUILDCHECKBUILD BIN
GBScleanR 2.4.0  (landing page)
Tomoyuki Furuta
git_last_commit: 9667f46
git_last_commit_date: 2025-10-29 11:14:15 -0500
nebbiolo2Linux (Ubuntu 24.04.3 LTS) / x86_64  OK    ERROR  skipped
taishanLinux (openEuler 24.03 LTS) / aarch64  OK    ERROR  skipped
Package 4/16HostnameOS / ArchINSTALLBUILDCHECKBUILD BIN
GDSArray 1.30.0  (landing page)
Xiuwen Zheng
git_last_commit: 421dd04
git_last_commit_date: 2025-10-29 10:44:25 -0500
nebbiolo2Linux (Ubuntu 24.04.3 LTS) / x86_64  OK    OK    OK  UNNEEDED, same version is already published
taishanLinux (openEuler 24.03 LTS) / aarch64  OK    OK    OK  
Package 5/16HostnameOS / ArchINSTALLBUILDCHECKBUILD BIN
GENESIS 2.40.0  (landing page)
Stephanie M. Gogarten
git_last_commit: 3637b1b
git_last_commit_date: 2025-10-29 10:24:42 -0500
nebbiolo2Linux (Ubuntu 24.04.3 LTS) / x86_64  OK    OK    OK  UNNEEDED, same version is already published
taishanLinux (openEuler 24.03 LTS) / aarch64  OK    OK    OK  
Package 6/16HostnameOS / ArchINSTALLBUILDCHECKBUILD BIN
ggmanh 1.14.0  (landing page)
John Lee
git_last_commit: 6b069ef
git_last_commit_date: 2025-10-29 11:14:02 -0500
nebbiolo2Linux (Ubuntu 24.04.3 LTS) / x86_64  OK    OK    OK  UNNEEDED, same version is already published
taishanLinux (openEuler 24.03 LTS) / aarch64  OK    OK    OK  
Package 7/16HostnameOS / ArchINSTALLBUILDCHECKBUILD BIN
GWASTools 1.56.0  (landing page)
Stephanie M. Gogarten
git_last_commit: 121c763
git_last_commit_date: 2025-10-29 10:09:16 -0500
nebbiolo2Linux (Ubuntu 24.04.3 LTS) / x86_64  OK    OK    OK  UNNEEDED, same version is already published
taishanLinux (openEuler 24.03 LTS) / aarch64  OK    OK    OK  
Package 8/16HostnameOS / ArchINSTALLBUILDCHECKBUILD BIN
RAIDS 1.8.0  (landing page)
Pascal Belleau
git_last_commit: 4c9a678
git_last_commit_date: 2025-10-29 11:25:36 -0500
nebbiolo2Linux (Ubuntu 24.04.3 LTS) / x86_64  OK    OK    OK  UNNEEDED, same version is already published
taishanLinux (openEuler 24.03 LTS) / aarch64  OK    OK    OK  
Package 9/16HostnameOS / ArchINSTALLBUILDCHECKBUILD BIN
SAIGEgds 2.10.0  (landing page)
Xiuwen Zheng
git_last_commit: 144fd63
git_last_commit_date: 2025-10-29 10:54:47 -0500
nebbiolo2Linux (Ubuntu 24.04.3 LTS) / x86_64  OK    OK    OK  UNNEEDED, same version is already published
taishanLinux (openEuler 24.03 LTS) / aarch64  OK    OK    ERROR  
Package 10/16HostnameOS / ArchINSTALLBUILDCHECKBUILD BIN
SCArray 1.18.0  (landing page)
Xiuwen Zheng
git_last_commit: f7d874a
git_last_commit_date: 2025-10-29 11:05:31 -0500
nebbiolo2Linux (Ubuntu 24.04.3 LTS) / x86_64  OK    OK    OK  UNNEEDED, same version is already published
taishanLinux (openEuler 24.03 LTS) / aarch64  OK    OK    OK  
Package 11/16HostnameOS / ArchINSTALLBUILDCHECKBUILD BIN
SCArray.sat 1.10.0  (landing page)
Xiuwen Zheng
git_last_commit: f783501
git_last_commit_date: 2025-10-29 11:22:05 -0500
nebbiolo2Linux (Ubuntu 24.04.3 LTS) / x86_64  OK    ERROR  skipped
taishanLinux (openEuler 24.03 LTS) / aarch64  OK    ERROR  skipped
Package 12/16HostnameOS / ArchINSTALLBUILDCHECKBUILD BIN
SeqArray 1.50.0  (landing page)
Xiuwen Zheng
git_last_commit: e6376f0
git_last_commit_date: 2025-10-29 10:14:07 -0500
nebbiolo2Linux (Ubuntu 24.04.3 LTS) / x86_64  OK    OK    OK  UNNEEDED, same version is already published
taishanLinux (openEuler 24.03 LTS) / aarch64  OK    OK    OK  
Package 13/16HostnameOS / ArchINSTALLBUILDCHECKBUILD BIN
SeqSQC 1.32.0  (landing page)
Qian Liu
git_last_commit: a5a9f88
git_last_commit_date: 2025-10-29 10:41:52 -0500
nebbiolo2Linux (Ubuntu 24.04.3 LTS) / x86_64  OK    OK    WARNINGS  UNNEEDED, same version is already published
taishanLinux (openEuler 24.03 LTS) / aarch64  OK    OK    WARNINGS  
Package 14/16HostnameOS / ArchINSTALLBUILDCHECKBUILD BIN
SeqVarTools 1.48.0  (landing page)
Stephanie M. Gogarten
git_last_commit: cefddfd
git_last_commit_date: 2025-10-29 10:15:55 -0500
nebbiolo2Linux (Ubuntu 24.04.3 LTS) / x86_64  OK    OK    OK  UNNEEDED, same version is already published
taishanLinux (openEuler 24.03 LTS) / aarch64  OK    OK    OK  
Package 15/16HostnameOS / ArchINSTALLBUILDCHECKBUILD BIN
SNPRelate 1.44.0  (landing page)
Xiuwen Zheng
git_last_commit: 50237e4
git_last_commit_date: 2025-10-29 10:21:20 -0500
nebbiolo2Linux (Ubuntu 24.04.3 LTS) / x86_64  OK    OK    OK  UNNEEDED, same version is already published
taishanLinux (openEuler 24.03 LTS) / aarch64  OK    OK    OK  
Package 16/16HostnameOS / ArchINSTALLBUILDCHECKBUILD BIN
VariantExperiment 1.24.0  (landing page)
Qian Liu
git_last_commit: 4846558
git_last_commit_date: 2025-10-29 10:53:44 -0500
nebbiolo2Linux (Ubuntu 24.04.3 LTS) / x86_64  OK    OK    OK  UNNEEDED, same version is already published
taishanLinux (openEuler 24.03 LTS) / aarch64  OK    OK    OK