| Back to Multiple platform build/check report for BioC 3.21: simplified long | 
 | 
This page was generated on 2025-10-16 11:39 -0400 (Thu, 16 Oct 2025).
| Hostname | OS | Arch (*) | R version | Installed pkgs | 
|---|---|---|---|---|
| nebbiolo1 | Linux (Ubuntu 24.04.3 LTS) | x86_64 | 4.5.1 (2025-06-13) -- "Great Square Root" | 4833 | 
| merida1 | macOS 12.7.6 Monterey | x86_64 | 4.5.1 RC (2025-06-05 r88288) -- "Great Square Root" | 4614 | 
| kjohnson1 | macOS 13.7.5 Ventura | arm64 | 4.5.1 Patched (2025-06-14 r88325) -- "Great Square Root" | 4555 | 
| kunpeng2 | Linux (openEuler 24.03 LTS) | aarch64 | R Under development (unstable) (2025-02-19 r87757) -- "Unsuffered Consequences" | 4586 | 
| Click on any hostname to see more info about the system (e.g. compilers) (*) as reported by 'uname -p', except on Windows and Mac OS X | ||||
| Package 781/2341 | Hostname | OS / Arch | INSTALL | BUILD | CHECK | BUILD BIN | ||||||||
| garfield 1.36.0  (landing page) Valentina Iotchkova 
 | nebbiolo1 | Linux (Ubuntu 24.04.3 LTS) / x86_64 | OK | OK | WARNINGS |  | ||||||||
| merida1 | macOS 12.7.6 Monterey / x86_64 | OK | OK | WARNINGS | OK |  | ||||||||
| kjohnson1 | macOS 13.7.5 Ventura / arm64 | OK | OK | WARNINGS | OK |  | ||||||||
| kunpeng2 | Linux (openEuler 24.03 LTS) / aarch64 | OK | OK | WARNINGS | ||||||||||
| To the developers/maintainers of the garfield package: - Allow up to 24 hours (and sometimes 48 hours) for your latest push to git@git.bioconductor.org:packages/garfield.git to reflect on this report. See Troubleshooting Build Report for more information. - Use the following Renviron settings to reproduce errors and warnings. - If 'R CMD check' started to fail recently on the Linux builder(s) over a missing dependency, add the missing dependency to 'Suggests:' in your DESCRIPTION file. See Renviron.bioc for more information. | 
| Package: garfield | 
| Version: 1.36.0 | 
| Command: /Library/Frameworks/R.framework/Resources/bin/R CMD INSTALL garfield | 
| StartedAt: 2025-10-13 15:05:37 -0400 (Mon, 13 Oct 2025) | 
| EndedAt: 2025-10-13 15:06:04 -0400 (Mon, 13 Oct 2025) | 
| EllapsedTime: 27.1 seconds | 
| RetCode: 0 | 
| Status: OK | 
##############################################################################
##############################################################################
###
### Running command:
###
###   /Library/Frameworks/R.framework/Resources/bin/R CMD INSTALL garfield
###
##############################################################################
##############################################################################
* installing to library ‘/Library/Frameworks/R.framework/Versions/4.5-x86_64/Resources/library’
* installing *source* package ‘garfield’ ...
** this is package ‘garfield’ version ‘1.36.0’
** using staged installation
** libs
using C compiler: ‘Apple clang version 14.0.0 (clang-1400.0.29.202)’
using C++ compiler: ‘Apple clang version 14.0.0 (clang-1400.0.29.202)’
using SDK: ‘MacOSX11.3.sdk’
clang -arch x86_64 -I"/Library/Frameworks/R.framework/Resources/include" -DNDEBUG   -I/opt/R/x86_64/include    -fPIC  -falign-functions=64 -Wall -g -O2  -c garfield_init.c -o garfield_init.o
clang++ -arch x86_64 -std=gnu++17 -I"/Library/Frameworks/R.framework/Resources/include" -DNDEBUG   -I/opt/R/x86_64/include    -fPIC  -falign-functions=64 -Wall -g -O2   -c garfield_perm.cpp -o garfield_perm.o
garfield_perm.cpp:306:74: warning: format specifies type 'char *' but the argument has type 'long' [-Wformat]
                Rprintf("\r%s/%s\t\t%s\%\t\t%s annotations/s\t\t Time remaining: %s s",j+1,nannot, 100.0 * (j+1) / nannot, nannot,1.0 * (nannot - (j+1)) / perms_per_sec   );
                           ~~                                                          ^~~
                           %ld
garfield_perm.cpp:306:78: warning: format specifies type 'char *' but the argument has type 'int' [-Wformat]
                Rprintf("\r%s/%s\t\t%s\%\t\t%s annotations/s\t\t Time remaining: %s s",j+1,nannot, 100.0 * (j+1) / nannot, nannot,1.0 * (nannot - (j+1)) / perms_per_sec   );
                              ~~                                                           ^~~~~~
                              %d
garfield_perm.cpp:306:86: warning: format specifies type 'char *' but the argument has type 'double' [-Wformat]
                Rprintf("\r%s/%s\t\t%s\%\t\t%s annotations/s\t\t Time remaining: %s s",j+1,nannot, 100.0 * (j+1) / nannot, nannot,1.0 * (nannot - (j+1)) / perms_per_sec   );
                                    ~~                                                             ^~~~~~~~~~~~~~~~~~~~~~
                                    %f
garfield_perm.cpp:306:27: warning: invalid conversion specifier '\x09' [-Wformat-invalid-specifier]
                Rprintf("\r%s/%s\t\t%s\%\t\t%s annotations/s\t\t Time remaining: %s s",j+1,nannot, 100.0 * (j+1) / nannot, nannot,1.0 * (nannot - (j+1)) / perms_per_sec   );
                                      ~~^
garfield_perm.cpp:306:110: warning: format specifies type 'char *' but the argument has type 'int' [-Wformat]
                Rprintf("\r%s/%s\t\t%s\%\t\t%s annotations/s\t\t Time remaining: %s s",j+1,nannot, 100.0 * (j+1) / nannot, nannot,1.0 * (nannot - (j+1)) / perms_per_sec   );
                                            ~~                                                                             ^~~~~~
                                            %d
garfield_perm.cpp:306:117: warning: format specifies type 'char *' but the argument has type 'double' [-Wformat]
                Rprintf("\r%s/%s\t\t%s\%\t\t%s annotations/s\t\t Time remaining: %s s",j+1,nannot, 100.0 * (j+1) / nannot, nannot,1.0 * (nannot - (j+1)) / perms_per_sec   );
                                                                                 ~~                                               ^~~~~~~~~~~~~~~~~~~~~~~~~~~~~~~~~~~~~~
                                                                                 %f
garfield_perm.cpp:356:16: warning: format specifies type 'char *' but the argument has type 'int' [-Wformat]
                Rprintf("%s",nannot);
                         ~~  ^~~~~~
                         %d
7 warnings generated.
clang++ -arch x86_64 -std=gnu++17 -I"/Library/Frameworks/R.framework/Resources/include" -DNDEBUG   -I/opt/R/x86_64/include    -fPIC  -falign-functions=64 -Wall -g -O2   -c garfield_prep.cpp -o garfield_prep.o
clang++ -arch x86_64 -std=gnu++17 -dynamiclib -Wl,-headerpad_max_install_names -undefined dynamic_lookup -L/Library/Frameworks/R.framework/Resources/lib -L/opt/R/x86_64/lib -o garfield.so garfield_init.o garfield_perm.o garfield_prep.o -F/Library/Frameworks/R.framework/.. -framework R
installing to /Library/Frameworks/R.framework/Versions/4.5-x86_64/Resources/library/00LOCK-garfield/00new/garfield/libs
** R
** inst
** byte-compile and prepare package for lazy loading
** help
*** installing help indices
** building package indices
** installing vignettes
** testing if installed package can be loaded from temporary location
** checking absolute paths in shared objects and dynamic libraries
** testing if installed package can be loaded from final location
** testing if installed package keeps a record of temporary installation path
* DONE (garfield)