| Back to Multiple platform build/check report for BioC 3.21: simplified long |
|
This page was generated on 2025-04-22 13:16 -0400 (Tue, 22 Apr 2025).
| Hostname | OS | Arch (*) | R version | Installed pkgs |
|---|---|---|---|---|
| nebbiolo1 | Linux (Ubuntu 24.04.1 LTS) | x86_64 | 4.5.0 RC (2025-04-04 r88126) -- "How About a Twenty-Six" | 4831 |
| palomino7 | Windows Server 2022 Datacenter | x64 | 4.5.0 RC (2025-04-04 r88126 ucrt) -- "How About a Twenty-Six" | 4573 |
| lconway | macOS 12.7.1 Monterey | x86_64 | 4.5.0 RC (2025-04-04 r88126) -- "How About a Twenty-Six" | 4599 |
| kjohnson3 | macOS 13.7.1 Ventura | arm64 | 4.5.0 RC (2025-04-04 r88126) -- "How About a Twenty-Six" | 4553 |
| kunpeng2 | Linux (openEuler 24.03 LTS) | aarch64 | R Under development (unstable) (2025-02-19 r87757) -- "Unsuffered Consequences" | 4570 |
| Click on any hostname to see more info about the system (e.g. compilers) (*) as reported by 'uname -p', except on Windows and Mac OS X | ||||
| Package 778/2341 | Hostname | OS / Arch | INSTALL | BUILD | CHECK | BUILD BIN | ||||||||
| gaga 2.54.0 (landing page) David Rossell
| nebbiolo1 | Linux (Ubuntu 24.04.1 LTS) / x86_64 | OK | OK | WARNINGS | |||||||||
| palomino7 | Windows Server 2022 Datacenter / x64 | OK | OK | WARNINGS | OK | |||||||||
| lconway | macOS 12.7.1 Monterey / x86_64 | OK | OK | WARNINGS | OK | |||||||||
| kjohnson3 | macOS 13.7.1 Ventura / arm64 | OK | OK | WARNINGS | OK | |||||||||
| kunpeng2 | Linux (openEuler 24.03 LTS) / aarch64 | OK | OK | WARNINGS | ||||||||||
|
To the developers/maintainers of the gaga package: - Allow up to 24 hours (and sometimes 48 hours) for your latest push to git@git.bioconductor.org:packages/gaga.git to reflect on this report. See Troubleshooting Build Report for more information. - Use the following Renviron settings to reproduce errors and warnings. - If 'R CMD check' started to fail recently on the Linux builder(s) over a missing dependency, add the missing dependency to 'Suggests:' in your DESCRIPTION file. See Renviron.bioc for more information. |
| Package: gaga |
| Version: 2.54.0 |
| Command: rm -rf gaga.buildbin-libdir && mkdir gaga.buildbin-libdir && /Users/biocbuild/BBS/utils/build-universal.sh gaga_2.54.0.tar.gz /Library/Frameworks/R.framework/Resources/bin/R gaga.buildbin-libdir |
| StartedAt: 2025-04-22 00:46:12 -0400 (Tue, 22 Apr 2025) |
| EndedAt: 2025-04-22 00:46:34 -0400 (Tue, 22 Apr 2025) |
| EllapsedTime: 22.2 seconds |
| RetCode: 0 |
| Status: OK |
| PackageFile: gaga_2.54.0.tgz |
| PackageFileSize: 786.8 KiB |
##############################################################################
##############################################################################
###
### Running command:
###
### rm -rf gaga.buildbin-libdir && mkdir gaga.buildbin-libdir && /Users/biocbuild/BBS/utils/build-universal.sh gaga_2.54.0.tar.gz /Library/Frameworks/R.framework/Resources/bin/R gaga.buildbin-libdir
###
##############################################################################
##############################################################################
>>>>>>>
>>>>>>> INSTALLATION WITH 'R CMD INSTALL --preclean --no-multiarch --library=gaga.buildbin-libdir gaga_2.54.0.tar.gz'
>>>>>>>
* installing *source* package ‘gaga’ ...
** this is package ‘gaga’ version ‘2.54.0’
** using staged installation
** libs
using C compiler: ‘Apple clang version 14.0.0 (clang-1400.0.29.202)’
using SDK: ‘MacOSX11.3.sdk’
clang -arch x86_64 -I"/Library/Frameworks/R.framework/Resources/include" -DNDEBUG -I/opt/R/x86_64/include -fPIC -falign-functions=64 -Wall -g -O2 -c cseqdesma.c -o cseqdesma.o
cseqdesma.c:4515:14: warning: equality comparison with extraneous parentheses [-Wparentheses-equality]
if ((*usesumx==0)) { //if suff stat not pre-computed
~~~~~~~~^~~
cseqdesma.c:4515:14: note: remove extraneous parentheses around the comparison to silence this warning
if ((*usesumx==0)) { //if suff stat not pre-computed
~ ^ ~
cseqdesma.c:4515:14: note: use '=' to turn this equality comparison into an assignment
if ((*usesumx==0)) { //if suff stat not pre-computed
^~
=
cseqdesma.c:5780:13: warning: equality comparison with extraneous parentheses [-Wparentheses-equality]
if ((*usel==0)) {
~~~~~^~~
cseqdesma.c:5780:13: note: remove extraneous parentheses around the comparison to silence this warning
if ((*usel==0)) {
~ ^ ~
cseqdesma.c:5780:13: note: use '=' to turn this equality comparison into an assignment
if ((*usel==0)) {
^~
=
cseqdesma.c:6014:13: warning: equality comparison with extraneous parentheses [-Wparentheses-equality]
if ((*usel==0)) {
~~~~~^~~
cseqdesma.c:6014:13: note: remove extraneous parentheses around the comparison to silence this warning
if ((*usel==0)) {
~ ^ ~
cseqdesma.c:6014:13: note: use '=' to turn this equality comparison into an assignment
if ((*usel==0)) {
^~
=
cseqdesma.c:6284:13: warning: equality comparison with extraneous parentheses [-Wparentheses-equality]
if ((*usel==0)) { //If l values have to be generated
~~~~~^~~
cseqdesma.c:6284:13: note: remove extraneous parentheses around the comparison to silence this warning
if ((*usel==0)) { //If l values have to be generated
~ ^ ~
cseqdesma.c:6284:13: note: use '=' to turn this equality comparison into an assignment
if ((*usel==0)) { //If l values have to be generated
^~
=
4 warnings generated.
clang -arch x86_64 -I"/Library/Frameworks/R.framework/Resources/include" -DNDEBUG -I/opt/R/x86_64/include -fPIC -falign-functions=64 -Wall -g -O2 -c cstat.c -o cstat.o
cstat.c:1836:6: warning: using integer absolute value function 'abs' when argument is of floating point type [-Wabsolute-value]
if(abs(ndf - 2.0) < eps) { /* df ~= 2 */
^
cstat.c:1836:6: note: use function 'fabs' instead
if(abs(ndf - 2.0) < eps) { /* df ~= 2 */
^~~
fabs
cstat.c:18:19: warning: unused variable 'interface_c_sccs_id' [-Wunused-const-variable]
static const char interface_c_sccs_id[] = "%W%";
^
cstat.c:19:19: warning: unused variable 'mess_c_sccs_id' [-Wunused-const-variable]
static const char mess_c_sccs_id[] = "%W%";
^
cstat.c:20:19: warning: unused variable 'nrutil_c_sccs_id' [-Wunused-const-variable]
static const char nrutil_c_sccs_id[] = "%W%";
^
cstat.c:21:19: warning: unused variable 'vector_c_sccs_id' [-Wunused-const-variable]
static const char vector_c_sccs_id[] = "%W%";
^
cstat.c:22:19: warning: unused variable 'css_c_sccs_id' [-Wunused-const-variable]
static const char css_c_sccs_id[] = "@(#)$Workfile: rand.c$ $Revision: 5$";
^
6 warnings generated.
clang -arch x86_64 -dynamiclib -Wl,-headerpad_max_install_names -undefined dynamic_lookup -L/Library/Frameworks/R.framework/Resources/lib -L/opt/R/x86_64/lib -o gaga.so cseqdesma.o cstat.o -F/Library/Frameworks/R.framework/.. -framework R
installing to /Users/biocbuild/bbs-3.21-bioc/meat/gaga.buildbin-libdir/00LOCK-gaga/00new/gaga/libs
** R
** inst
** byte-compile and prepare package for lazy loading
** help
*** installing help indices
** building package indices
** installing vignettes
** testing if installed package can be loaded from temporary location
** checking absolute paths in shared objects and dynamic libraries
** testing if installed package can be loaded from final location
** testing if installed package keeps a record of temporary installation path
* DONE (gaga)
>>>>>>>
>>>>>>> FIXING PATHS TO DYNAMIC LIBRARIES FOR gaga.buildbin-libdir/gaga/libs/gaga.so
>>>>>>>
>>>>>>> Paths before fix:
gaga.buildbin-libdir/gaga/libs/gaga.so:
gaga.so (compatibility version 0.0.0, current version 0.0.0)
/Library/Frameworks/R.framework/Versions/4.5-x86_64/Resources/lib/libR.dylib (compatibility version 4.5.0, current version 4.5.0)
/usr/lib/libSystem.B.dylib (compatibility version 1.0.0, current version 1292.100.5)
>>>>>>> Fix with install_name_tool:
install_name_tool -change "/usr/local/lib/libgcc_s.1.1.dylib" "/Library/Frameworks/R.framework/Versions/4.5-x86_64/Resources/lib/libgcc_s.1.1.dylib" "gaga.buildbin-libdir/gaga/libs/gaga.so"
install_name_tool -change "/usr/local/lib/libgfortran.5.dylib" "/Library/Frameworks/R.framework/Versions/4.5-x86_64/Resources/lib/libgfortran.5.dylib" "gaga.buildbin-libdir/gaga/libs/gaga.so"
install_name_tool -change "/usr/local/lib/libquadmath.0.dylib" "/Library/Frameworks/R.framework/Versions/4.5-x86_64/Resources/lib/libquadmath.0.dylib" "gaga.buildbin-libdir/gaga/libs/gaga.so"
>>>>>>> Paths after fix:
gaga.buildbin-libdir/gaga/libs/gaga.so:
gaga.so (compatibility version 0.0.0, current version 0.0.0)
/Library/Frameworks/R.framework/Versions/4.5-x86_64/Resources/lib/libR.dylib (compatibility version 4.5.0, current version 4.5.0)
/usr/lib/libSystem.B.dylib (compatibility version 1.0.0, current version 1292.100.5)