| Back to Multiple platform build/check report for BioC 3.21: simplified long |
|
This page was generated on 2025-10-16 11:41 -0400 (Thu, 16 Oct 2025).
| Hostname | OS | Arch (*) | R version | Installed pkgs |
|---|---|---|---|---|
| nebbiolo1 | Linux (Ubuntu 24.04.3 LTS) | x86_64 | 4.5.1 (2025-06-13) -- "Great Square Root" | 4833 |
| merida1 | macOS 12.7.6 Monterey | x86_64 | 4.5.1 RC (2025-06-05 r88288) -- "Great Square Root" | 4614 |
| kjohnson1 | macOS 13.7.5 Ventura | arm64 | 4.5.1 Patched (2025-06-14 r88325) -- "Great Square Root" | 4555 |
| kunpeng2 | Linux (openEuler 24.03 LTS) | aarch64 | R Under development (unstable) (2025-02-19 r87757) -- "Unsuffered Consequences" | 4586 |
| Click on any hostname to see more info about the system (e.g. compilers) (*) as reported by 'uname -p', except on Windows and Mac OS X | ||||
| Package 796/2341 | Hostname | OS / Arch | INSTALL | BUILD | CHECK | BUILD BIN | ||||||||
| gDRutils 1.6.0 (landing page) Arkadiusz Gladki
| nebbiolo1 | Linux (Ubuntu 24.04.3 LTS) / x86_64 | OK | OK | OK | |||||||||
| merida1 | macOS 12.7.6 Monterey / x86_64 | OK | OK | OK | OK | |||||||||
| kjohnson1 | macOS 13.7.5 Ventura / arm64 | OK | OK | OK | OK | |||||||||
| kunpeng2 | Linux (openEuler 24.03 LTS) / aarch64 | OK | OK | OK | ||||||||||
|
To the developers/maintainers of the gDRutils package: - Allow up to 24 hours (and sometimes 48 hours) for your latest push to git@git.bioconductor.org:packages/gDRutils.git to reflect on this report. See Troubleshooting Build Report for more information. - Use the following Renviron settings to reproduce errors and warnings. - If 'R CMD check' started to fail recently on the Linux builder(s) over a missing dependency, add the missing dependency to 'Suggests:' in your DESCRIPTION file. See Renviron.bioc for more information. - See Martin Grigorov's blog post for how to debug Linux ARM64 related issues on a x86_64 host. |
| Package: gDRutils |
| Version: 1.6.0 |
| Command: /home/biocbuild/R/R/bin/R CMD check --install=check:gDRutils.install-out.txt --library=/home/biocbuild/R/R/site-library --no-vignettes --timings gDRutils_1.6.0.tar.gz |
| StartedAt: 2025-10-14 09:21:03 -0000 (Tue, 14 Oct 2025) |
| EndedAt: 2025-10-14 09:25:58 -0000 (Tue, 14 Oct 2025) |
| EllapsedTime: 295.2 seconds |
| RetCode: 0 |
| Status: OK |
| CheckDir: gDRutils.Rcheck |
| Warnings: 0 |
##############################################################################
##############################################################################
###
### Running command:
###
### /home/biocbuild/R/R/bin/R CMD check --install=check:gDRutils.install-out.txt --library=/home/biocbuild/R/R/site-library --no-vignettes --timings gDRutils_1.6.0.tar.gz
###
##############################################################################
##############################################################################
* using log directory ‘/home/biocbuild/bbs-3.21-bioc/meat/gDRutils.Rcheck’
* using R Under development (unstable) (2025-02-19 r87757)
* using platform: aarch64-unknown-linux-gnu
* R was compiled by
aarch64-unknown-linux-gnu-gcc (GCC) 14.2.0
GNU Fortran (GCC) 14.2.0
* running under: openEuler 24.03 (LTS-SP1)
* using session charset: UTF-8
* using option ‘--no-vignettes’
* checking for file ‘gDRutils/DESCRIPTION’ ... OK
* checking extension type ... Package
* this is package ‘gDRutils’ version ‘1.6.0’
* package encoding: UTF-8
* checking package namespace information ... OK
* checking package dependencies ... OK
* checking if this is a source package ... OK
* checking if there is a namespace ... OK
* checking for hidden files and directories ... OK
* checking for portable file names ... OK
* checking for sufficient/correct file permissions ... OK
* checking whether package ‘gDRutils’ can be installed ... OK
* checking installed package size ... OK
* checking package directory ... OK
* checking ‘build’ directory ... OK
* checking DESCRIPTION meta-information ... OK
* checking top-level files ... OK
* checking for left-over files ... OK
* checking index information ... OK
* checking package subdirectories ... OK
* checking code files for non-ASCII characters ... OK
* checking R files for syntax errors ... OK
* checking whether the package can be loaded ... OK
* checking whether the package can be loaded with stated dependencies ... OK
* checking whether the package can be unloaded cleanly ... OK
* checking whether the namespace can be loaded with stated dependencies ... OK
* checking whether the namespace can be unloaded cleanly ... OK
* checking loading without being on the library search path ... OK
* checking dependencies in R code ... OK
* checking S3 generic/method consistency ... OK
* checking replacement functions ... OK
* checking foreign function calls ... OK
* checking R code for possible problems ... OK
* checking Rd files ... OK
* checking Rd metadata ... OK
* checking Rd cross-references ... NOTE
Found the following Rd file(s) with Rd \link{} targets missing package
anchors:
SE_metadata.Rd: SummarizedExperiment-class
convert_mae_assay_to_dt.Rd: SummarizedExperiment-class,
MultiAssayExperiment-class
convert_se_assay_to_dt.Rd: SummarizedExperiment-class
is_exp_empty.Rd: SummarizedExperiment-class
split_SE_components.Rd: SummarizedExperiment-class
validate_se_assay_name.Rd: SummarizedExperiment-class
Please provide package anchors for all Rd \link{} targets not in the
package itself and the base packages.
* checking for missing documentation entries ... OK
* checking for code/documentation mismatches ... OK
* checking Rd \usage sections ... OK
* checking Rd contents ... OK
* checking for unstated dependencies in examples ... OK
* checking files in ‘vignettes’ ... OK
* checking examples ... OK
* checking for unstated dependencies in ‘tests’ ... OK
* checking tests ...
Running ‘testthat.R’
OK
* checking for unstated dependencies in vignettes ... OK
* checking package vignettes ... OK
* checking running R code from vignettes ... SKIPPED
* checking re-building of vignette outputs ... SKIPPED
* checking PDF version of manual ... OK
* DONE
Status: 1 NOTE
See
‘/home/biocbuild/bbs-3.21-bioc/meat/gDRutils.Rcheck/00check.log’
for details.
gDRutils.Rcheck/00install.out
############################################################################## ############################################################################## ### ### Running command: ### ### /home/biocbuild/R/R/bin/R CMD INSTALL gDRutils ### ############################################################################## ############################################################################## * installing to library ‘/home/biocbuild/R/R-devel_2025-02-19/site-library’ * installing *source* package ‘gDRutils’ ... ** this is package ‘gDRutils’ version ‘1.6.0’ ** using staged installation ** R ** inst ** byte-compile and prepare package for lazy loading ** help *** installing help indices ** building package indices ** installing vignettes ** testing if installed package can be loaded from temporary location ** testing if installed package can be loaded from final location ** testing if installed package keeps a record of temporary installation path * DONE (gDRutils)
gDRutils.Rcheck/tests/testthat.Rout
R Under development (unstable) (2025-02-19 r87757) -- "Unsuffered Consequences"
Copyright (C) 2025 The R Foundation for Statistical Computing
Platform: aarch64-unknown-linux-gnu
R is free software and comes with ABSOLUTELY NO WARRANTY.
You are welcome to redistribute it under certain conditions.
Type 'license()' or 'licence()' for distribution details.
R is a collaborative project with many contributors.
Type 'contributors()' for more information and
'citation()' on how to cite R or R packages in publications.
Type 'demo()' for some demos, 'help()' for on-line help, or
'help.start()' for an HTML browser interface to help.
Type 'q()' to quit R.
> library("gDRutils")
> library("testthat")
>
> test_check("gDRutils")
[ FAIL 0 | WARN 0 | SKIP 0 | PASS 778 ]
>
> proc.time()
user system elapsed
76.886 2.847 79.329
gDRutils.Rcheck/gDRutils-Ex.timings
| name | user | system | elapsed | |
| MAEpply | 0.550 | 0.044 | 0.596 | |
| SE_metadata | 0.05 | 0.00 | 0.05 | |
| addClass | 0.002 | 0.000 | 0.002 | |
| aggregate_assay | 0.734 | 0.020 | 0.756 | |
| apply_bumpy_function | 2.952 | 0.506 | 3.467 | |
| assert_choices | 0.000 | 0.000 | 0.001 | |
| average_biological_replicates_dt | 0.073 | 0.000 | 0.074 | |
| calc_sd | 0.001 | 0.000 | 0.001 | |
| capVals | 0.505 | 0.075 | 0.584 | |
| cap_assay_infinities | 0.380 | 0.044 | 0.417 | |
| cap_xc50 | 0 | 0 | 0 | |
| convert_colData_to_json | 0.074 | 0.004 | 0.079 | |
| convert_combo_data_to_dt | 0.343 | 0.016 | 0.357 | |
| convert_combo_field_to_assay | 0.002 | 0.000 | 0.002 | |
| convert_mae_assay_to_dt | 0.088 | 0.000 | 0.087 | |
| convert_mae_to_json | 0.022 | 0.000 | 0.021 | |
| convert_metadata_to_json | 0.012 | 0.000 | 0.012 | |
| convert_rowData_to_json | 0.003 | 0.000 | 0.003 | |
| convert_se_assay_to_custom_dt | 0.571 | 0.012 | 0.581 | |
| convert_se_assay_to_dt | 0.086 | 0.000 | 0.087 | |
| convert_se_to_json | 0.018 | 0.000 | 0.019 | |
| define_matrix_grid_positions | 0.075 | 0.000 | 0.074 | |
| demote_fields | 0.557 | 0.008 | 0.557 | |
| df_to_bm_assay | 0.178 | 0.012 | 0.190 | |
| dot-set_invalid_fit_params | 0.001 | 0.000 | 0.000 | |
| dot-standardize_conc | 0.001 | 0.000 | 0.000 | |
| extend_normalization_type_name | 0.001 | 0.000 | 0.000 | |
| fit_curves | 0.215 | 0.012 | 0.227 | |
| flatten | 0.011 | 0.000 | 0.012 | |
| gen_synthetic_data | 0.008 | 0.000 | 0.008 | |
| geometric_mean | 0.001 | 0.000 | 0.000 | |
| get_MAE_identifiers | 0.006 | 0.003 | 0.009 | |
| get_additional_variables | 0.011 | 0.000 | 0.011 | |
| get_assay_dt_duplicated_rows | 0.178 | 0.007 | 0.186 | |
| get_assay_names | 0 | 0 | 0 | |
| get_assay_req_uniq_cols | 0.127 | 0.001 | 0.128 | |
| get_combo_assay_names | 0.001 | 0.000 | 0.000 | |
| get_combo_base_assay_names | 0.001 | 0.000 | 0.001 | |
| get_combo_excess_field_names | 0.002 | 0.000 | 0.002 | |
| get_combo_score_assay_names | 0.002 | 0.000 | 0.002 | |
| get_combo_score_field_names | 0.001 | 0.000 | 0.001 | |
| get_default_identifiers | 0 | 0 | 0 | |
| get_duplicated_rows | 0.003 | 0.000 | 0.003 | |
| get_env_assay_names | 0 | 0 | 0 | |
| get_env_var | 0 | 0 | 0 | |
| get_expect_one_identifiers | 0 | 0 | 0 | |
| get_experiment_groups | 0 | 0 | 0 | |
| get_gDR_session_info | 0.066 | 0.003 | 0.070 | |
| get_identifiers_dt | 0.007 | 0.000 | 0.007 | |
| get_idfs_synonyms | 0 | 0 | 0 | |
| get_isobologram_columns | 0.047 | 0.001 | 0.047 | |
| get_non_empty_assays | 0.063 | 0.000 | 0.062 | |
| get_required_identifiers | 0 | 0 | 0 | |
| get_settings_from_json | 0.001 | 0.000 | 0.001 | |
| get_supported_experiments | 0 | 0 | 0 | |
| get_synthetic_data | 0.014 | 0.000 | 0.014 | |
| get_testdata | 0.109 | 0.000 | 0.109 | |
| get_testdata_codilution | 0.099 | 0.007 | 0.109 | |
| get_testdata_combo | 0.325 | 0.016 | 0.357 | |
| has_assay_dt_duplicated_rows | 0.123 | 0.000 | 0.124 | |
| has_dt_duplicated_rows | 0.001 | 0.000 | 0.000 | |
| has_single_codrug_data | 0.109 | 0.000 | 0.108 | |
| has_valid_codrug_data | 0.106 | 0.000 | 0.106 | |
| headers | 0.012 | 0.004 | 0.016 | |
| identifiers | 0.000 | 0.000 | 0.001 | |
| identify_unique_se_metadata_fields | 0.010 | 0.000 | 0.011 | |
| is_any_exp_empty | 0.065 | 0.000 | 0.064 | |
| is_combo_data | 0.194 | 0.004 | 0.199 | |
| is_exp_empty | 0.107 | 0.012 | 0.118 | |
| is_mae_empty | 0.064 | 0.000 | 0.062 | |
| logisticFit | 0.029 | 0.004 | 0.033 | |
| loop | 0.000 | 0.000 | 0.001 | |
| map_conc_to_standardized_conc | 0.004 | 0.000 | 0.004 | |
| mcolData | 0.018 | 0.000 | 0.018 | |
| merge_SE | 2.254 | 0.040 | 2.291 | |
| merge_assay | 0.443 | 0.012 | 0.457 | |
| merge_metadata | 0.011 | 0.000 | 0.011 | |
| modifyData | 0.154 | 0.004 | 0.159 | |
| mrowData | 0.019 | 0.000 | 0.019 | |
| predict_conc_from_efficacy | 0 | 0 | 0 | |
| predict_efficacy_from_conc | 0.001 | 0.000 | 0.001 | |
| prettify_flat_metrics | 0.027 | 0.004 | 0.031 | |
| promote_fields | 0.307 | 0.000 | 0.307 | |
| refine_coldata | 0.016 | 0.000 | 0.016 | |
| refine_rowdata | 0.064 | 0.004 | 0.068 | |
| remove_codrug_data | 0.045 | 0.000 | 0.045 | |
| remove_drug_batch | 0.002 | 0.000 | 0.002 | |
| rename_DFrame | 0.014 | 0.000 | 0.014 | |
| rename_bumpy | 0.042 | 0.000 | 0.041 | |
| round_concentration | 0 | 0 | 0 | |
| set_constant_fit_params | 0.000 | 0.000 | 0.001 | |
| set_unique_cl_names | 0.086 | 0.000 | 0.087 | |
| set_unique_cl_names_dt | 0.026 | 0.000 | 0.026 | |
| set_unique_drug_names | 0.076 | 0.000 | 0.075 | |
| set_unique_drug_names_dt | 0.051 | 0.000 | 0.050 | |
| set_unique_identifiers | 1.134 | 0.083 | 1.221 | |
| set_unique_names_dt | 0.027 | 0.000 | 0.027 | |
| shorten_normalization_type_name | 0.001 | 0.000 | 0.000 | |
| split_SE_components | 0.077 | 0.000 | 0.076 | |
| split_big_table_for_xlsx | 0.006 | 0.000 | 0.006 | |
| standardize_mae | 0.157 | 0.000 | 0.157 | |
| standardize_se | 0.042 | 0.000 | 0.043 | |
| throw_msg_if_duplicates | 0.117 | 0.000 | 0.118 | |
| update_env_idfs_from_mae | 0.002 | 0.000 | 0.001 | |
| update_idfs_synonyms | 0.001 | 0.000 | 0.000 | |
| validate_MAE | 0.099 | 0.000 | 0.099 | |
| validate_SE | 0.033 | 0.000 | 0.034 | |
| validate_identifiers | 0.008 | 0.000 | 0.009 | |
| validate_json | 0 | 0 | 0 | |
| validate_mae_with_schema | 0.719 | 0.033 | 0.903 | |
| validate_se_assay_name | 0.01 | 0.00 | 0.01 | |