| Back to Multiple platform build/check report for BioC 3.22: simplified long |
|
This page was generated on 2025-11-12 11:58 -0500 (Wed, 12 Nov 2025).
| Hostname | OS | Arch (*) | R version | Installed pkgs |
|---|---|---|---|---|
| nebbiolo2 | Linux (Ubuntu 24.04.3 LTS) | x86_64 | 4.5.1 Patched (2025-08-23 r88802) -- "Great Square Root" | 4902 |
| taishan | Linux (openEuler 24.03 LTS) | aarch64 | 4.5.0 (2025-04-11) -- "How About a Twenty-Six" | 4668 |
| Click on any hostname to see more info about the system (e.g. compilers) (*) as reported by 'uname -p', except on Windows and Mac OS X | ||||
| Package 804/2361 | Hostname | OS / Arch | INSTALL | BUILD | CHECK | BUILD BIN | ||||||||
| gDRimport 1.8.0 (landing page) Arkadiusz Gladki
| nebbiolo2 | Linux (Ubuntu 24.04.3 LTS) / x86_64 | OK | OK | OK | |||||||||
| taishan | Linux (openEuler 24.03 LTS) / aarch64 | OK | OK | OK | ||||||||||
|
To the developers/maintainers of the gDRimport package: - Allow up to 24 hours (and sometimes 48 hours) for your latest push to git@git.bioconductor.org:packages/gDRimport.git to reflect on this report. See Troubleshooting Build Report for more information. - Use the following Renviron settings to reproduce errors and warnings. - If 'R CMD check' started to fail recently on the Linux builder(s) over a missing dependency, add the missing dependency to 'Suggests:' in your DESCRIPTION file. See Renviron.bioc for more information. - See Martin Grigorov's blog post for how to debug Linux ARM64 related issues on a x86_64 host. |
| Package: gDRimport |
| Version: 1.8.0 |
| Command: /home/biocbuild/R/R/bin/R CMD check --install=check:gDRimport.install-out.txt --library=/home/biocbuild/R/R/site-library --no-vignettes --timings gDRimport_1.8.0.tar.gz |
| StartedAt: 2025-11-11 09:54:59 -0000 (Tue, 11 Nov 2025) |
| EndedAt: 2025-11-11 09:58:57 -0000 (Tue, 11 Nov 2025) |
| EllapsedTime: 238.2 seconds |
| RetCode: 0 |
| Status: OK |
| CheckDir: gDRimport.Rcheck |
| Warnings: 0 |
##############################################################################
##############################################################################
###
### Running command:
###
### /home/biocbuild/R/R/bin/R CMD check --install=check:gDRimport.install-out.txt --library=/home/biocbuild/R/R/site-library --no-vignettes --timings gDRimport_1.8.0.tar.gz
###
##############################################################################
##############################################################################
* using log directory ‘/home/biocbuild/bbs-3.22-bioc/meat/gDRimport.Rcheck’
* using R version 4.5.0 (2025-04-11)
* using platform: aarch64-unknown-linux-gnu
* R was compiled by
aarch64-unknown-linux-gnu-gcc (GCC) 14.2.0
GNU Fortran (GCC) 14.2.0
* running under: openEuler 24.03 (LTS)
* using session charset: UTF-8
* using option ‘--no-vignettes’
* checking for file ‘gDRimport/DESCRIPTION’ ... OK
* checking extension type ... Package
* this is package ‘gDRimport’ version ‘1.8.0’
* package encoding: UTF-8
* checking package namespace information ... OK
* checking package dependencies ... OK
* checking if this is a source package ... OK
* checking if there is a namespace ... OK
* checking for hidden files and directories ... OK
* checking for portable file names ... OK
* checking for sufficient/correct file permissions ... OK
* checking whether package ‘gDRimport’ can be installed ... OK
* checking installed package size ... OK
* checking package directory ... OK
* checking ‘build’ directory ... OK
* checking DESCRIPTION meta-information ... OK
* checking top-level files ... OK
* checking for left-over files ... OK
* checking index information ... OK
* checking package subdirectories ... OK
* checking code files for non-ASCII characters ... OK
* checking R files for syntax errors ... OK
* checking whether the package can be loaded ... OK
* checking whether the package can be loaded with stated dependencies ... OK
* checking whether the package can be unloaded cleanly ... OK
* checking whether the namespace can be loaded with stated dependencies ... OK
* checking whether the namespace can be unloaded cleanly ... OK
* checking loading without being on the library search path ... OK
* checking dependencies in R code ... OK
* checking S3 generic/method consistency ... OK
* checking replacement functions ... OK
* checking foreign function calls ... OK
* checking R code for possible problems ... OK
* checking Rd files ... OK
* checking Rd metadata ... OK
* checking Rd cross-references ... OK
* checking for missing documentation entries ... OK
* checking for code/documentation mismatches ... OK
* checking Rd \usage sections ... OK
* checking Rd contents ... OK
* checking for unstated dependencies in examples ... OK
* checking files in ‘vignettes’ ... OK
* checking examples ... OK
Examples with CPU (user + system) or elapsed time > 5s
user system elapsed
convert_MAE_to_PSet 9.048 0.447 9.554
* checking for unstated dependencies in ‘tests’ ... OK
* checking tests ...
Running ‘testthat.R’
OK
* checking for unstated dependencies in vignettes ... OK
* checking package vignettes ... OK
* checking running R code from vignettes ... SKIPPED
* checking re-building of vignette outputs ... SKIPPED
* checking PDF version of manual ... OK
* DONE
Status: OK
gDRimport.Rcheck/00install.out
############################################################################## ############################################################################## ### ### Running command: ### ### /home/biocbuild/R/R/bin/R CMD INSTALL gDRimport ### ############################################################################## ############################################################################## * installing to library ‘/home/biocbuild/R/R-4.5.0/site-library’ * installing *source* package ‘gDRimport’ ... ** this is package ‘gDRimport’ version ‘1.8.0’ ** using staged installation ** R ** inst ** byte-compile and prepare package for lazy loading ** help *** installing help indices ** building package indices ** installing vignettes ** testing if installed package can be loaded from temporary location ** testing if installed package can be loaded from final location ** testing if installed package keeps a record of temporary installation path * DONE (gDRimport)
gDRimport.Rcheck/tests/testthat.Rout
R version 4.5.0 (2025-04-11) -- "How About a Twenty-Six"
Copyright (C) 2025 The R Foundation for Statistical Computing
Platform: aarch64-unknown-linux-gnu
R is free software and comes with ABSOLUTELY NO WARRANTY.
You are welcome to redistribute it under certain conditions.
Type 'license()' or 'licence()' for distribution details.
R is a collaborative project with many contributors.
Type 'contributors()' for more information and
'citation()' on how to cite R or R packages in publications.
Type 'demo()' for some demos, 'help()' for on-line help, or
'help.start()' for an HTML browser interface to help.
Type 'q()' to quit R.
> library(testthat)
> library(gDRimport)
>
> test_check("gDRimport")
2025-11-11 09:58:28 Building assay index...
2025-11-11 09:58:28 Joining rowData to assayIndex...
2025-11-11 09:58:29 Joining colData to assayIndex...
2025-11-11 09:58:30 Joining assays to assayIndex...
2025-11-11 09:58:31 Setting assayIndex key...
2025-11-11 09:58:32 Building LongTable...
2025-11-11 09:58:33 Building assay index...
2025-11-11 09:58:33 Joining rowData to assayIndex...
2025-11-11 09:58:34 Joining colData to assayIndex...
2025-11-11 09:58:35 Joining assays to assayIndex...
2025-11-11 09:58:36 Setting assayIndex key...
2025-11-11 09:58:37 Building LongTable...
INFO [2025-11-11 09:58:38] Manifest loaded successfully
INFO [2025-11-11 09:58:38] Manifest loaded successfully
INFO [2025-11-11 09:58:38] Reading file /home/biocbuild/R/R-4.5.0/site-library/gDRimport/extdata/data1/RawData_day0.xlsx, sheet Readout_0077vs0068_day7
INFO [2025-11-11 09:58:38] Plate 201904190a read; 384 wells
INFO [2025-11-11 09:58:38] Plate 201904190b read; 384 wells
INFO [2025-11-11 09:58:38] Plate 201904190c read; 384 wells
INFO [2025-11-11 09:58:38] Plate 201904190d read; 384 wells
INFO [2025-11-11 09:58:38] Plate 201904190e read; 384 wells
INFO [2025-11-11 09:58:38] Plate 201904190f read; 384 wells
INFO [2025-11-11 09:58:38] File done
INFO [2025-11-11 09:58:38] Reading file /home/biocbuild/R/R-4.5.0/site-library/gDRimport/extdata/data1/RawData_day7.xlsx, sheet Readout_0077vs0068_day7
INFO [2025-11-11 09:58:39] Plate 201904197a read; 384 wells
INFO [2025-11-11 09:58:39] Plate 201904197b read; 384 wells
INFO [2025-11-11 09:58:39] Plate 201904197c read; 384 wells
INFO [2025-11-11 09:58:39] Plate 201904197d read; 384 wells
INFO [2025-11-11 09:58:39] Plate 201904197e read; 384 wells
INFO [2025-11-11 09:58:39] Plate 201904197f read; 384 wells
INFO [2025-11-11 09:58:39] File done
INFO [2025-11-11 09:58:39] Reading file /home/biocbuild/R/R-4.5.0/site-library/gDRimport/extdata/data1/RawData_day0.xlsx, sheet Readout_0077vs0068_day7
INFO [2025-11-11 09:58:40] Plate 201904190a read; 384 wells
INFO [2025-11-11 09:58:40] Plate 201904190b read; 384 wells
INFO [2025-11-11 09:58:40] Plate 201904190c read; 384 wells
INFO [2025-11-11 09:58:40] Plate 201904190d read; 384 wells
INFO [2025-11-11 09:58:40] Plate 201904190e read; 384 wells
INFO [2025-11-11 09:58:40] Plate 201904190f read; 384 wells
INFO [2025-11-11 09:58:40] File done
INFO [2025-11-11 09:58:40] Reading file /home/biocbuild/R/R-4.5.0/site-library/gDRimport/extdata/data1/RawData_day7.xlsx, sheet Readout_0077vs0068_day7
INFO [2025-11-11 09:58:40] Plate 201904197a read; 384 wells
INFO [2025-11-11 09:58:40] Plate 201904197b read; 384 wells
INFO [2025-11-11 09:58:40] Plate 201904197c read; 384 wells
INFO [2025-11-11 09:58:40] Plate 201904197d read; 384 wells
INFO [2025-11-11 09:58:40] Plate 201904197e read; 384 wells
INFO [2025-11-11 09:58:40] Plate 201904197f read; 384 wells
INFO [2025-11-11 09:58:40] File done
INFO [2025-11-11 09:58:40] Reading file /home/biocbuild/R/R-4.5.0/site-library/gDRimport/extdata/data1/RawData_day0.xlsx, sheet Readout_0077vs0068_day7
INFO [2025-11-11 09:58:41] Plate 201904190a read; 384 wells
INFO [2025-11-11 09:58:41] Plate 201904190b read; 384 wells
INFO [2025-11-11 09:58:41] Plate 201904190c read; 384 wells
INFO [2025-11-11 09:58:41] Plate 201904190d read; 384 wells
INFO [2025-11-11 09:58:41] Plate 201904190e read; 384 wells
INFO [2025-11-11 09:58:41] Plate 201904190f read; 384 wells
INFO [2025-11-11 09:58:41] File done
INFO [2025-11-11 09:58:41] Reading file /home/biocbuild/R/R-4.5.0/site-library/gDRimport/extdata/data2/RawData_Tecan_96_well_plates.xlsx, sheet H2122-2
INFO [2025-11-11 09:58:41] Reading file /home/biocbuild/R/R-4.5.0/site-library/gDRimport/extdata/data2/RawData_Tecan_96_well_plates.xlsx, sheet H358-2
INFO [2025-11-11 09:58:41] Reading file /home/biocbuild/R/R-4.5.0/site-library/gDRimport/extdata/data2/RawData_Tecan_96_well_plates.xlsx, sheet H358-1
INFO [2025-11-11 09:58:41] Reading file /home/biocbuild/R/R-4.5.0/site-library/gDRimport/extdata/data2/RawData_Tecan_96_well_plates.xlsx, sheet H2122-1
INFO [2025-11-11 09:58:42] Reading Template_7daytreated.xlsx with load_templates_xlsx
INFO [2025-11-11 09:58:42] Loading Template_7daytreated.xlsx
INFO [2025-11-11 09:58:42] Loading Template_Untreated.xlsx
INFO [2025-11-11 09:58:42] Templates loaded successfully!
INFO [2025-11-11 09:58:42] Reading Template_7daytreated.xlsx with load_templates_xlsx
INFO [2025-11-11 09:58:42] Loading Template_7daytreated.xlsx
INFO [2025-11-11 09:58:42] Loading Template_Untreated.xlsx
INFO [2025-11-11 09:58:42] Templates loaded successfully!
INFO [2025-11-11 09:58:42] Reading D300_trt_Tecan_96_well_plates.xlsx with load_templates_xlsx
INFO [2025-11-11 09:58:42] Loading D300_trt_Tecan_96_well_plates.xlsx
INFO [2025-11-11 09:58:43] Templates loaded successfully!
INFO [2025-11-11 09:58:43] Reading Template_7daytreated.xlsx with load_templates_xlsx
INFO [2025-11-11 09:58:43] Loading Template_7daytreated.xlsx
INFO [2025-11-11 09:58:43] Templates loaded successfully!
INFO [2025-11-11 09:58:43] Manifest loaded successfully
INFO [2025-11-11 09:58:43] Reading Template_7daytreated.xlsx with load_templates_xlsx
INFO [2025-11-11 09:58:43] Loading Template_7daytreated.xlsx
INFO [2025-11-11 09:58:43] Loading Template_Untreated.xlsx
INFO [2025-11-11 09:58:43] Templates loaded successfully!
INFO [2025-11-11 09:58:43] Reading file /home/biocbuild/R/R-4.5.0/site-library/gDRimport/extdata/data1/RawData_day0.xlsx, sheet Readout_0077vs0068_day7
INFO [2025-11-11 09:58:44] Plate 201904190a read; 384 wells
INFO [2025-11-11 09:58:44] Plate 201904190b read; 384 wells
INFO [2025-11-11 09:58:44] Plate 201904190c read; 384 wells
INFO [2025-11-11 09:58:44] Plate 201904190d read; 384 wells
INFO [2025-11-11 09:58:44] Plate 201904190e read; 384 wells
INFO [2025-11-11 09:58:44] Plate 201904190f read; 384 wells
INFO [2025-11-11 09:58:44] File done
INFO [2025-11-11 09:58:44] Reading file /home/biocbuild/R/R-4.5.0/site-library/gDRimport/extdata/data1/RawData_day7.xlsx, sheet Readout_0077vs0068_day7
INFO [2025-11-11 09:58:44] Plate 201904197a read; 384 wells
INFO [2025-11-11 09:58:44] Plate 201904197b read; 384 wells
INFO [2025-11-11 09:58:44] Plate 201904197c read; 384 wells
INFO [2025-11-11 09:58:44] Plate 201904197d read; 384 wells
INFO [2025-11-11 09:58:44] Plate 201904197e read; 384 wells
INFO [2025-11-11 09:58:44] Plate 201904197f read; 384 wells
INFO [2025-11-11 09:58:44] File done
INFO [2025-11-11 09:58:45] Manifest loaded successfully
INFO [2025-11-11 09:58:45] Reading D300_trt_Tecan_96_well_plates.xlsx with load_templates_xlsx
INFO [2025-11-11 09:58:45] Loading D300_trt_Tecan_96_well_plates.xlsx
INFO [2025-11-11 09:58:45] Templates loaded successfully!
INFO [2025-11-11 09:58:45] Reading file /home/biocbuild/R/R-4.5.0/site-library/gDRimport/extdata/data2/RawData_Tecan_96_well_plates.xlsx, sheet H2122-2
INFO [2025-11-11 09:58:45] Reading file /home/biocbuild/R/R-4.5.0/site-library/gDRimport/extdata/data2/RawData_Tecan_96_well_plates.xlsx, sheet H358-2
INFO [2025-11-11 09:58:45] Reading file /home/biocbuild/R/R-4.5.0/site-library/gDRimport/extdata/data2/RawData_Tecan_96_well_plates.xlsx, sheet H358-1
INFO [2025-11-11 09:58:45] Reading file /home/biocbuild/R/R-4.5.0/site-library/gDRimport/extdata/data2/RawData_Tecan_96_well_plates.xlsx, sheet H2122-1
INFO [2025-11-11 09:58:46] Manifest loaded successfully
INFO [2025-11-11 09:58:46] Reading Project40.treated.template.xlsx with load_templates_xlsx
INFO [2025-11-11 09:58:46] Loading Project40.treated.template.xlsx
INFO [2025-11-11 09:58:46] Loading Project40.untreated.template.xlsx
INFO [2025-11-11 09:58:46] Templates loaded successfully!
INFO [2025-11-11 09:58:46] Reading file /home/biocbuild/R/R-4.5.0/site-library/gDRimport/extdata/data4/H0109269D00.csv, sheet 0
INFO [2025-11-11 09:58:46] Plate H0109269D00 read; 384 wells
INFO [2025-11-11 09:58:46] File done
INFO [2025-11-11 09:58:46] Reading file /home/biocbuild/R/R-4.5.0/site-library/gDRimport/extdata/data4/H0109269D01.csv, sheet 0
INFO [2025-11-11 09:58:46] Plate H0109269D01 read; 384 wells
INFO [2025-11-11 09:58:46] File done
INFO [2025-11-11 09:58:46] Reading file /home/biocbuild/R/R-4.5.0/site-library/gDRimport/extdata/data4/H0309269D00.csv, sheet 0
INFO [2025-11-11 09:58:46] Plate H0309269D00 read; 384 wells
INFO [2025-11-11 09:58:46] File done
INFO [2025-11-11 09:58:46] Reading file /home/biocbuild/R/R-4.5.0/site-library/gDRimport/extdata/data4/H0309269D01.csv, sheet 0
INFO [2025-11-11 09:58:46] Plate H0309269D01 read; 384 wells
INFO [2025-11-11 09:58:46] File done
INFO [2025-11-11 09:58:46] Reading file /home/biocbuild/R/R-4.5.0/site-library/gDRimport/extdata/data4/H0409269D00.csv, sheet 0
INFO [2025-11-11 09:58:46] Plate H0409269D00 read; 384 wells
INFO [2025-11-11 09:58:46] File done
INFO [2025-11-11 09:58:46] Reading file /home/biocbuild/R/R-4.5.0/site-library/gDRimport/extdata/data4/H0409269D01.csv, sheet 0
INFO [2025-11-11 09:58:46] Plate H0409269D01 read; 384 wells
INFO [2025-11-11 09:58:46] File done
INFO [2025-11-11 09:58:46] Reading file /home/biocbuild/R/R-4.5.0/site-library/gDRimport/extdata/data4/H0509269D00.csv, sheet 0
INFO [2025-11-11 09:58:46] Plate H0509269D00 read; 384 wells
INFO [2025-11-11 09:58:46] File done
INFO [2025-11-11 09:58:46] Reading file /home/biocbuild/R/R-4.5.0/site-library/gDRimport/extdata/data4/H0509269D01.csv, sheet 0
INFO [2025-11-11 09:58:46] Plate H0509269D01 read; 384 wells
INFO [2025-11-11 09:58:46] File done
INFO [2025-11-11 09:58:46] Reading file /home/biocbuild/R/R-4.5.0/site-library/gDRimport/extdata/data4/H0609269D00.csv, sheet 0
INFO [2025-11-11 09:58:46] Plate H0609269D00 read; 384 wells
INFO [2025-11-11 09:58:46] File done
INFO [2025-11-11 09:58:46] Reading file /home/biocbuild/R/R-4.5.0/site-library/gDRimport/extdata/data4/H0609269D01.csv, sheet 0
INFO [2025-11-11 09:58:46] Plate H0609269D01 read; 384 wells
INFO [2025-11-11 09:58:46] File done
INFO [2025-11-11 09:58:46] Reading file /home/biocbuild/R/R-4.5.0/site-library/gDRimport/extdata/data4/H0709269D00.csv, sheet 0
INFO [2025-11-11 09:58:46] Plate H0709269D00 read; 384 wells
INFO [2025-11-11 09:58:46] File done
INFO [2025-11-11 09:58:46] Reading file /home/biocbuild/R/R-4.5.0/site-library/gDRimport/extdata/data4/H0709269D01.csv, sheet 0
INFO [2025-11-11 09:58:46] Plate H0709269D01 read; 384 wells
INFO [2025-11-11 09:58:46] File done
INFO [2025-11-11 09:58:46] Reading file /home/biocbuild/R/R-4.5.0/site-library/gDRimport/extdata/data4/H0809269D00.csv, sheet 0
INFO [2025-11-11 09:58:46] Plate H0809269D00 read; 384 wells
INFO [2025-11-11 09:58:46] File done
INFO [2025-11-11 09:58:46] Reading file /home/biocbuild/R/R-4.5.0/site-library/gDRimport/extdata/data4/H0809269D01.csv, sheet 0
INFO [2025-11-11 09:58:46] Plate H0809269D01 read; 384 wells
INFO [2025-11-11 09:58:46] File done
INFO [2025-11-11 09:58:46] Reading file /home/biocbuild/R/R-4.5.0/site-library/gDRimport/extdata/data4/H0909269D00.csv, sheet 0
INFO [2025-11-11 09:58:46] Plate H0909269D00 read; 384 wells
INFO [2025-11-11 09:58:46] File done
INFO [2025-11-11 09:58:46] Reading file /home/biocbuild/R/R-4.5.0/site-library/gDRimport/extdata/data4/H0909269D01.csv, sheet 0
INFO [2025-11-11 09:58:46] Plate H0909269D01 read; 384 wells
INFO [2025-11-11 09:58:46] File done
INFO [2025-11-11 09:58:46] Reading file /home/biocbuild/R/R-4.5.0/site-library/gDRimport/extdata/data4/H1109269D00.csv, sheet 0
INFO [2025-11-11 09:58:47] Plate H1109269D00 read; 384 wells
INFO [2025-11-11 09:58:47] File done
INFO [2025-11-11 09:58:47] Reading file /home/biocbuild/R/R-4.5.0/site-library/gDRimport/extdata/data4/H1109269D01.csv, sheet 0
INFO [2025-11-11 09:58:47] Plate H1109269D01 read; 384 wells
INFO [2025-11-11 09:58:47] File done
INFO [2025-11-11 09:58:47] Reading file /home/biocbuild/R/R-4.5.0/site-library/gDRimport/extdata/data4/H1209269D00.csv, sheet 0
INFO [2025-11-11 09:58:47] Plate H1209269D00 read; 384 wells
INFO [2025-11-11 09:58:47] File done
INFO [2025-11-11 09:58:47] Reading file /home/biocbuild/R/R-4.5.0/site-library/gDRimport/extdata/data4/H1209269D01.csv, sheet 0
INFO [2025-11-11 09:58:47] Plate H1209269D01 read; 384 wells
INFO [2025-11-11 09:58:47] File done
INFO [2025-11-11 09:58:47] Reading file /home/biocbuild/R/R-4.5.0/site-library/gDRimport/extdata/data4/H1409269D00.csv, sheet 0
INFO [2025-11-11 09:58:47] Plate H1409269D00 read; 384 wells
INFO [2025-11-11 09:58:47] File done
INFO [2025-11-11 09:58:47] Reading file /home/biocbuild/R/R-4.5.0/site-library/gDRimport/extdata/data4/H1409269D01.csv, sheet 0
INFO [2025-11-11 09:58:47] Plate H1409269D01 read; 384 wells
INFO [2025-11-11 09:58:47] File done
INFO [2025-11-11 09:58:47] Reading file /home/biocbuild/R/R-4.5.0/site-library/gDRimport/extdata/data4/K0209269D00.csv, sheet 0
INFO [2025-11-11 09:58:47] Plate K0209269D00 read; 384 wells
INFO [2025-11-11 09:58:47] File done
INFO [2025-11-11 09:58:47] Reading file /home/biocbuild/R/R-4.5.0/site-library/gDRimport/extdata/data4/K0209269D01.csv, sheet 0
INFO [2025-11-11 09:58:47] Plate K0209269D01 read; 384 wells
INFO [2025-11-11 09:58:47] File done
INFO [2025-11-11 09:58:47] Reading file /home/biocbuild/R/R-4.5.0/site-library/gDRimport/extdata/data4/K0809269D00.csv, sheet 0
INFO [2025-11-11 09:58:47] Plate K0809269D00 read; 384 wells
INFO [2025-11-11 09:58:47] File done
INFO [2025-11-11 09:58:47] Reading file /home/biocbuild/R/R-4.5.0/site-library/gDRimport/extdata/data4/K0809269D01.csv, sheet 0
INFO [2025-11-11 09:58:47] Plate K0809269D01 read; 384 wells
INFO [2025-11-11 09:58:47] File done
INFO [2025-11-11 09:58:47] Reading file /home/biocbuild/R/R-4.5.0/site-library/gDRimport/extdata/data4/K1009269D00.csv, sheet 0
INFO [2025-11-11 09:58:47] Plate K1009269D00 read; 384 wells
INFO [2025-11-11 09:58:47] File done
INFO [2025-11-11 09:58:47] Reading file /home/biocbuild/R/R-4.5.0/site-library/gDRimport/extdata/data4/K1009269D01.csv, sheet 0
INFO [2025-11-11 09:58:47] Plate K1009269D01 read; 384 wells
INFO [2025-11-11 09:58:47] File done
INFO [2025-11-11 09:58:47] Manifest loaded successfully
INFO [2025-11-11 09:58:47] Reading Template_7daytreated.xlsx with load_templates_xlsx
INFO [2025-11-11 09:58:47] Loading Template_7daytreated.xlsx
INFO [2025-11-11 09:58:47] Loading Template_Untreated.xlsx
INFO [2025-11-11 09:58:47] Templates loaded successfully!
INFO [2025-11-11 09:58:48] Manifest loaded successfully
INFO [2025-11-11 09:58:48] Reading Template_7daytreated.xlsx with load_templates_xlsx
INFO [2025-11-11 09:58:48] Loading Template_7daytreated.xlsx
INFO [2025-11-11 09:58:48] Loading Template_Untreated.xlsx
INFO [2025-11-11 09:58:48] Templates loaded successfully!
INFO [2025-11-11 09:58:48] Manifest loaded successfully
INFO [2025-11-11 09:58:48] Reading Template_trt.tsv with load_templates_tsv
INFO [2025-11-11 09:58:48] Loading Template_trt.tsv
INFO [2025-11-11 09:58:48] Loading Template_untrt.tsv
INFO [2025-11-11 09:58:48] Templates loaded successfully!
INFO [2025-11-11 09:58:48] Reading file /home/biocbuild/R/R-4.5.0/site-library/gDRimport/extdata/data5/RawData.tsv
WARN [2025-11-11 09:58:50] Metadata field names for cannot contain spaces --> corrected to: Gnumber
WARN [2025-11-11 09:58:51] Header Gnumber in corrected to Gnumber
[ FAIL 0 | WARN 0 | SKIP 0 | PASS 156 ]
>
>
> proc.time()
user system elapsed
67.569 3.735 72.656
gDRimport.Rcheck/gDRimport-Ex.timings
| name | user | system | elapsed | |
| check_metadata_names | 0.093 | 0.008 | 0.102 | |
| convert_LEVEL5_prism_to_gDR_input | 0.029 | 0.001 | 0.031 | |
| convert_LEVEL6_prism_to_gDR_input | 0.025 | 0.003 | 0.031 | |
| convert_MAE_to_PSet | 9.048 | 0.447 | 9.554 | |
| convert_pset_to_df | 0.149 | 0.032 | 0.180 | |
| detect_file_format | 0.381 | 0.028 | 0.417 | |
| getPSet | 0.154 | 0.004 | 0.160 | |
| get_exception_data | 0.010 | 0.000 | 0.011 | |
| get_test_D300_data | 0.002 | 0.000 | 0.002 | |
| get_test_EnVision_data | 0.002 | 0.000 | 0.002 | |
| get_test_Tecan_data | 0.001 | 0.000 | 0.001 | |
| get_test_data | 0.003 | 0.000 | 0.003 | |
| get_test_tsv_data | 0.002 | 0.000 | 0.001 | |
| import_D300 | 3.758 | 0.187 | 3.975 | |
| is_readable_v | 0.001 | 0.000 | 0.002 | |
| load_data | 1.865 | 0.071 | 1.945 | |
| load_manifest | 0.090 | 0.004 | 0.096 | |
| load_results | 1.402 | 0.008 | 1.418 | |
| load_templates | 0.325 | 0.008 | 0.335 | |
| manifest_path-method | 0.002 | 0.000 | 0.003 | |
| parse_D300_xml | 1.601 | 0.012 | 1.621 | |
| read_excel_to_dt | 0.013 | 0.004 | 0.022 | |
| result_path-method | 0.002 | 0.000 | 0.002 | |
| setEnvForPSet | 0.001 | 0.000 | 0.001 | |
| standardize_record_values | 0.001 | 0.000 | 0.000 | |
| template_path-method | 0.003 | 0.000 | 0.002 | |