| Back to Multiple platform build/check report for BioC 3.21: simplified long |
|
This page was generated on 2025-08-18 11:41 -0400 (Mon, 18 Aug 2025).
| Hostname | OS | Arch (*) | R version | Installed pkgs |
|---|---|---|---|---|
| nebbiolo1 | Linux (Ubuntu 24.04.3 LTS) | x86_64 | 4.5.1 (2025-06-13) -- "Great Square Root" | 4824 |
| palomino7 | Windows Server 2022 Datacenter | x64 | 4.5.1 (2025-06-13 ucrt) -- "Great Square Root" | 4566 |
| merida1 | macOS 12.7.5 Monterey | x86_64 | 4.5.1 RC (2025-06-05 r88288) -- "Great Square Root" | 4604 |
| kjohnson1 | macOS 13.6.6 Ventura | arm64 | 4.5.1 Patched (2025-06-14 r88325) -- "Great Square Root" | 4545 |
| kunpeng2 | Linux (openEuler 24.03 LTS) | aarch64 | R Under development (unstable) (2025-02-19 r87757) -- "Unsuffered Consequences" | 4579 |
| Click on any hostname to see more info about the system (e.g. compilers) (*) as reported by 'uname -p', except on Windows and Mac OS X | ||||
| Package 739/2341 | Hostname | OS / Arch | INSTALL | BUILD | CHECK | BUILD BIN | ||||||||
| flowcatchR 1.42.0 (landing page) Federico Marini
| nebbiolo1 | Linux (Ubuntu 24.04.3 LTS) / x86_64 | OK | OK | OK | |||||||||
| palomino7 | Windows Server 2022 Datacenter / x64 | OK | OK | OK | OK | |||||||||
| merida1 | macOS 12.7.5 Monterey / x86_64 | OK | OK | OK | OK | |||||||||
| kjohnson1 | macOS 13.6.6 Ventura / arm64 | OK | OK | OK | OK | |||||||||
| kunpeng2 | Linux (openEuler 24.03 LTS) / aarch64 | OK | OK | OK | ||||||||||
|
To the developers/maintainers of the flowcatchR package: - Allow up to 24 hours (and sometimes 48 hours) for your latest push to git@git.bioconductor.org:packages/flowcatchR.git to reflect on this report. See Troubleshooting Build Report for more information. - Use the following Renviron settings to reproduce errors and warnings. - If 'R CMD check' started to fail recently on the Linux builder(s) over a missing dependency, add the missing dependency to 'Suggests:' in your DESCRIPTION file. See Renviron.bioc for more information. |
| Package: flowcatchR |
| Version: 1.42.0 |
| Command: E:\biocbuild\bbs-3.21-bioc\R\bin\R.exe CMD check --no-multiarch --install=check:flowcatchR.install-out.txt --library=E:\biocbuild\bbs-3.21-bioc\R\library --no-vignettes --timings flowcatchR_1.42.0.tar.gz |
| StartedAt: 2025-08-15 02:14:53 -0400 (Fri, 15 Aug 2025) |
| EndedAt: 2025-08-15 02:16:40 -0400 (Fri, 15 Aug 2025) |
| EllapsedTime: 107.6 seconds |
| RetCode: 0 |
| Status: OK |
| CheckDir: flowcatchR.Rcheck |
| Warnings: 0 |
##############################################################################
##############################################################################
###
### Running command:
###
### E:\biocbuild\bbs-3.21-bioc\R\bin\R.exe CMD check --no-multiarch --install=check:flowcatchR.install-out.txt --library=E:\biocbuild\bbs-3.21-bioc\R\library --no-vignettes --timings flowcatchR_1.42.0.tar.gz
###
##############################################################################
##############################################################################
* using log directory 'E:/biocbuild/bbs-3.21-bioc/meat/flowcatchR.Rcheck'
* using R version 4.5.1 (2025-06-13 ucrt)
* using platform: x86_64-w64-mingw32
* R was compiled by
gcc.exe (GCC) 14.2.0
GNU Fortran (GCC) 14.2.0
* running under: Windows Server 2022 x64 (build 20348)
* using session charset: UTF-8
* using option '--no-vignettes'
* checking for file 'flowcatchR/DESCRIPTION' ... OK
* checking extension type ... Package
* this is package 'flowcatchR' version '1.42.0'
* package encoding: UTF-8
* checking package namespace information ... OK
* checking package dependencies ... OK
* checking if this is a source package ... OK
* checking if there is a namespace ... OK
* checking for hidden files and directories ... OK
* checking for portable file names ... OK
* checking whether package 'flowcatchR' can be installed ... OK
* checking installed package size ... OK
* checking package directory ... OK
* checking 'build' directory ... OK
* checking DESCRIPTION meta-information ... OK
* checking top-level files ... OK
* checking for left-over files ... OK
* checking index information ... OK
* checking package subdirectories ... OK
* checking code files for non-ASCII characters ... OK
* checking R files for syntax errors ... OK
* checking whether the package can be loaded ... OK
* checking whether the package can be loaded with stated dependencies ... OK
* checking whether the package can be unloaded cleanly ... OK
* checking whether the namespace can be loaded with stated dependencies ... OK
* checking whether the namespace can be unloaded cleanly ... OK
* checking dependencies in R code ... NOTE
'library' or 'require' call to 'EBImage' which was already attached by Depends.
Please remove these calls from your code.
* checking S3 generic/method consistency ... OK
* checking replacement functions ... OK
* checking foreign function calls ... OK
* checking R code for possible problems ... OK
* checking Rd files ... OK
* checking Rd metadata ... OK
* checking Rd cross-references ... NOTE
Non-topic package-anchored link(s) in Rd file 'preprocess.Frames.Rd':
'[EBImage:morphology]{EBImage::opening()}'
'[EBImage:morphology]{EBImage::closing()}'
See section 'Cross-references' in the 'Writing R Extensions' manual.
* checking for missing documentation entries ... OK
* checking for code/documentation mismatches ... OK
* checking Rd \usage sections ... OK
* checking Rd contents ... OK
* checking for unstated dependencies in examples ... OK
* checking contents of 'data' directory ... OK
* checking data for non-ASCII characters ... OK
* checking LazyData ... OK
* checking data for ASCII and uncompressed saves ... OK
* checking files in 'vignettes' ... OK
* checking examples ... OK
* checking for unstated dependencies in vignettes ... OK
* checking package vignettes ... OK
* checking running R code from vignettes ... SKIPPED
* checking re-building of vignette outputs ... SKIPPED
* checking PDF version of manual ... OK
* DONE
Status: 2 NOTEs
See
'E:/biocbuild/bbs-3.21-bioc/meat/flowcatchR.Rcheck/00check.log'
for details.
flowcatchR.Rcheck/00install.out
############################################################################## ############################################################################## ### ### Running command: ### ### E:\biocbuild\bbs-3.21-bioc\R\bin\R.exe CMD INSTALL flowcatchR ### ############################################################################## ############################################################################## * installing to library 'E:/biocbuild/bbs-3.21-bioc/R/library' * installing *source* package 'flowcatchR' ... ** this is package 'flowcatchR' version '1.42.0' ** using staged installation ** R ** data *** moving datasets to lazyload DB ** inst ** byte-compile and prepare package for lazy loading ** help *** installing help indices ** building package indices ** installing vignettes ** testing if installed package can be loaded from temporary location ** testing if installed package can be loaded from final location ** testing if installed package keeps a record of temporary installation path * DONE (flowcatchR)
flowcatchR.Rcheck/flowcatchR-Ex.timings
| name | user | system | elapsed | |
| Frames | 0.17 | 0.08 | 0.25 | |
| add.contours | 0.00 | 0.01 | 0.02 | |
| channel.Frames | 0.25 | 0.03 | 0.28 | |
| crop.Frames | 0.11 | 0.02 | 0.12 | |
| export.Frames | 0.02 | 0.00 | 0.02 | |
| export.particles | 0 | 0 | 0 | |
| inspect.Frames | 0 | 0 | 0 | |
| kinematics | 0.39 | 0.03 | 1.11 | |
| length.Frames | 0.05 | 0.02 | 0.06 | |
| link.particles | 0.08 | 0.01 | 0.09 | |
| matchTrajToParticles | 0.15 | 0.00 | 0.16 | |
| normalizeFrames | 1.53 | 0.21 | 1.74 | |
| particles | 0.02 | 0.00 | 0.01 | |
| penaltyFunctionGenerator | 0 | 0 | 0 | |
| plot.TrajectorySet | 0.22 | 0.01 | 0.24 | |
| plot2D.TrajectorySet | 0.33 | 0.03 | 0.35 | |
| preprocess.Frames | 0.57 | 0.19 | 0.77 | |
| read.Frames | 0 | 0 | 0 | |
| read.particles | 0 | 0 | 0 | |
| rotate.Frames | 0.22 | 0.08 | 0.30 | |
| select.Frames | 0.60 | 0.23 | 0.83 | |
| select.particles | 0.03 | 0.00 | 0.03 | |
| shinyFlow | 0 | 0 | 0 | |
| show-Frames-method | 0.03 | 0.05 | 0.07 | |
| show-KinematicsFeatures-method | 0.25 | 0.03 | 0.29 | |
| show-KinematicsFeaturesSet-method | 0.17 | 0.00 | 0.17 | |
| show-LinkedParticleSet-method | 0.13 | 0.00 | 0.12 | |
| show-ParticleSet-method | 0 | 0 | 0 | |
| show-TrajectorySet-method | 0.15 | 0.00 | 0.16 | |
| snap | 0 | 0 | 0 | |
| trajectories | 0.16 | 0.00 | 0.16 | |