| Back to Multiple platform build/check report for BioC 3.22: simplified long |
|
This page was generated on 2025-11-12 11:57 -0500 (Wed, 12 Nov 2025).
| Hostname | OS | Arch (*) | R version | Installed pkgs |
|---|---|---|---|---|
| nebbiolo2 | Linux (Ubuntu 24.04.3 LTS) | x86_64 | 4.5.1 Patched (2025-08-23 r88802) -- "Great Square Root" | 4902 |
| taishan | Linux (openEuler 24.03 LTS) | aarch64 | 4.5.0 (2025-04-11) -- "How About a Twenty-Six" | 4668 |
| Click on any hostname to see more info about the system (e.g. compilers) (*) as reported by 'uname -p', except on Windows and Mac OS X | ||||
| Package 530/2361 | Hostname | OS / Arch | INSTALL | BUILD | CHECK | BUILD BIN | ||||||||
| ddPCRclust 1.30.0 (landing page) Benedikt G. Brink
| nebbiolo2 | Linux (Ubuntu 24.04.3 LTS) / x86_64 | OK | OK | OK | |||||||||
| taishan | Linux (openEuler 24.03 LTS) / aarch64 | OK | OK | OK | ||||||||||
|
To the developers/maintainers of the ddPCRclust package: - Allow up to 24 hours (and sometimes 48 hours) for your latest push to git@git.bioconductor.org:packages/ddPCRclust.git to reflect on this report. See Troubleshooting Build Report for more information. - Use the following Renviron settings to reproduce errors and warnings. - If 'R CMD check' started to fail recently on the Linux builder(s) over a missing dependency, add the missing dependency to 'Suggests:' in your DESCRIPTION file. See Renviron.bioc for more information. |
| Package: ddPCRclust |
| Version: 1.30.0 |
| Command: /home/biocbuild/bbs-3.22-bioc/R/bin/R CMD check --install=check:ddPCRclust.install-out.txt --library=/home/biocbuild/bbs-3.22-bioc/R/site-library --timings ddPCRclust_1.30.0.tar.gz |
| StartedAt: 2025-11-11 22:51:45 -0500 (Tue, 11 Nov 2025) |
| EndedAt: 2025-11-11 22:54:27 -0500 (Tue, 11 Nov 2025) |
| EllapsedTime: 162.1 seconds |
| RetCode: 0 |
| Status: OK |
| CheckDir: ddPCRclust.Rcheck |
| Warnings: 0 |
##############################################################################
##############################################################################
###
### Running command:
###
### /home/biocbuild/bbs-3.22-bioc/R/bin/R CMD check --install=check:ddPCRclust.install-out.txt --library=/home/biocbuild/bbs-3.22-bioc/R/site-library --timings ddPCRclust_1.30.0.tar.gz
###
##############################################################################
##############################################################################
* using log directory ‘/home/biocbuild/bbs-3.22-bioc/meat/ddPCRclust.Rcheck’
* using R version 4.5.1 Patched (2025-08-23 r88802)
* using platform: x86_64-pc-linux-gnu
* R was compiled by
gcc (Ubuntu 13.3.0-6ubuntu2~24.04) 13.3.0
GNU Fortran (Ubuntu 13.3.0-6ubuntu2~24.04) 13.3.0
* running under: Ubuntu 24.04.3 LTS
* using session charset: UTF-8
* checking for file ‘ddPCRclust/DESCRIPTION’ ... OK
* this is package ‘ddPCRclust’ version ‘1.30.0’
* checking package namespace information ... OK
* checking package dependencies ... OK
* checking if this is a source package ... OK
* checking if there is a namespace ... OK
* checking for hidden files and directories ... OK
* checking for portable file names ... OK
* checking for sufficient/correct file permissions ... OK
* checking whether package ‘ddPCRclust’ can be installed ... OK
* checking installed package size ... OK
* checking package directory ... OK
* checking ‘build’ directory ... OK
* checking DESCRIPTION meta-information ... OK
* checking top-level files ... OK
* checking for left-over files ... OK
* checking index information ... OK
* checking package subdirectories ... OK
* checking code files for non-ASCII characters ... OK
* checking R files for syntax errors ... OK
* checking whether the package can be loaded ... OK
* checking whether the package can be loaded with stated dependencies ... OK
* checking whether the package can be unloaded cleanly ... OK
* checking whether the namespace can be loaded with stated dependencies ... OK
* checking whether the namespace can be unloaded cleanly ... OK
* checking loading without being on the library search path ... OK
* checking dependencies in R code ... OK
* checking S3 generic/method consistency ... OK
* checking replacement functions ... OK
* checking foreign function calls ... OK
* checking R code for possible problems ... NOTE
exportPlots: no visible binding for global variable ‘Cluster’
Undefined global functions or variables:
Cluster
* checking Rd files ... OK
* checking Rd metadata ... OK
* checking Rd cross-references ... NOTE
Found the following Rd file(s) with Rd \link{} targets missing package
anchors:
createEnsemble.Rd: cl_medoid
exportPlots.Rd: ggsave
Please provide package anchors for all Rd \link{} targets not in the
package itself and the base packages.
* checking for missing documentation entries ... OK
* checking for code/documentation mismatches ... OK
* checking Rd \usage sections ... OK
* checking Rd contents ... OK
* checking for unstated dependencies in examples ... OK
* checking files in ‘vignettes’ ... OK
* checking examples ... OK
Examples with CPU (user + system) or elapsed time > 5s
user system elapsed
exportPlots 14.061 0.233 14.284
ddPCRclust 9.791 0.115 9.907
exportToExcel 9.575 0.035 9.612
calculateCPDs 9.431 0.166 9.599
createEnsemble 9.182 0.046 9.228
exportToCSV 9.041 0.088 9.129
* checking for unstated dependencies in vignettes ... OK
* checking package vignettes ... OK
* checking re-building of vignette outputs ... OK
* checking PDF version of manual ... OK
* DONE
Status: 2 NOTEs
See
‘/home/biocbuild/bbs-3.22-bioc/meat/ddPCRclust.Rcheck/00check.log’
for details.
ddPCRclust.Rcheck/00install.out
############################################################################## ############################################################################## ### ### Running command: ### ### /home/biocbuild/bbs-3.22-bioc/R/bin/R CMD INSTALL ddPCRclust ### ############################################################################## ############################################################################## * installing to library ‘/home/biocbuild/bbs-3.22-bioc/R/site-library’ * installing *source* package ‘ddPCRclust’ ... ** this is package ‘ddPCRclust’ version ‘1.30.0’ ** using staged installation ** R ** inst ** byte-compile and prepare package for lazy loading ** help *** installing help indices ** building package indices ** installing vignettes ** testing if installed package can be loaded from temporary location ** testing if installed package can be loaded from final location ** testing if installed package keeps a record of temporary installation path * DONE (ddPCRclust)
ddPCRclust.Rcheck/ddPCRclust-Ex.timings
| name | user | system | elapsed | |
| calculateCPDs | 9.431 | 0.166 | 9.599 | |
| createEnsemble | 9.182 | 0.046 | 9.228 | |
| ddPCRclust | 9.791 | 0.115 | 9.907 | |
| exportPlots | 14.061 | 0.233 | 14.284 | |
| exportToCSV | 9.041 | 0.088 | 9.129 | |
| exportToExcel | 9.575 | 0.035 | 9.612 | |
| readFiles | 0.215 | 0.002 | 0.218 | |
| readTemplate | 0.001 | 0.001 | 0.001 | |
| runDensity | 2.383 | 0.004 | 2.387 | |
| runPeaks | 4.318 | 0.057 | 4.387 | |
| runSam | 4.704 | 0.005 | 4.711 | |