| Back to Multiple platform build/check report for BioC 3.22: simplified long |
|
This page was generated on 2025-11-12 11:58 -0500 (Wed, 12 Nov 2025).
| Hostname | OS | Arch (*) | R version | Installed pkgs |
|---|---|---|---|---|
| nebbiolo2 | Linux (Ubuntu 24.04.3 LTS) | x86_64 | 4.5.1 Patched (2025-08-23 r88802) -- "Great Square Root" | 4902 |
| taishan | Linux (openEuler 24.03 LTS) | aarch64 | 4.5.0 (2025-04-11) -- "How About a Twenty-Six" | 4668 |
| Click on any hostname to see more info about the system (e.g. compilers) (*) as reported by 'uname -p', except on Windows and Mac OS X | ||||
| Package 473/2361 | Hostname | OS / Arch | INSTALL | BUILD | CHECK | BUILD BIN | ||||||||
| crisprDesign 1.12.0 (landing page) Jean-Philippe Fortin
| nebbiolo2 | Linux (Ubuntu 24.04.3 LTS) / x86_64 | OK | OK | OK | |||||||||
| taishan | Linux (openEuler 24.03 LTS) / aarch64 | OK | OK | OK | ||||||||||
|
To the developers/maintainers of the crisprDesign package: - Allow up to 24 hours (and sometimes 48 hours) for your latest push to git@git.bioconductor.org:packages/crisprDesign.git to reflect on this report. See Troubleshooting Build Report for more information. - Use the following Renviron settings to reproduce errors and warnings. - If 'R CMD check' started to fail recently on the Linux builder(s) over a missing dependency, add the missing dependency to 'Suggests:' in your DESCRIPTION file. See Renviron.bioc for more information. - See Martin Grigorov's blog post for how to debug Linux ARM64 related issues on a x86_64 host. |
| Package: crisprDesign |
| Version: 1.12.0 |
| Command: /home/biocbuild/R/R/bin/R CMD check --install=check:crisprDesign.install-out.txt --library=/home/biocbuild/R/R/site-library --no-vignettes --timings crisprDesign_1.12.0.tar.gz |
| StartedAt: 2025-11-11 08:35:18 -0000 (Tue, 11 Nov 2025) |
| EndedAt: 2025-11-11 08:47:20 -0000 (Tue, 11 Nov 2025) |
| EllapsedTime: 722.5 seconds |
| RetCode: 0 |
| Status: OK |
| CheckDir: crisprDesign.Rcheck |
| Warnings: 0 |
##############################################################################
##############################################################################
###
### Running command:
###
### /home/biocbuild/R/R/bin/R CMD check --install=check:crisprDesign.install-out.txt --library=/home/biocbuild/R/R/site-library --no-vignettes --timings crisprDesign_1.12.0.tar.gz
###
##############################################################################
##############################################################################
* using log directory ‘/home/biocbuild/bbs-3.22-bioc/meat/crisprDesign.Rcheck’
* using R version 4.5.0 (2025-04-11)
* using platform: aarch64-unknown-linux-gnu
* R was compiled by
aarch64-unknown-linux-gnu-gcc (GCC) 14.2.0
GNU Fortran (GCC) 14.2.0
* running under: openEuler 24.03 (LTS)
* using session charset: UTF-8
* using option ‘--no-vignettes’
* checking for file ‘crisprDesign/DESCRIPTION’ ... OK
* this is package ‘crisprDesign’ version ‘1.12.0’
* package encoding: UTF-8
* checking package namespace information ... OK
* checking package dependencies ... OK
* checking if this is a source package ... OK
* checking if there is a namespace ... OK
* checking for hidden files and directories ... NOTE
Found the following hidden files and directories:
.BBSoptions
These were most likely included in error. See section ‘Package
structure’ in the ‘Writing R Extensions’ manual.
* checking for portable file names ... OK
* checking for sufficient/correct file permissions ... OK
* checking whether package ‘crisprDesign’ can be installed ... OK
* checking installed package size ... OK
* checking package directory ... OK
* checking ‘build’ directory ... OK
* checking DESCRIPTION meta-information ... NOTE
License stub is invalid DCF.
* checking top-level files ... OK
* checking for left-over files ... OK
* checking index information ... OK
* checking package subdirectories ... OK
* checking code files for non-ASCII characters ... OK
* checking R files for syntax errors ... OK
* checking whether the package can be loaded ... OK
* checking whether the package can be loaded with stated dependencies ... OK
* checking whether the package can be unloaded cleanly ... OK
* checking whether the namespace can be loaded with stated dependencies ... OK
* checking whether the namespace can be unloaded cleanly ... OK
* checking loading without being on the library search path ... OK
* checking dependencies in R code ... OK
* checking S3 generic/method consistency ... OK
* checking replacement functions ... OK
* checking foreign function calls ... OK
* checking R code for possible problems ... OK
* checking Rd files ... OK
* checking Rd metadata ... OK
* checking Rd cross-references ... NOTE
Found the following Rd file(s) with Rd \link{} targets missing package
anchors:
GuideSet-class.Rd: CrisprNuclease-class, BSgenome-class,
DNAStringSet-class, Seqinfo-class
PairedGuideSet-class.Rd: DNAStringSet-class
TxDb2GRangesList.Rd: TxDb-class, GRangesList-class
addCrispraiScores.Rd: GRanges-class
addEditedAlleles.Rd: BaseEditor-class
addExonTable.Rd: TxDb-class, GRangesList-class
addGeneAnnotation.Rd: TxDb-class, GRangesList-class
addNtcs.Rd: Seqinfo-class
addPamScores.Rd: CrisprNuclease-class
addPfamDomains.Rd: DataFrame-class
addRepeats.Rd: GRanges-class
addSNPAnnotation.Rd: VCF-class
addSpacerAlignments.Rd: TxDb-class, GRangesList-class, GRanges-class,
BSgenome-class, CrisprNuclease-class
addTssAnnotation.Rd: GRanges-class
addTxTable.Rd: TxDb-class, GRangesList-class
completeSpacers.Rd: CrisprNuclease-class, BSgenome-class
designCompleteAnnotation.Rd: BSgenome-class, GRanges-class,
VCF-class, CrisprNuclease-class, TxDb-class, GRangesList-class,
DataFrame-class
findSpacerPairs.Rd: GRanges-class, DNAStringSet-class,
DNAString-class, CrisprNuclease-class, BSgenome-class
findSpacers.Rd: GRanges-class, DNAStringSet-class, DNAString-class,
CrisprNuclease-class, BSgenome-class
getConsensusIsoform.Rd: TxDb-class, GRangesList-class
getMrnaSequences.Rd: TxDb-class, GRangesList-class, BSgenome-class,
DNAStringSet-class
getPreMrnaSequences.Rd: TxDb-class, GRangesList-class,
BSgenome-class, DNAStringSet-class
getTssObjectFromTxObject.Rd: TxDb-class, GRangesList-class
getTxDb.Rd: TxDb-class, makeTxDbFromGFF, makeTxDbFromEnsembl
getTxInfoDataFrame.Rd: TxDb-class, GRangesList-class, BSgenome-class,
GRanges-class
grListExample.Rd: TxDb-class, GRangesList-class
grRepeatsExample.Rd: GRanges-class
preparePfamTable.Rd: TxDb-class, GRangesList-class, DataFrame-class
queryTss.Rd: GRanges-class
queryTxObject.Rd: TxDb-class, GRangesList-class, GRanges-class
removeRepeats.Rd: GRanges-class
tssObjectExample.Rd: GRanges-class
Please provide package anchors for all Rd \link{} targets not in the
package itself and the base packages.
* checking for missing documentation entries ... OK
* checking for code/documentation mismatches ... OK
* checking Rd \usage sections ... OK
* checking Rd contents ... OK
* checking for unstated dependencies in examples ... OK
* checking contents of ‘data’ directory ... OK
* checking data for non-ASCII characters ... OK
* checking LazyData ... OK
* checking data for ASCII and uncompressed saves ... OK
* checking files in ‘vignettes’ ... OK
* checking examples ... OK
Examples with CPU (user + system) or elapsed time > 5s
user system elapsed
addSNPAnnotation 19.380 0.155 19.593
addEditedAlleles 16.103 0.275 16.422
* checking for unstated dependencies in ‘tests’ ... OK
* checking tests ...
Running ‘testthat.R’
OK
* checking for unstated dependencies in vignettes ... OK
* checking package vignettes ... OK
* checking running R code from vignettes ... SKIPPED
* checking re-building of vignette outputs ... SKIPPED
* checking PDF version of manual ... OK
* DONE
Status: 3 NOTEs
See
‘/home/biocbuild/bbs-3.22-bioc/meat/crisprDesign.Rcheck/00check.log’
for details.
crisprDesign.Rcheck/00install.out
############################################################################## ############################################################################## ### ### Running command: ### ### /home/biocbuild/R/R/bin/R CMD INSTALL crisprDesign ### ############################################################################## ############################################################################## * installing to library ‘/home/biocbuild/R/R-4.5.0/site-library’ * installing *source* package ‘crisprDesign’ ... ** this is package ‘crisprDesign’ version ‘1.12.0’ ** using staged installation ** R ** data *** moving datasets to lazyload DB ** inst ** byte-compile and prepare package for lazy loading ** help *** installing help indices ** building package indices ** installing vignettes ** testing if installed package can be loaded from temporary location ** testing if installed package can be loaded from final location ** testing if installed package keeps a record of temporary installation path * DONE (crisprDesign)
crisprDesign.Rcheck/tests/testthat.Rout
R version 4.5.0 (2025-04-11) -- "How About a Twenty-Six"
Copyright (C) 2025 The R Foundation for Statistical Computing
Platform: aarch64-unknown-linux-gnu
R is free software and comes with ABSOLUTELY NO WARRANTY.
You are welcome to redistribute it under certain conditions.
Type 'license()' or 'licence()' for distribution details.
R is a collaborative project with many contributors.
Type 'contributors()' for more information and
'citation()' on how to cite R or R packages in publications.
Type 'demo()' for some demos, 'help()' for on-line help, or
'help.start()' for an HTML browser interface to help.
Type 'q()' to quit R.
> library(testthat)
> library(crisprDesign)
Loading required package: crisprBase
>
> test_check("crisprDesign")
[runCrisprBowtie] Using BSgenome.Hsapiens.UCSC.hg38
[runCrisprBowtie] Searching for SpCas9 protospacers
# reads processed: 7
# reads with at least one alignment: 6 (85.71%)
# reads that failed to align: 1 (14.29%)
Reported 6 alignments
[runCrisprBowtie] Using BSgenome.Hsapiens.UCSC.hg38
[runCrisprBowtie] Searching for SpCas9 protospacers
# reads processed: 7
# reads with at least one alignment: 6 (85.71%)
# reads that failed to align: 1 (14.29%)
Reported 6 alignments
[runCrisprBowtie] Using BSgenome.Hsapiens.UCSC.hg38
[runCrisprBowtie] Searching for SpCas9 protospacers
# reads processed: 6
# reads with at least one alignment: 6 (100.00%)
# reads that failed to align: 0 (0.00%)
Reported 6 alignments
[runCrisprBowtie] Using BSgenome.Hsapiens.UCSC.hg38
[runCrisprBowtie] Searching for SpCas9 protospacers
# reads processed: 6
# reads with at least one alignment: 6 (100.00%)
# reads that failed to align: 0 (0.00%)
Reported 6 alignments
[runCrisprBowtie] Using BSgenome.Hsapiens.UCSC.hg38
[runCrisprBowtie] Searching for SpCas9 protospacers
# reads processed: 6
# reads with at least one alignment: 6 (100.00%)
# reads that failed to align: 0 (0.00%)
Reported 6 alignments
[runCrisprBowtie] Using BSgenome.Hsapiens.UCSC.hg38
[runCrisprBowtie] Searching for SpCas9 protospacers
# reads processed: 6
# reads with at least one alignment: 6 (100.00%)
# reads that failed to align: 0 (0.00%)
Reported 6 alignments
[runCrisprBowtie] Using BSgenome.Hsapiens.UCSC.hg38
[runCrisprBowtie] Searching for SpCas9 protospacers
# reads processed: 6
# reads with at least one alignment: 6 (100.00%)
# reads that failed to align: 0 (0.00%)
Reported 6 alignments
[runCrisprBowtie] Using BSgenome.Hsapiens.UCSC.hg38
[runCrisprBowtie] Searching for SpCas9 protospacers
# reads processed: 6
# reads with at least one alignment: 6 (100.00%)
# reads that failed to align: 0 (0.00%)
Reported 6 alignments
[runCrisprBowtie] Using BSgenome.Hsapiens.UCSC.hg38
[runCrisprBowtie] Searching for SpCas9 protospacers
# reads processed: 6
# reads with at least one alignment: 6 (100.00%)
# reads that failed to align: 0 (0.00%)
Reported 6 alignments
[runCrisprBowtie] Using BSgenome.Hsapiens.UCSC.hg38
[runCrisprBowtie] Searching for SpCas9 protospacers
# reads processed: 6
# reads with at least one alignment: 6 (100.00%)
# reads that failed to align: 0 (0.00%)
Reported 6 alignments
[runCrisprBowtie] Using BSgenome.Hsapiens.UCSC.hg38
[runCrisprBowtie] Searching for SpCas9 protospacers
# reads processed: 6
# reads with at least one alignment: 6 (100.00%)
# reads that failed to align: 0 (0.00%)
Reported 6 alignments
[runCrisprBowtie] Using BSgenome.Hsapiens.UCSC.hg38
[runCrisprBowtie] Searching for SpCas9 protospacers
# reads processed: 6
# reads with at least one alignment: 6 (100.00%)
# reads that failed to align: 0 (0.00%)
Reported 6 alignments
[ FAIL 0 | WARN 0 | SKIP 78 | PASS 1090 ]
══ Skipped tests (78) ══════════════════════════════════════════════════════════
• empty test (69): 'test-GuideSet-class.R:214:1',
'test-GuideSet-class.R:225:1', 'test-GuideSet-class.R:230:1',
'test-addGeneAnnotation.R:17:1', 'test-addGeneAnnotation.R:116:1',
'test-addGeneAnnotation.R:174:1', 'test-addNtcs.R:352:1',
'test-addNtcs.R:398:1', 'test-addOffTargetScores.R:21:1',
'test-addOnTargetScores.R:20:1', 'test-addOnTargetScores.R:67:1',
'test-addOnTargetScores.R:87:1', 'test-addOnTargetScores.R:101:1',
'test-addOnTargetScores.R:145:1', 'test-addOnTargetScores.R:157:1',
'test-addOnTargetScores.R:190:1', 'test-addPamScores.R:30:1',
'test-addRepeats.R:78:1', 'test-addRepeats.R:84:1', 'test-addRepeats.R:89:1',
'test-addRestrictionEnzymes.R:89:1', 'test-addRestrictionEnzymes.R:180:1',
'test-addRestrictionEnzymes.R:185:1', 'test-addRestrictionEnzymes.R:191:1',
'test-addRestrictionEnzymes.R:198:1', 'test-addSpacerAlignments.R:63:1',
'test-addSpacerAlignments.R:147:1', 'test-addSpacerAlignments.R:199:1',
'test-addSpacerAlignments.R:266:1', 'test-addSpacerAlignments.R:349:1',
'test-addSpacerAlignments.R:469:1', 'test-addSpacerAlignments.R:509:1',
'test-addSpacerAlignments.R:546:1', 'test-addSpacerAlignments.R:572:1',
'test-addSpacerAlignments.R:603:1', 'test-addSpacerAlignments.R:627:1',
'test-addSpacerAlignments.R:650:1', 'test-addSpacerAlignments.R:669:1',
'test-addSpacerAlignments.R:720:1', 'test-completeSpacers.R:27:1',
'test-completeSpacers.R:32:1', 'test-completeSpacers.R:37:1',
'test-completeSpacers.R:42:1', 'test-completeSpacers.R:47:1',
'test-completeSpacers.R:52:1', 'test-completeSpacers.R:60:1',
'test-completeSpacers.R:73:1', 'test-completeSpacers.R:78:1',
'test-completeSpacers.R:83:1', 'test-completeSpacers.R:88:1',
'test-completeSpacers.R:93:1', 'test-completeSpacers.R:113:1',
'test-completeSpacers.R:118:1', 'test-completeSpacers.R:123:1',
'test-completeSpacers.R:128:1', 'test-completeSpacers.R:133:1',
'test-completeSpacers.R:139:1', 'test-completeSpacers.R:144:1',
'test-completeSpacers.R:167:1', 'test-completeSpacers.R:172:1',
'test-completeSpacers.R:177:1', 'test-completeSpacers.R:182:1',
'test-completeSpacers.R:187:1', 'test-completeSpacers.R:193:1',
'test-completeSpacers.R:198:1', 'test-completeSpacers.R:203:1',
'test-completeSpacers.R:208:1', 'test-completeSpacers.R:213:1',
'test-queryTxObject.R:152:1'
• long run time (8): 'test-TxDb2GRangesList.R:19:5',
'test-TxDb2GRangesList.R:36:5', 'test-TxDb2GRangesList.R:56:5',
'test-TxDb2GRangesList.R:77:5', 'test-addSNPAnnotation.R:33:5',
'test-addSNPAnnotation.R:70:5', 'test-addSNPAnnotation.R:79:5',
'test-addSNPAnnotation.R:124:5'
• no del for guideSetExample (1): 'test-addSNPAnnotation.R:148:5'
[ FAIL 0 | WARN 0 | SKIP 78 | PASS 1090 ]
>
> proc.time()
user system elapsed
254.079 3.119 259.346
crisprDesign.Rcheck/crisprDesign-Ex.timings
| name | user | system | elapsed | |
| GuideSet-class | 0.184 | 0.004 | 0.189 | |
| GuideSet2DataFrames | 2.934 | 0.096 | 3.038 | |
| PairedGuideSet-class | 0.567 | 0.040 | 0.609 | |
| TxDb2GRangesList | 0 | 0 | 0 | |
| addCompositeScores | 1.333 | 0.024 | 1.361 | |
| addDistanceToTss | 0.047 | 0.000 | 0.047 | |
| addEditedAlleles | 16.103 | 0.275 | 16.422 | |
| addExonTable | 0.000 | 0.000 | 0.001 | |
| addGeneAnnotation | 2.117 | 0.056 | 2.180 | |
| addIsoformAnnotation | 0.150 | 0.000 | 0.151 | |
| addNtcs | 0.581 | 0.012 | 0.594 | |
| addOffTargetScores | 0.325 | 0.000 | 0.326 | |
| addOnTargetScores | 0.000 | 0.000 | 0.001 | |
| addOpsBarcodes | 0.040 | 0.000 | 0.041 | |
| addPamScores | 0.605 | 0.000 | 0.606 | |
| addRepeats | 0.355 | 0.015 | 0.371 | |
| addRestrictionEnzymes | 1.020 | 0.024 | 1.046 | |
| addSNPAnnotation | 19.380 | 0.155 | 19.593 | |
| addSequenceFeatures | 0.646 | 0.004 | 0.652 | |
| addSpacerAlignments | 0.001 | 0.000 | 0.001 | |
| addTssAnnotation | 0.272 | 0.008 | 0.280 | |
| addTxTable | 0.001 | 0.000 | 0.000 | |
| completeSpacers | 0.622 | 0.016 | 0.640 | |
| convertToMinMaxGRanges | 0.091 | 0.000 | 0.091 | |
| convertToProtospacerGRanges | 0.394 | 0.008 | 0.403 | |
| designOpsLibrary | 0.149 | 0.004 | 0.154 | |
| findSpacerPairs | 3.318 | 0.068 | 3.395 | |
| findSpacers | 2.138 | 0.076 | 2.221 | |
| getBarcodeDistanceMatrix | 1.033 | 0.020 | 1.055 | |
| getConsensusIsoform | 0.106 | 0.000 | 0.106 | |
| getMrnaSequences | 0.506 | 0.008 | 0.516 | |
| getPreMrnaSequences | 0.440 | 0.008 | 0.450 | |
| getTssObjectFromTxObject | 0.098 | 0.000 | 0.098 | |
| getTxDb | 0 | 0 | 0 | |
| getTxInfoDataFrame | 1.132 | 0.056 | 1.191 | |
| preparePfamTable | 0.002 | 0.000 | 0.002 | |
| queryTss | 0.035 | 0.000 | 0.035 | |
| queryTxObject | 0.044 | 0.000 | 0.043 | |
| rankSpacers | 2.658 | 0.012 | 2.678 | |
| removeRepeats | 0.395 | 0.007 | 0.404 | |
| updateOpsLibrary | 0.289 | 0.000 | 0.291 | |
| validateOpsLibrary | 0.190 | 0.000 | 0.191 | |