| Back to Multiple platform build/check report for BioC 3.21: simplified long |
|
This page was generated on 2025-04-22 13:16 -0400 (Tue, 22 Apr 2025).
| Hostname | OS | Arch (*) | R version | Installed pkgs |
|---|---|---|---|---|
| nebbiolo1 | Linux (Ubuntu 24.04.1 LTS) | x86_64 | 4.5.0 RC (2025-04-04 r88126) -- "How About a Twenty-Six" | 4831 |
| palomino7 | Windows Server 2022 Datacenter | x64 | 4.5.0 RC (2025-04-04 r88126 ucrt) -- "How About a Twenty-Six" | 4573 |
| lconway | macOS 12.7.1 Monterey | x86_64 | 4.5.0 RC (2025-04-04 r88126) -- "How About a Twenty-Six" | 4599 |
| kjohnson3 | macOS 13.7.1 Ventura | arm64 | 4.5.0 RC (2025-04-04 r88126) -- "How About a Twenty-Six" | 4553 |
| kunpeng2 | Linux (openEuler 24.03 LTS) | aarch64 | R Under development (unstable) (2025-02-19 r87757) -- "Unsuffered Consequences" | 4570 |
| Click on any hostname to see more info about the system (e.g. compilers) (*) as reported by 'uname -p', except on Windows and Mac OS X | ||||
| Package 464/2341 | Hostname | OS / Arch | INSTALL | BUILD | CHECK | BUILD BIN | ||||||||
| crisprBwa 1.12.0 (landing page) Jean-Philippe Fortin
| nebbiolo1 | Linux (Ubuntu 24.04.1 LTS) / x86_64 | OK | OK | OK | |||||||||
| palomino7 | Windows Server 2022 Datacenter / x64 | ... NOT SUPPORTED ... | ||||||||||||
| lconway | macOS 12.7.1 Monterey / x86_64 | OK | OK | OK | OK | |||||||||
| kjohnson3 | macOS 13.7.1 Ventura / arm64 | OK | OK | OK | OK | |||||||||
| kunpeng2 | Linux (openEuler 24.03 LTS) / aarch64 | OK | OK | OK | ||||||||||
|
To the developers/maintainers of the crisprBwa package: - Allow up to 24 hours (and sometimes 48 hours) for your latest push to git@git.bioconductor.org:packages/crisprBwa.git to reflect on this report. See Troubleshooting Build Report for more information. - Use the following Renviron settings to reproduce errors and warnings. - If 'R CMD check' started to fail recently on the Linux builder(s) over a missing dependency, add the missing dependency to 'Suggests:' in your DESCRIPTION file. See Renviron.bioc for more information. |
| Package: crisprBwa |
| Version: 1.12.0 |
| Command: /Library/Frameworks/R.framework/Resources/bin/R CMD check --install=check:crisprBwa.install-out.txt --library=/Library/Frameworks/R.framework/Resources/library --no-vignettes --timings crisprBwa_1.12.0.tar.gz |
| StartedAt: 2025-04-21 19:59:22 -0400 (Mon, 21 Apr 2025) |
| EndedAt: 2025-04-21 20:03:44 -0400 (Mon, 21 Apr 2025) |
| EllapsedTime: 261.7 seconds |
| RetCode: 0 |
| Status: OK |
| CheckDir: crisprBwa.Rcheck |
| Warnings: 0 |
##############################################################################
##############################################################################
###
### Running command:
###
### /Library/Frameworks/R.framework/Resources/bin/R CMD check --install=check:crisprBwa.install-out.txt --library=/Library/Frameworks/R.framework/Resources/library --no-vignettes --timings crisprBwa_1.12.0.tar.gz
###
##############################################################################
##############################################################################
* using log directory ‘/Users/biocbuild/bbs-3.21-bioc/meat/crisprBwa.Rcheck’
* using R version 4.5.0 RC (2025-04-04 r88126)
* using platform: x86_64-apple-darwin20
* R was compiled by
Apple clang version 14.0.0 (clang-1400.0.29.202)
GNU Fortran (GCC) 14.2.0
* running under: macOS Monterey 12.7.6
* using session charset: UTF-8
* using option ‘--no-vignettes’
* checking for file ‘crisprBwa/DESCRIPTION’ ... OK
* this is package ‘crisprBwa’ version ‘1.12.0’
* package encoding: UTF-8
* checking package namespace information ... OK
* checking package dependencies ... OK
* checking if this is a source package ... OK
* checking if there is a namespace ... OK
* checking for hidden files and directories ... NOTE
Found the following hidden files and directories:
.BBSoptions
These were most likely included in error. See section ‘Package
structure’ in the ‘Writing R Extensions’ manual.
* checking for portable file names ... OK
* checking for sufficient/correct file permissions ... OK
* checking whether package ‘crisprBwa’ can be installed ... OK
* checking installed package size ... OK
* checking package directory ... OK
* checking ‘build’ directory ... OK
* checking DESCRIPTION meta-information ... NOTE
License stub is invalid DCF.
* checking top-level files ... OK
* checking for left-over files ... OK
* checking index information ... OK
* checking package subdirectories ... OK
* checking code files for non-ASCII characters ... OK
* checking R files for syntax errors ... OK
* checking whether the package can be loaded ... OK
* checking whether the package can be loaded with stated dependencies ... OK
* checking whether the package can be unloaded cleanly ... OK
* checking whether the namespace can be loaded with stated dependencies ... OK
* checking whether the namespace can be unloaded cleanly ... OK
* checking dependencies in R code ... OK
* checking S3 generic/method consistency ... OK
* checking replacement functions ... OK
* checking foreign function calls ... OK
* checking R code for possible problems ... OK
* checking Rd files ... OK
* checking Rd metadata ... OK
* checking Rd cross-references ... OK
* checking for missing documentation entries ... OK
* checking for code/documentation mismatches ... OK
* checking Rd \usage sections ... OK
* checking Rd contents ... OK
* checking for unstated dependencies in examples ... OK
* checking files in ‘vignettes’ ... OK
* checking examples ... OK
* checking for unstated dependencies in ‘tests’ ... OK
* checking tests ...
Running ‘testthat.R’
OK
* checking for unstated dependencies in vignettes ... OK
* checking package vignettes ... OK
* checking running R code from vignettes ... SKIPPED
* checking re-building of vignette outputs ... SKIPPED
* checking PDF version of manual ... OK
* DONE
Status: 2 NOTEs
See
‘/Users/biocbuild/bbs-3.21-bioc/meat/crisprBwa.Rcheck/00check.log’
for details.
crisprBwa.Rcheck/00install.out
############################################################################## ############################################################################## ### ### Running command: ### ### /Library/Frameworks/R.framework/Resources/bin/R CMD INSTALL crisprBwa ### ############################################################################## ############################################################################## * installing to library ‘/Library/Frameworks/R.framework/Versions/4.5-x86_64/Resources/library’ * installing *source* package ‘crisprBwa’ ... ** this is package ‘crisprBwa’ version ‘1.12.0’ ** using staged installation ** R ** inst ** byte-compile and prepare package for lazy loading ** help *** installing help indices ** building package indices ** installing vignettes ** testing if installed package can be loaded from temporary location ** testing if installed package can be loaded from final location ** testing if installed package keeps a record of temporary installation path * DONE (crisprBwa)
crisprBwa.Rcheck/tests/testthat.Rout
R version 4.5.0 RC (2025-04-04 r88126) -- "How About a Twenty-Six"
Copyright (C) 2025 The R Foundation for Statistical Computing
Platform: x86_64-apple-darwin20
R is free software and comes with ABSOLUTELY NO WARRANTY.
You are welcome to redistribute it under certain conditions.
Type 'license()' or 'licence()' for distribution details.
R is a collaborative project with many contributors.
Type 'contributors()' for more information and
'citation()' on how to cite R or R packages in publications.
Type 'demo()' for some demos, 'help()' for on-line help, or
'help.start()' for an HTML browser interface to help.
Type 'q()' to quit R.
> library(testthat)
> library(crisprBwa)
>
> test_check("crisprBwa")
[bwa_index] Pack FASTA... 0.00 sec
[bwa_index] Construct BWT for the packed sequence...
[bwa_index] 0.04 seconds elapse.
[bwa_index] Update BWT... 0.00 sec
[bwa_index] Pack forward-only FASTA... 0.00 sec
[bwa_index] Construct SA from BWT and Occ... 0.01 sec
[main] Version: 0.7.17-r1198-dirty
[main] CMD: /Library/Frameworks/R.framework/Versions/4.5-x86_64/Resources/library/Rbwa/bwa index -p /tmp/Rtmp7xr2kJ/chr12 /Library/Frameworks/R.framework/Versions/4.5-x86_64/Resources/library/crisprBwa/example/chr12.fa
[main] Real time: 0.060 sec; CPU: 0.065 sec
[bwa_aln_core] calculate SA coordinate... 0.00 sec
[bwa_aln_core] write to the disk... 0.00 sec
[bwa_aln_core] 3 sequences have been processed.
[main] Version: 0.7.17-r1198-dirty
[main] CMD: /Library/Frameworks/R.framework/Versions/4.5-x86_64/Resources/library/Rbwa/bwa aln -N -n 0 -l 36 -o 0 /tmp/Rtmp7xr2kJ/chr12 /tmp/Rtmp7xr2kJ/file14cb67b2830ed
[main] Real time: 0.031 sec; CPU: 0.033 sec
[bwa_aln_core] convert to sequence coordinate... 0.00 sec
[bwa_aln_core] refine gapped alignments... 0.00 sec
[bwa_aln_core] print alignments... 0.00 sec
[bwa_aln_core] 3 sequences have been processed.
[main] Version: 0.7.17-r1198-dirty
[main] CMD: /Library/Frameworks/R.framework/Versions/4.5-x86_64/Resources/library/Rbwa/bwa samse -n 1000000000 /tmp/Rtmp7xr2kJ/chr12 /tmp/Rtmp7xr2kJ/file14cb67b2830ed.sai /tmp/Rtmp7xr2kJ/file14cb67b2830ed
[main] Real time: 0.032 sec; CPU: 0.035 sec
[bwa_aln_core] calculate SA coordinate... 0.00 sec
[bwa_aln_core] write to the disk... 0.00 sec
[bwa_aln_core] 3 sequences have been processed.
[main] Version: 0.7.17-r1198-dirty
[main] CMD: /Library/Frameworks/R.framework/Versions/4.5-x86_64/Resources/library/Rbwa/bwa aln -N -n 1 -l 36 -o 0 /tmp/Rtmp7xr2kJ/chr12 /tmp/Rtmp7xr2kJ/file14cb6ba456c6
[main] Real time: 0.035 sec; CPU: 0.036 sec
[bwa_aln_core] convert to sequence coordinate... 0.00 sec
[bwa_aln_core] refine gapped alignments... 0.00 sec
[bwa_aln_core] print alignments... 0.00 sec
[bwa_aln_core] 3 sequences have been processed.
[main] Version: 0.7.17-r1198-dirty
[main] CMD: /Library/Frameworks/R.framework/Versions/4.5-x86_64/Resources/library/Rbwa/bwa samse -n 1000000000 /tmp/Rtmp7xr2kJ/chr12 /tmp/Rtmp7xr2kJ/file14cb6ba456c6.sai /tmp/Rtmp7xr2kJ/file14cb6ba456c6
[main] Real time: 0.033 sec; CPU: 0.035 sec
[bwa_aln_core] calculate SA coordinate... 0.00 sec
[bwa_aln_core] write to the disk... 0.00 sec
[bwa_aln_core] 3 sequences have been processed.
[main] Version: 0.7.17-r1198-dirty
[main] CMD: /Library/Frameworks/R.framework/Versions/4.5-x86_64/Resources/library/Rbwa/bwa aln -N -n 2 -l 36 -o 0 /tmp/Rtmp7xr2kJ/chr12 /tmp/Rtmp7xr2kJ/file14cb6523ce722
[main] Real time: 0.032 sec; CPU: 0.035 sec
[bwa_aln_core] convert to sequence coordinate... 0.00 sec
[bwa_aln_core] refine gapped alignments... 0.00 sec
[bwa_aln_core] print alignments... 0.00 sec
[bwa_aln_core] 3 sequences have been processed.
[main] Version: 0.7.17-r1198-dirty
[main] CMD: /Library/Frameworks/R.framework/Versions/4.5-x86_64/Resources/library/Rbwa/bwa samse -n 1000000000 /tmp/Rtmp7xr2kJ/chr12 /tmp/Rtmp7xr2kJ/file14cb6523ce722.sai /tmp/Rtmp7xr2kJ/file14cb6523ce722
[main] Real time: 0.029 sec; CPU: 0.032 sec
[bwa_aln_core] calculate SA coordinate... 0.00 sec
[bwa_aln_core] write to the disk... 0.00 sec
[bwa_aln_core] 3 sequences have been processed.
[main] Version: 0.7.17-r1198-dirty
[main] CMD: /Library/Frameworks/R.framework/Versions/4.5-x86_64/Resources/library/Rbwa/bwa aln -N -n 3 -l 36 -o 0 /tmp/Rtmp7xr2kJ/chr12 /tmp/Rtmp7xr2kJ/file14cb61c6a935c
[main] Real time: 0.033 sec; CPU: 0.035 sec
[bwa_aln_core] convert to sequence coordinate... 0.00 sec
[bwa_aln_core] refine gapped alignments... 0.00 sec
[bwa_aln_core] print alignments... 0.00 sec
[bwa_aln_core] 3 sequences have been processed.
[main] Version: 0.7.17-r1198-dirty
[main] CMD: /Library/Frameworks/R.framework/Versions/4.5-x86_64/Resources/library/Rbwa/bwa samse -n 1000000000 /tmp/Rtmp7xr2kJ/chr12 /tmp/Rtmp7xr2kJ/file14cb61c6a935c.sai /tmp/Rtmp7xr2kJ/file14cb61c6a935c
[main] Real time: 0.030 sec; CPU: 0.033 sec
[bwa_aln_core] calculate SA coordinate... 0.00 sec
[bwa_aln_core] write to the disk... 0.00 sec
[bwa_aln_core] 1 sequences have been processed.
[main] Version: 0.7.17-r1198-dirty
[main] CMD: /Library/Frameworks/R.framework/Versions/4.5-x86_64/Resources/library/Rbwa/bwa aln -N -n 0 -l 144 -o 0 /tmp/Rtmp7xr2kJ/chr12 /tmp/Rtmp7xr2kJ/file14cb618f08b97
[main] Real time: 0.030 sec; CPU: 0.034 sec
[bwa_aln_core] convert to sequence coordinate... 0.00 sec
[bwa_aln_core] refine gapped alignments... 0.00 sec
[bwa_aln_core] print alignments... 0.00 sec
[bwa_aln_core] 1 sequences have been processed.
[main] Version: 0.7.17-r1198-dirty
[main] CMD: /Library/Frameworks/R.framework/Versions/4.5-x86_64/Resources/library/Rbwa/bwa samse -n 1000000000 /tmp/Rtmp7xr2kJ/chr12 /tmp/Rtmp7xr2kJ/file14cb618f08b97.sai /tmp/Rtmp7xr2kJ/file14cb618f08b97
[main] Real time: 0.033 sec; CPU: 0.036 sec
[bwa_index] Pack FASTA... 0.00 sec
[bwa_index] Construct BWT for the packed sequence...
[bwa_index] 0.04 seconds elapse.
[bwa_index] Update BWT... 0.00 sec
[bwa_index] Pack forward-only FASTA... 0.00 sec
[bwa_index] Construct SA from BWT and Occ... 0.01 sec
[main] Version: 0.7.17-r1198-dirty
[main] CMD: /Library/Frameworks/R.framework/Versions/4.5-x86_64/Resources/library/Rbwa/bwa index -p /tmp/Rtmp7xr2kJ/chr12 /Library/Frameworks/R.framework/Versions/4.5-x86_64/Resources/library/crisprBwa/example/chr12.fa
[main] Real time: 0.056 sec; CPU: 0.063 sec
[runCrisprBwa] Using BSgenome.Hsapiens.UCSC.hg38
[runCrisprBwa] Searching for SpCas9 protospacers
[bwa_aln_core] calculate SA coordinate... 0.00 sec
[bwa_aln_core] write to the disk... 0.00 sec
[bwa_aln_core] 5 sequences have been processed.
[main] Version: 0.7.17-r1198-dirty
[main] CMD: /Library/Frameworks/R.framework/Versions/4.5-x86_64/Resources/library/Rbwa/bwa aln -N -n 0 -l 60 -o 0 /tmp/Rtmp7xr2kJ/chr12 /tmp/Rtmp7xr2kJ/file14cb67f204dac
[main] Real time: 0.030 sec; CPU: 0.034 sec
[bwa_aln_core] convert to sequence coordinate... 0.00 sec
[bwa_aln_core] refine gapped alignments... 0.00 sec
[bwa_aln_core] print alignments... 0.00 sec
[bwa_aln_core] 5 sequences have been processed.
[main] Version: 0.7.17-r1198-dirty
[main] CMD: /Library/Frameworks/R.framework/Versions/4.5-x86_64/Resources/library/Rbwa/bwa samse -n 1000000000 /tmp/Rtmp7xr2kJ/chr12 /tmp/Rtmp7xr2kJ/file14cb67f204dac.sai /tmp/Rtmp7xr2kJ/file14cb67f204dac
[main] Real time: 0.029 sec; CPU: 0.032 sec
[runCrisprBwa] Using BSgenome.Hsapiens.UCSC.hg38
[runCrisprBwa] Searching for SpCas9 protospacers
[bwa_aln_core] calculate SA coordinate... 0.00 sec
[bwa_aln_core] write to the disk... 0.00 sec
[bwa_aln_core] 5 sequences have been processed.
[main] Version: 0.7.17-r1198-dirty
[main] CMD: /Library/Frameworks/R.framework/Versions/4.5-x86_64/Resources/library/Rbwa/bwa aln -N -n 1 -l 60 -o 0 /tmp/Rtmp7xr2kJ/chr12 /tmp/Rtmp7xr2kJ/file14cb621cb9868
[main] Real time: 0.031 sec; CPU: 0.035 sec
[bwa_aln_core] convert to sequence coordinate... 0.00 sec
[bwa_aln_core] refine gapped alignments... 0.00 sec
[bwa_aln_core] print alignments... 0.00 sec
[bwa_aln_core] 5 sequences have been processed.
[main] Version: 0.7.17-r1198-dirty
[main] CMD: /Library/Frameworks/R.framework/Versions/4.5-x86_64/Resources/library/Rbwa/bwa samse -n 1000000000 /tmp/Rtmp7xr2kJ/chr12 /tmp/Rtmp7xr2kJ/file14cb621cb9868.sai /tmp/Rtmp7xr2kJ/file14cb621cb9868
[main] Real time: 0.032 sec; CPU: 0.035 sec
[runCrisprBwa] Using BSgenome.Hsapiens.UCSC.hg38
[runCrisprBwa] Searching for SpCas9 protospacers
[bwa_aln_core] calculate SA coordinate... 0.00 sec
[bwa_aln_core] write to the disk... 0.00 sec
[bwa_aln_core] 5 sequences have been processed.
[main] Version: 0.7.17-r1198-dirty
[main] CMD: /Library/Frameworks/R.framework/Versions/4.5-x86_64/Resources/library/Rbwa/bwa aln -N -n 2 -l 60 -o 0 /tmp/Rtmp7xr2kJ/chr12 /tmp/Rtmp7xr2kJ/file14cb63d82e52d
[main] Real time: 0.030 sec; CPU: 0.034 sec
[bwa_aln_core] convert to sequence coordinate... 0.00 sec
[bwa_aln_core] refine gapped alignments... 0.00 sec
[bwa_aln_core] print alignments... 0.00 sec
[bwa_aln_core] 5 sequences have been processed.
[main] Version: 0.7.17-r1198-dirty
[main] CMD: /Library/Frameworks/R.framework/Versions/4.5-x86_64/Resources/library/Rbwa/bwa samse -n 1000000000 /tmp/Rtmp7xr2kJ/chr12 /tmp/Rtmp7xr2kJ/file14cb63d82e52d.sai /tmp/Rtmp7xr2kJ/file14cb63d82e52d
[main] Real time: 0.033 sec; CPU: 0.036 sec
[runCrisprBwa] Using BSgenome.Hsapiens.UCSC.hg38
[runCrisprBwa] Searching for SpCas9 protospacers
[bwa_aln_core] calculate SA coordinate... 0.00 sec
[bwa_aln_core] write to the disk... 0.00 sec
[bwa_aln_core] 5 sequences have been processed.
[main] Version: 0.7.17-r1198-dirty
[main] CMD: /Library/Frameworks/R.framework/Versions/4.5-x86_64/Resources/library/Rbwa/bwa aln -N -n 3 -l 60 -o 0 /tmp/Rtmp7xr2kJ/chr12 /tmp/Rtmp7xr2kJ/file14cb65c940ce7
[main] Real time: 0.031 sec; CPU: 0.034 sec
[bwa_aln_core] convert to sequence coordinate... 0.00 sec
[bwa_aln_core] refine gapped alignments... 0.00 sec
[bwa_aln_core] print alignments... 0.00 sec
[bwa_aln_core] 5 sequences have been processed.
[main] Version: 0.7.17-r1198-dirty
[main] CMD: /Library/Frameworks/R.framework/Versions/4.5-x86_64/Resources/library/Rbwa/bwa samse -n 1000000000 /tmp/Rtmp7xr2kJ/chr12 /tmp/Rtmp7xr2kJ/file14cb65c940ce7.sai /tmp/Rtmp7xr2kJ/file14cb65c940ce7
[main] Real time: 0.031 sec; CPU: 0.034 sec
[runCrisprBwa] Using BSgenome.Hsapiens.UCSC.hg38
[runCrisprBwa] Searching for SpCas9 protospacers
[bwa_aln_core] calculate SA coordinate... 0.00 sec
[bwa_aln_core] write to the disk... 0.00 sec
[bwa_aln_core] 5 sequences have been processed.
[main] Version: 0.7.17-r1198-dirty
[main] CMD: /Library/Frameworks/R.framework/Versions/4.5-x86_64/Resources/library/Rbwa/bwa aln -N -n 0 -l 60 -o 0 /tmp/Rtmp7xr2kJ/chr12 /tmp/Rtmp7xr2kJ/file14cb6113f062b
[main] Real time: 0.029 sec; CPU: 0.033 sec
[bwa_aln_core] convert to sequence coordinate... 0.00 sec
[bwa_aln_core] refine gapped alignments... 0.00 sec
[bwa_aln_core] print alignments... 0.00 sec
[bwa_aln_core] 5 sequences have been processed.
[main] Version: 0.7.17-r1198-dirty
[main] CMD: /Library/Frameworks/R.framework/Versions/4.5-x86_64/Resources/library/Rbwa/bwa samse -n 1000000000 /tmp/Rtmp7xr2kJ/chr12 /tmp/Rtmp7xr2kJ/file14cb6113f062b.sai /tmp/Rtmp7xr2kJ/file14cb6113f062b
[main] Real time: 0.032 sec; CPU: 0.035 sec
[runCrisprBwa] Using BSgenome.Hsapiens.UCSC.hg38
[runCrisprBwa] Searching for SpCas9 protospacers
[bwa_aln_core] calculate SA coordinate... 0.00 sec
[bwa_aln_core] write to the disk... 0.00 sec
[bwa_aln_core] 5 sequences have been processed.
[main] Version: 0.7.17-r1198-dirty
[main] CMD: /Library/Frameworks/R.framework/Versions/4.5-x86_64/Resources/library/Rbwa/bwa aln -N -n 1 -l 60 -o 0 /tmp/Rtmp7xr2kJ/chr12 /tmp/Rtmp7xr2kJ/file14cb640adf9e5
[main] Real time: 0.031 sec; CPU: 0.033 sec
[bwa_aln_core] convert to sequence coordinate... 0.00 sec
[bwa_aln_core] refine gapped alignments... 0.00 sec
[bwa_aln_core] print alignments... 0.00 sec
[bwa_aln_core] 5 sequences have been processed.
[main] Version: 0.7.17-r1198-dirty
[main] CMD: /Library/Frameworks/R.framework/Versions/4.5-x86_64/Resources/library/Rbwa/bwa samse -n 1000000000 /tmp/Rtmp7xr2kJ/chr12 /tmp/Rtmp7xr2kJ/file14cb640adf9e5.sai /tmp/Rtmp7xr2kJ/file14cb640adf9e5
[main] Real time: 0.033 sec; CPU: 0.036 sec
[runCrisprBwa] Using BSgenome.Hsapiens.UCSC.hg38
[runCrisprBwa] Searching for SpCas9 protospacers
[bwa_aln_core] calculate SA coordinate... 0.00 sec
[bwa_aln_core] write to the disk... 0.00 sec
[bwa_aln_core] 5 sequences have been processed.
[main] Version: 0.7.17-r1198-dirty
[main] CMD: /Library/Frameworks/R.framework/Versions/4.5-x86_64/Resources/library/Rbwa/bwa aln -N -n 2 -l 60 -o 0 /tmp/Rtmp7xr2kJ/chr12 /tmp/Rtmp7xr2kJ/file14cb65df14a8f
[main] Real time: 0.030 sec; CPU: 0.033 sec
[bwa_aln_core] convert to sequence coordinate... 0.00 sec
[bwa_aln_core] refine gapped alignments... 0.00 sec
[bwa_aln_core] print alignments... 0.00 sec
[bwa_aln_core] 5 sequences have been processed.
[main] Version: 0.7.17-r1198-dirty
[main] CMD: /Library/Frameworks/R.framework/Versions/4.5-x86_64/Resources/library/Rbwa/bwa samse -n 1000000000 /tmp/Rtmp7xr2kJ/chr12 /tmp/Rtmp7xr2kJ/file14cb65df14a8f.sai /tmp/Rtmp7xr2kJ/file14cb65df14a8f
[main] Real time: 0.031 sec; CPU: 0.034 sec
[runCrisprBwa] Using BSgenome.Hsapiens.UCSC.hg38
[runCrisprBwa] Searching for SpCas9 protospacers
[bwa_aln_core] calculate SA coordinate... 0.00 sec
[bwa_aln_core] write to the disk... 0.00 sec
[bwa_aln_core] 5 sequences have been processed.
[main] Version: 0.7.17-r1198-dirty
[main] CMD: /Library/Frameworks/R.framework/Versions/4.5-x86_64/Resources/library/Rbwa/bwa aln -N -n 3 -l 60 -o 0 /tmp/Rtmp7xr2kJ/chr12 /tmp/Rtmp7xr2kJ/file14cb6c562278
[main] Real time: 0.029 sec; CPU: 0.032 sec
[bwa_aln_core] convert to sequence coordinate... 0.00 sec
[bwa_aln_core] refine gapped alignments... 0.00 sec
[bwa_aln_core] print alignments... 0.00 sec
[bwa_aln_core] 5 sequences have been processed.
[main] Version: 0.7.17-r1198-dirty
[main] CMD: /Library/Frameworks/R.framework/Versions/4.5-x86_64/Resources/library/Rbwa/bwa samse -n 1000000000 /tmp/Rtmp7xr2kJ/chr12 /tmp/Rtmp7xr2kJ/file14cb6c562278.sai /tmp/Rtmp7xr2kJ/file14cb6c562278
[main] Real time: 0.032 sec; CPU: 0.035 sec
[runCrisprBwa] Using BSgenome.Hsapiens.UCSC.hg38
[runCrisprBwa] Searching for SpCas9 protospacers
[runCrisprBwa] Using BSgenome.Hsapiens.UCSC.hg38
[runCrisprBwa] Searching for SpCas9 protospacers
[bwa_aln_core] calculate SA coordinate... 0.00 sec
[bwa_aln_core] write to the disk... 0.00 sec
[bwa_aln_core] 5 sequences have been processed.
[main] Version: 0.7.17-r1198-dirty
[main] CMD: /Library/Frameworks/R.framework/Versions/4.5-x86_64/Resources/library/Rbwa/bwa aln -N -n 3 -l 51 -o 0 /tmp/Rtmp7xr2kJ/chr12 /tmp/Rtmp7xr2kJ/file14cb61462560
[main] Real time: 0.032 sec; CPU: 0.034 sec
[bwa_aln_core] convert to sequence coordinate... 0.00 sec
[bwa_aln_core] refine gapped alignments... 0.00 sec
[bwa_aln_core] print alignments... 0.00 sec
[bwa_aln_core] 5 sequences have been processed.
[main] Version: 0.7.17-r1198-dirty
[main] CMD: /Library/Frameworks/R.framework/Versions/4.5-x86_64/Resources/library/Rbwa/bwa samse -n 1000000000 /tmp/Rtmp7xr2kJ/chr12 /tmp/Rtmp7xr2kJ/file14cb61462560.sai /tmp/Rtmp7xr2kJ/file14cb61462560
[main] Real time: 0.032 sec; CPU: 0.036 sec
[runCrisprBwa] Using BSgenome.Hsapiens.UCSC.hg38
[runCrisprBwa] Searching for AsCas12a protospacers
[bwa_aln_core] calculate SA coordinate... 0.00 sec
[bwa_aln_core] write to the disk... 0.00 sec
[bwa_aln_core] 4 sequences have been processed.
[main] Version: 0.7.17-r1198-dirty
[main] CMD: /Library/Frameworks/R.framework/Versions/4.5-x86_64/Resources/library/Rbwa/bwa aln -N -n 0 -l 69 -o 0 /tmp/Rtmp7xr2kJ/chr12 /tmp/Rtmp7xr2kJ/file14cb66e289e69
[main] Real time: 0.033 sec; CPU: 0.037 sec
[bwa_aln_core] convert to sequence coordinate... 0.00 sec
[bwa_aln_core] refine gapped alignments... 0.00 sec
[bwa_aln_core] print alignments... 0.00 sec
[bwa_aln_core] 4 sequences have been processed.
[main] Version: 0.7.17-r1198-dirty
[main] CMD: /Library/Frameworks/R.framework/Versions/4.5-x86_64/Resources/library/Rbwa/bwa samse -n 1000000000 /tmp/Rtmp7xr2kJ/chr12 /tmp/Rtmp7xr2kJ/file14cb66e289e69.sai /tmp/Rtmp7xr2kJ/file14cb66e289e69
[main] Real time: 0.032 sec; CPU: 0.035 sec
[runCrisprBwa] Using BSgenome.Hsapiens.UCSC.hg38
[runCrisprBwa] Searching for AsCas12a protospacers
[bwa_aln_core] calculate SA coordinate... 0.00 sec
[bwa_aln_core] write to the disk... 0.00 sec
[bwa_aln_core] 4 sequences have been processed.
[main] Version: 0.7.17-r1198-dirty
[main] CMD: /Library/Frameworks/R.framework/Versions/4.5-x86_64/Resources/library/Rbwa/bwa aln -N -n 1 -l 69 -o 0 /tmp/Rtmp7xr2kJ/chr12 /tmp/Rtmp7xr2kJ/file14cb62cb837ff
[main] Real time: 0.030 sec; CPU: 0.033 sec
[bwa_aln_core] convert to sequence coordinate... 0.00 sec
[bwa_aln_core] refine gapped alignments... 0.00 sec
[bwa_aln_core] print alignments... 0.00 sec
[bwa_aln_core] 4 sequences have been processed.
[main] Version: 0.7.17-r1198-dirty
[main] CMD: /Library/Frameworks/R.framework/Versions/4.5-x86_64/Resources/library/Rbwa/bwa samse -n 1000000000 /tmp/Rtmp7xr2kJ/chr12 /tmp/Rtmp7xr2kJ/file14cb62cb837ff.sai /tmp/Rtmp7xr2kJ/file14cb62cb837ff
[main] Real time: 0.029 sec; CPU: 0.033 sec
[runCrisprBwa] Using BSgenome.Hsapiens.UCSC.hg38
[runCrisprBwa] Searching for AsCas12a protospacers
[bwa_aln_core] calculate SA coordinate... 0.00 sec
[bwa_aln_core] write to the disk... 0.00 sec
[bwa_aln_core] 4 sequences have been processed.
[main] Version: 0.7.17-r1198-dirty
[main] CMD: /Library/Frameworks/R.framework/Versions/4.5-x86_64/Resources/library/Rbwa/bwa aln -N -n 2 -l 69 -o 0 /tmp/Rtmp7xr2kJ/chr12 /tmp/Rtmp7xr2kJ/file14cb672645d48
[main] Real time: 0.032 sec; CPU: 0.036 sec
[bwa_aln_core] convert to sequence coordinate... 0.00 sec
[bwa_aln_core] refine gapped alignments... 0.00 sec
[bwa_aln_core] print alignments... 0.00 sec
[bwa_aln_core] 4 sequences have been processed.
[main] Version: 0.7.17-r1198-dirty
[main] CMD: /Library/Frameworks/R.framework/Versions/4.5-x86_64/Resources/library/Rbwa/bwa samse -n 1000000000 /tmp/Rtmp7xr2kJ/chr12 /tmp/Rtmp7xr2kJ/file14cb672645d48.sai /tmp/Rtmp7xr2kJ/file14cb672645d48
[main] Real time: 0.030 sec; CPU: 0.033 sec
[runCrisprBwa] Using BSgenome.Hsapiens.UCSC.hg38
[runCrisprBwa] Searching for AsCas12a protospacers
[bwa_aln_core] calculate SA coordinate... 0.00 sec
[bwa_aln_core] write to the disk... 0.00 sec
[bwa_aln_core] 4 sequences have been processed.
[main] Version: 0.7.17-r1198-dirty
[main] CMD: /Library/Frameworks/R.framework/Versions/4.5-x86_64/Resources/library/Rbwa/bwa aln -N -n 3 -l 69 -o 0 /tmp/Rtmp7xr2kJ/chr12 /tmp/Rtmp7xr2kJ/file14cb61b285ca4
[main] Real time: 0.033 sec; CPU: 0.034 sec
[bwa_aln_core] convert to sequence coordinate... 0.00 sec
[bwa_aln_core] refine gapped alignments... 0.00 sec
[bwa_aln_core] print alignments... 0.00 sec
[bwa_aln_core] 4 sequences have been processed.
[main] Version: 0.7.17-r1198-dirty
[main] CMD: /Library/Frameworks/R.framework/Versions/4.5-x86_64/Resources/library/Rbwa/bwa samse -n 1000000000 /tmp/Rtmp7xr2kJ/chr12 /tmp/Rtmp7xr2kJ/file14cb61b285ca4.sai /tmp/Rtmp7xr2kJ/file14cb61b285ca4
[main] Real time: 0.031 sec; CPU: 0.035 sec
[ FAIL 0 | WARN 0 | SKIP 0 | PASS 19 ]
>
> proc.time()
user system elapsed
19.452 2.462 22.861
crisprBwa.Rcheck/crisprBwa-Ex.timings
| name | user | system | elapsed | |
| runBwa | 0.345 | 0.123 | 0.622 | |
| runCrisprBwa | 0.987 | 0.185 | 1.237 | |