| Back to Multiple platform build/check report for BioC 3.22: simplified long |
|
This page was generated on 2025-11-20 12:06 -0500 (Thu, 20 Nov 2025).
| Hostname | OS | Arch (*) | R version | Installed pkgs |
|---|---|---|---|---|
| nebbiolo2 | Linux (Ubuntu 24.04.3 LTS) | x86_64 | 4.5.2 (2025-10-31) -- "[Not] Part in a Rumble" | 4615 |
| merida1 | macOS 12.7.6 Monterey | x86_64 | 4.5.2 Patched (2025-11-05 r88990) -- "[Not] Part in a Rumble" | 4610 |
| kjohnson1 | macOS 13.7.5 Ventura | arm64 | 4.5.2 Patched (2025-11-04 r88984) -- "[Not] Part in a Rumble" | 4598 |
| taishan | Linux (openEuler 24.03 LTS) | aarch64 | 4.5.0 (2025-04-11) -- "How About a Twenty-Six" | 4668 |
| Click on any hostname to see more info about the system (e.g. compilers) (*) as reported by 'uname -p', except on Windows and Mac OS X | ||||
| Package 472/2361 | Hostname | OS / Arch | INSTALL | BUILD | CHECK | BUILD BIN | ||||||||
| crisprBwa 1.14.0 (landing page) Jean-Philippe Fortin
| nebbiolo2 | Linux (Ubuntu 24.04.3 LTS) / x86_64 | OK | OK | OK | |||||||||
| merida1 | macOS 12.7.6 Monterey / x86_64 | OK | OK | OK | OK | |||||||||
| kjohnson1 | macOS 13.7.5 Ventura / arm64 | OK | OK | OK | OK | |||||||||
| taishan | Linux (openEuler 24.03 LTS) / aarch64 | OK | OK | OK | ||||||||||
|
To the developers/maintainers of the crisprBwa package: - Allow up to 24 hours (and sometimes 48 hours) for your latest push to git@git.bioconductor.org:packages/crisprBwa.git to reflect on this report. See Troubleshooting Build Report for more information. - Use the following Renviron settings to reproduce errors and warnings. - If 'R CMD check' started to fail recently on the Linux builder(s) over a missing dependency, add the missing dependency to 'Suggests:' in your DESCRIPTION file. See Renviron.bioc for more information. |
| Package: crisprBwa |
| Version: 1.14.0 |
| Command: /Library/Frameworks/R.framework/Resources/bin/R CMD check --install=check:crisprBwa.install-out.txt --library=/Library/Frameworks/R.framework/Resources/library --no-vignettes --timings crisprBwa_1.14.0.tar.gz |
| StartedAt: 2025-11-18 04:41:17 -0500 (Tue, 18 Nov 2025) |
| EndedAt: 2025-11-18 04:43:12 -0500 (Tue, 18 Nov 2025) |
| EllapsedTime: 114.8 seconds |
| RetCode: 0 |
| Status: OK |
| CheckDir: crisprBwa.Rcheck |
| Warnings: 0 |
##############################################################################
##############################################################################
###
### Running command:
###
### /Library/Frameworks/R.framework/Resources/bin/R CMD check --install=check:crisprBwa.install-out.txt --library=/Library/Frameworks/R.framework/Resources/library --no-vignettes --timings crisprBwa_1.14.0.tar.gz
###
##############################################################################
##############################################################################
* using log directory ‘/Users/biocbuild/bbs-3.22-bioc/meat/crisprBwa.Rcheck’
* using R version 4.5.2 Patched (2025-11-04 r88984)
* using platform: aarch64-apple-darwin20
* R was compiled by
Apple clang version 16.0.0 (clang-1600.0.26.6)
GNU Fortran (GCC) 14.2.0
* running under: macOS Ventura 13.7.8
* using session charset: UTF-8
* using option ‘--no-vignettes’
* checking for file ‘crisprBwa/DESCRIPTION’ ... OK
* this is package ‘crisprBwa’ version ‘1.14.0’
* package encoding: UTF-8
* checking package namespace information ... OK
* checking package dependencies ... OK
* checking if this is a source package ... OK
* checking if there is a namespace ... OK
* checking for hidden files and directories ... NOTE
Found the following hidden files and directories:
.BBSoptions
These were most likely included in error. See section ‘Package
structure’ in the ‘Writing R Extensions’ manual.
* checking for portable file names ... OK
* checking for sufficient/correct file permissions ... OK
* checking whether package ‘crisprBwa’ can be installed ... OK
* checking installed package size ... OK
* checking package directory ... OK
* checking ‘build’ directory ... OK
* checking DESCRIPTION meta-information ... NOTE
License stub is invalid DCF.
* checking top-level files ... OK
* checking for left-over files ... OK
* checking index information ... OK
* checking package subdirectories ... OK
* checking code files for non-ASCII characters ... OK
* checking R files for syntax errors ... OK
* checking whether the package can be loaded ... OK
* checking whether the package can be loaded with stated dependencies ... OK
* checking whether the package can be unloaded cleanly ... OK
* checking whether the namespace can be loaded with stated dependencies ... OK
* checking whether the namespace can be unloaded cleanly ... OK
* checking dependencies in R code ... OK
* checking S3 generic/method consistency ... OK
* checking replacement functions ... OK
* checking foreign function calls ... OK
* checking R code for possible problems ... OK
* checking Rd files ... OK
* checking Rd metadata ... OK
* checking Rd cross-references ... OK
* checking for missing documentation entries ... OK
* checking for code/documentation mismatches ... OK
* checking Rd \usage sections ... OK
* checking Rd contents ... OK
* checking for unstated dependencies in examples ... OK
* checking files in ‘vignettes’ ... OK
* checking examples ... OK
* checking for unstated dependencies in ‘tests’ ... OK
* checking tests ...
Running ‘testthat.R’
OK
* checking for unstated dependencies in vignettes ... OK
* checking package vignettes ... OK
* checking running R code from vignettes ... SKIPPED
* checking re-building of vignette outputs ... SKIPPED
* checking PDF version of manual ... OK
* DONE
Status: 2 NOTEs
See
‘/Users/biocbuild/bbs-3.22-bioc/meat/crisprBwa.Rcheck/00check.log’
for details.
crisprBwa.Rcheck/00install.out
############################################################################## ############################################################################## ### ### Running command: ### ### /Library/Frameworks/R.framework/Resources/bin/R CMD INSTALL crisprBwa ### ############################################################################## ############################################################################## * installing to library ‘/Library/Frameworks/R.framework/Versions/4.5-arm64/Resources/library’ * installing *source* package ‘crisprBwa’ ... ** this is package ‘crisprBwa’ version ‘1.14.0’ ** using staged installation ** R ** inst ** byte-compile and prepare package for lazy loading ** help *** installing help indices ** building package indices ** installing vignettes ** testing if installed package can be loaded from temporary location ** testing if installed package can be loaded from final location ** testing if installed package keeps a record of temporary installation path * DONE (crisprBwa)
crisprBwa.Rcheck/tests/testthat.Rout
R version 4.5.2 Patched (2025-11-04 r88984) -- "[Not] Part in a Rumble"
Copyright (C) 2025 The R Foundation for Statistical Computing
Platform: aarch64-apple-darwin20
R is free software and comes with ABSOLUTELY NO WARRANTY.
You are welcome to redistribute it under certain conditions.
Type 'license()' or 'licence()' for distribution details.
R is a collaborative project with many contributors.
Type 'contributors()' for more information and
'citation()' on how to cite R or R packages in publications.
Type 'demo()' for some demos, 'help()' for on-line help, or
'help.start()' for an HTML browser interface to help.
Type 'q()' to quit R.
> library(testthat)
> library(crisprBwa)
>
> test_check("crisprBwa")
[bwa_index] Pack FASTA... 0.00 sec
[bwa_index] Construct BWT for the packed sequence...
[bwa_index] 0.03 seconds elapse.
[bwa_index] Update BWT... 0.00 sec
[bwa_index] Pack forward-only FASTA... 0.00 sec
[bwa_index] Construct SA from BWT and Occ... 0.01 sec
[main] Version: 0.7.17-r1198-dirty
[main] CMD: /Library/Frameworks/R.framework/Versions/4.5-arm64/Resources/library/Rbwa/bwa index -p /var/folders/dc/2xck8b8s0_3gymbxnrltzxhm0000gs/T//RtmpnVwBpj/chr12 /Library/Frameworks/R.framework/Versions/4.5-arm64/Resources/library/crisprBwa/example/chr12.fa
[main] Real time: 0.049 sec; CPU: 0.045 sec
[bwa_aln_core] calculate SA coordinate... 0.00 sec
[bwa_aln_core] write to the disk... 0.00 sec
[bwa_aln_core] 3 sequences have been processed.
[main] Version: 0.7.17-r1198-dirty
[main] CMD: /Library/Frameworks/R.framework/Versions/4.5-arm64/Resources/library/Rbwa/bwa aln -N -n 0 -l 36 -o 0 /var/folders/dc/2xck8b8s0_3gymbxnrltzxhm0000gs/T//RtmpnVwBpj/chr12 /var/folders/dc/2xck8b8s0_3gymbxnrltzxhm0000gs/T//RtmpnVwBpj/file87979eba965
[main] Real time: 0.006 sec; CPU: 0.008 sec
[bwa_aln_core] convert to sequence coordinate... 0.00 sec
[bwa_aln_core] refine gapped alignments... 0.00 sec
[bwa_aln_core] print alignments... 0.00 sec
[bwa_aln_core] 3 sequences have been processed.
[main] Version: 0.7.17-r1198-dirty
[main] CMD: /Library/Frameworks/R.framework/Versions/4.5-arm64/Resources/library/Rbwa/bwa samse -n 1000000000 /var/folders/dc/2xck8b8s0_3gymbxnrltzxhm0000gs/T//RtmpnVwBpj/chr12 /var/folders/dc/2xck8b8s0_3gymbxnrltzxhm0000gs/T//RtmpnVwBpj/file87979eba965.sai /var/folders/dc/2xck8b8s0_3gymbxnrltzxhm0000gs/T//RtmpnVwBpj/file87979eba965
[main] Real time: 0.005 sec; CPU: 0.007 sec
[bwa_aln_core] calculate SA coordinate... 0.00 sec
[bwa_aln_core] write to the disk... 0.00 sec
[bwa_aln_core] 3 sequences have been processed.
[main] Version: 0.7.17-r1198-dirty
[main] CMD: /Library/Frameworks/R.framework/Versions/4.5-arm64/Resources/library/Rbwa/bwa aln -N -n 1 -l 36 -o 0 /var/folders/dc/2xck8b8s0_3gymbxnrltzxhm0000gs/T//RtmpnVwBpj/chr12 /var/folders/dc/2xck8b8s0_3gymbxnrltzxhm0000gs/T//RtmpnVwBpj/file8795ebe646b
[main] Real time: 0.010 sec; CPU: 0.008 sec
[bwa_aln_core] convert to sequence coordinate... 0.00 sec
[bwa_aln_core] refine gapped alignments... 0.00 sec
[bwa_aln_core] print alignments... 0.00 sec
[bwa_aln_core] 3 sequences have been processed.
[main] Version: 0.7.17-r1198-dirty
[main] CMD: /Library/Frameworks/R.framework/Versions/4.5-arm64/Resources/library/Rbwa/bwa samse -n 1000000000 /var/folders/dc/2xck8b8s0_3gymbxnrltzxhm0000gs/T//RtmpnVwBpj/chr12 /var/folders/dc/2xck8b8s0_3gymbxnrltzxhm0000gs/T//RtmpnVwBpj/file8795ebe646b.sai /var/folders/dc/2xck8b8s0_3gymbxnrltzxhm0000gs/T//RtmpnVwBpj/file8795ebe646b
[main] Real time: 0.007 sec; CPU: 0.008 sec
[bwa_aln_core] calculate SA coordinate... 0.00 sec
[bwa_aln_core] write to the disk... 0.00 sec
[bwa_aln_core] 3 sequences have been processed.
[main] Version: 0.7.17-r1198-dirty
[main] CMD: /Library/Frameworks/R.framework/Versions/4.5-arm64/Resources/library/Rbwa/bwa aln -N -n 2 -l 36 -o 0 /var/folders/dc/2xck8b8s0_3gymbxnrltzxhm0000gs/T//RtmpnVwBpj/chr12 /var/folders/dc/2xck8b8s0_3gymbxnrltzxhm0000gs/T//RtmpnVwBpj/file87925b2dd65
[main] Real time: 0.008 sec; CPU: 0.009 sec
[bwa_aln_core] convert to sequence coordinate... 0.00 sec
[bwa_aln_core] refine gapped alignments... 0.00 sec
[bwa_aln_core] print alignments... 0.00 sec
[bwa_aln_core] 3 sequences have been processed.
[main] Version: 0.7.17-r1198-dirty
[main] CMD: /Library/Frameworks/R.framework/Versions/4.5-arm64/Resources/library/Rbwa/bwa samse -n 1000000000 /var/folders/dc/2xck8b8s0_3gymbxnrltzxhm0000gs/T//RtmpnVwBpj/chr12 /var/folders/dc/2xck8b8s0_3gymbxnrltzxhm0000gs/T//RtmpnVwBpj/file87925b2dd65.sai /var/folders/dc/2xck8b8s0_3gymbxnrltzxhm0000gs/T//RtmpnVwBpj/file87925b2dd65
[main] Real time: 0.005 sec; CPU: 0.007 sec
[bwa_aln_core] calculate SA coordinate... 0.00 sec
[bwa_aln_core] write to the disk... 0.00 sec
[bwa_aln_core] 3 sequences have been processed.
[main] Version: 0.7.17-r1198-dirty
[main] CMD: /Library/Frameworks/R.framework/Versions/4.5-arm64/Resources/library/Rbwa/bwa aln -N -n 3 -l 36 -o 0 /var/folders/dc/2xck8b8s0_3gymbxnrltzxhm0000gs/T//RtmpnVwBpj/chr12 /var/folders/dc/2xck8b8s0_3gymbxnrltzxhm0000gs/T//RtmpnVwBpj/file8791e52539
[main] Real time: 0.006 sec; CPU: 0.008 sec
[bwa_aln_core] convert to sequence coordinate... 0.00 sec
[bwa_aln_core] refine gapped alignments... 0.00 sec
[bwa_aln_core] print alignments... 0.00 sec
[bwa_aln_core] 3 sequences have been processed.
[main] Version: 0.7.17-r1198-dirty
[main] CMD: /Library/Frameworks/R.framework/Versions/4.5-arm64/Resources/library/Rbwa/bwa samse -n 1000000000 /var/folders/dc/2xck8b8s0_3gymbxnrltzxhm0000gs/T//RtmpnVwBpj/chr12 /var/folders/dc/2xck8b8s0_3gymbxnrltzxhm0000gs/T//RtmpnVwBpj/file8791e52539.sai /var/folders/dc/2xck8b8s0_3gymbxnrltzxhm0000gs/T//RtmpnVwBpj/file8791e52539
[main] Real time: 0.006 sec; CPU: 0.009 sec
[bwa_aln_core] calculate SA coordinate... 0.00 sec
[bwa_aln_core] write to the disk... 0.00 sec
[bwa_aln_core] 1 sequences have been processed.
[main] Version: 0.7.17-r1198-dirty
[main] CMD: /Library/Frameworks/R.framework/Versions/4.5-arm64/Resources/library/Rbwa/bwa aln -N -n 0 -l 144 -o 0 /var/folders/dc/2xck8b8s0_3gymbxnrltzxhm0000gs/T//RtmpnVwBpj/chr12 /var/folders/dc/2xck8b8s0_3gymbxnrltzxhm0000gs/T//RtmpnVwBpj/file8796aeec227
[main] Real time: 0.006 sec; CPU: 0.007 sec
[bwa_aln_core] convert to sequence coordinate... 0.00 sec
[bwa_aln_core] refine gapped alignments... 0.00 sec
[bwa_aln_core] print alignments... 0.00 sec
[bwa_aln_core] 1 sequences have been processed.
[main] Version: 0.7.17-r1198-dirty
[main] CMD: /Library/Frameworks/R.framework/Versions/4.5-arm64/Resources/library/Rbwa/bwa samse -n 1000000000 /var/folders/dc/2xck8b8s0_3gymbxnrltzxhm0000gs/T//RtmpnVwBpj/chr12 /var/folders/dc/2xck8b8s0_3gymbxnrltzxhm0000gs/T//RtmpnVwBpj/file8796aeec227.sai /var/folders/dc/2xck8b8s0_3gymbxnrltzxhm0000gs/T//RtmpnVwBpj/file8796aeec227
[main] Real time: 0.005 sec; CPU: 0.006 sec
[bwa_index] Pack FASTA... 0.00 sec
[bwa_index] Construct BWT for the packed sequence...
[bwa_index] 0.02 seconds elapse.
[bwa_index] Update BWT... 0.00 sec
[bwa_index] Pack forward-only FASTA... 0.00 sec
[bwa_index] Construct SA from BWT and Occ... 0.01 sec
[main] Version: 0.7.17-r1198-dirty
[main] CMD: /Library/Frameworks/R.framework/Versions/4.5-arm64/Resources/library/Rbwa/bwa index -p /var/folders/dc/2xck8b8s0_3gymbxnrltzxhm0000gs/T//RtmpnVwBpj/chr12 /Library/Frameworks/R.framework/Versions/4.5-arm64/Resources/library/crisprBwa/example/chr12.fa
[main] Real time: 0.042 sec; CPU: 0.040 sec
[runCrisprBwa] Using BSgenome.Hsapiens.UCSC.hg38
[runCrisprBwa] Searching for SpCas9 protospacers
[bwa_aln_core] calculate SA coordinate... 0.00 sec
[bwa_aln_core] write to the disk... 0.00 sec
[bwa_aln_core] 5 sequences have been processed.
[main] Version: 0.7.17-r1198-dirty
[main] CMD: /Library/Frameworks/R.framework/Versions/4.5-arm64/Resources/library/Rbwa/bwa aln -N -n 0 -l 60 -o 0 /var/folders/dc/2xck8b8s0_3gymbxnrltzxhm0000gs/T//RtmpnVwBpj/chr12 /var/folders/dc/2xck8b8s0_3gymbxnrltzxhm0000gs/T//RtmpnVwBpj/file8793877d8a7
[main] Real time: 0.005 sec; CPU: 0.007 sec
[bwa_aln_core] convert to sequence coordinate... 0.00 sec
[bwa_aln_core] refine gapped alignments... 0.00 sec
[bwa_aln_core] print alignments... 0.00 sec
[bwa_aln_core] 5 sequences have been processed.
[main] Version: 0.7.17-r1198-dirty
[main] CMD: /Library/Frameworks/R.framework/Versions/4.5-arm64/Resources/library/Rbwa/bwa samse -n 1000000000 /var/folders/dc/2xck8b8s0_3gymbxnrltzxhm0000gs/T//RtmpnVwBpj/chr12 /var/folders/dc/2xck8b8s0_3gymbxnrltzxhm0000gs/T//RtmpnVwBpj/file8793877d8a7.sai /var/folders/dc/2xck8b8s0_3gymbxnrltzxhm0000gs/T//RtmpnVwBpj/file8793877d8a7
[main] Real time: 0.009 sec; CPU: 0.012 sec
[runCrisprBwa] Using BSgenome.Hsapiens.UCSC.hg38
[runCrisprBwa] Searching for SpCas9 protospacers
[bwa_aln_core] calculate SA coordinate... 0.00 sec
[bwa_aln_core] write to the disk... 0.00 sec
[bwa_aln_core] 5 sequences have been processed.
[main] Version: 0.7.17-r1198-dirty
[main] CMD: /Library/Frameworks/R.framework/Versions/4.5-arm64/Resources/library/Rbwa/bwa aln -N -n 1 -l 60 -o 0 /var/folders/dc/2xck8b8s0_3gymbxnrltzxhm0000gs/T//RtmpnVwBpj/chr12 /var/folders/dc/2xck8b8s0_3gymbxnrltzxhm0000gs/T//RtmpnVwBpj/file8794430d8e7
[main] Real time: 0.006 sec; CPU: 0.006 sec
[bwa_aln_core] convert to sequence coordinate... 0.00 sec
[bwa_aln_core] refine gapped alignments... 0.00 sec
[bwa_aln_core] print alignments... 0.00 sec
[bwa_aln_core] 5 sequences have been processed.
[main] Version: 0.7.17-r1198-dirty
[main] CMD: /Library/Frameworks/R.framework/Versions/4.5-arm64/Resources/library/Rbwa/bwa samse -n 1000000000 /var/folders/dc/2xck8b8s0_3gymbxnrltzxhm0000gs/T//RtmpnVwBpj/chr12 /var/folders/dc/2xck8b8s0_3gymbxnrltzxhm0000gs/T//RtmpnVwBpj/file8794430d8e7.sai /var/folders/dc/2xck8b8s0_3gymbxnrltzxhm0000gs/T//RtmpnVwBpj/file8794430d8e7
[main] Real time: 0.007 sec; CPU: 0.008 sec
[runCrisprBwa] Using BSgenome.Hsapiens.UCSC.hg38
[runCrisprBwa] Searching for SpCas9 protospacers
[bwa_aln_core] calculate SA coordinate... 0.00 sec
[bwa_aln_core] write to the disk... 0.00 sec
[bwa_aln_core] 5 sequences have been processed.
[main] Version: 0.7.17-r1198-dirty
[main] CMD: /Library/Frameworks/R.framework/Versions/4.5-arm64/Resources/library/Rbwa/bwa aln -N -n 2 -l 60 -o 0 /var/folders/dc/2xck8b8s0_3gymbxnrltzxhm0000gs/T//RtmpnVwBpj/chr12 /var/folders/dc/2xck8b8s0_3gymbxnrltzxhm0000gs/T//RtmpnVwBpj/file87962f048aa
[main] Real time: 0.006 sec; CPU: 0.008 sec
[bwa_aln_core] convert to sequence coordinate... 0.00 sec
[bwa_aln_core] refine gapped alignments... 0.00 sec
[bwa_aln_core] print alignments... 0.00 sec
[bwa_aln_core] 5 sequences have been processed.
[main] Version: 0.7.17-r1198-dirty
[main] CMD: /Library/Frameworks/R.framework/Versions/4.5-arm64/Resources/library/Rbwa/bwa samse -n 1000000000 /var/folders/dc/2xck8b8s0_3gymbxnrltzxhm0000gs/T//RtmpnVwBpj/chr12 /var/folders/dc/2xck8b8s0_3gymbxnrltzxhm0000gs/T//RtmpnVwBpj/file87962f048aa.sai /var/folders/dc/2xck8b8s0_3gymbxnrltzxhm0000gs/T//RtmpnVwBpj/file87962f048aa
[main] Real time: 0.008 sec; CPU: 0.010 sec
[runCrisprBwa] Using BSgenome.Hsapiens.UCSC.hg38
[runCrisprBwa] Searching for SpCas9 protospacers
[bwa_aln_core] calculate SA coordinate... 0.00 sec
[bwa_aln_core] write to the disk... 0.00 sec
[bwa_aln_core] 5 sequences have been processed.
[main] Version: 0.7.17-r1198-dirty
[main] CMD: /Library/Frameworks/R.framework/Versions/4.5-arm64/Resources/library/Rbwa/bwa aln -N -n 3 -l 60 -o 0 /var/folders/dc/2xck8b8s0_3gymbxnrltzxhm0000gs/T//RtmpnVwBpj/chr12 /var/folders/dc/2xck8b8s0_3gymbxnrltzxhm0000gs/T//RtmpnVwBpj/file879d32c3a5
[main] Real time: 0.006 sec; CPU: 0.008 sec
[bwa_aln_core] convert to sequence coordinate... 0.00 sec
[bwa_aln_core] refine gapped alignments... 0.00 sec
[bwa_aln_core] print alignments... 0.00 sec
[bwa_aln_core] 5 sequences have been processed.
[main] Version: 0.7.17-r1198-dirty
[main] CMD: /Library/Frameworks/R.framework/Versions/4.5-arm64/Resources/library/Rbwa/bwa samse -n 1000000000 /var/folders/dc/2xck8b8s0_3gymbxnrltzxhm0000gs/T//RtmpnVwBpj/chr12 /var/folders/dc/2xck8b8s0_3gymbxnrltzxhm0000gs/T//RtmpnVwBpj/file879d32c3a5.sai /var/folders/dc/2xck8b8s0_3gymbxnrltzxhm0000gs/T//RtmpnVwBpj/file879d32c3a5
[main] Real time: 0.012 sec; CPU: 0.011 sec
[runCrisprBwa] Using BSgenome.Hsapiens.UCSC.hg38
[runCrisprBwa] Searching for SpCas9 protospacers
[bwa_aln_core] calculate SA coordinate... 0.00 sec
[bwa_aln_core] write to the disk... 0.00 sec
[bwa_aln_core] 5 sequences have been processed.
[main] Version: 0.7.17-r1198-dirty
[main] CMD: /Library/Frameworks/R.framework/Versions/4.5-arm64/Resources/library/Rbwa/bwa aln -N -n 0 -l 60 -o 0 /var/folders/dc/2xck8b8s0_3gymbxnrltzxhm0000gs/T//RtmpnVwBpj/chr12 /var/folders/dc/2xck8b8s0_3gymbxnrltzxhm0000gs/T//RtmpnVwBpj/file8791066b5ff
[main] Real time: 0.005 sec; CPU: 0.007 sec
[bwa_aln_core] convert to sequence coordinate... 0.00 sec
[bwa_aln_core] refine gapped alignments... 0.00 sec
[bwa_aln_core] print alignments... 0.00 sec
[bwa_aln_core] 5 sequences have been processed.
[main] Version: 0.7.17-r1198-dirty
[main] CMD: /Library/Frameworks/R.framework/Versions/4.5-arm64/Resources/library/Rbwa/bwa samse -n 1000000000 /var/folders/dc/2xck8b8s0_3gymbxnrltzxhm0000gs/T//RtmpnVwBpj/chr12 /var/folders/dc/2xck8b8s0_3gymbxnrltzxhm0000gs/T//RtmpnVwBpj/file8791066b5ff.sai /var/folders/dc/2xck8b8s0_3gymbxnrltzxhm0000gs/T//RtmpnVwBpj/file8791066b5ff
[main] Real time: 0.006 sec; CPU: 0.009 sec
[runCrisprBwa] Using BSgenome.Hsapiens.UCSC.hg38
[runCrisprBwa] Searching for SpCas9 protospacers
[bwa_aln_core] calculate SA coordinate... 0.00 sec
[bwa_aln_core] write to the disk... 0.00 sec
[bwa_aln_core] 5 sequences have been processed.
[main] Version: 0.7.17-r1198-dirty
[main] CMD: /Library/Frameworks/R.framework/Versions/4.5-arm64/Resources/library/Rbwa/bwa aln -N -n 1 -l 60 -o 0 /var/folders/dc/2xck8b8s0_3gymbxnrltzxhm0000gs/T//RtmpnVwBpj/chr12 /var/folders/dc/2xck8b8s0_3gymbxnrltzxhm0000gs/T//RtmpnVwBpj/file879473680c2
[main] Real time: 0.005 sec; CPU: 0.007 sec
[bwa_aln_core] convert to sequence coordinate... 0.00 sec
[bwa_aln_core] refine gapped alignments... 0.00 sec
[bwa_aln_core] print alignments... 0.00 sec
[bwa_aln_core] 5 sequences have been processed.
[main] Version: 0.7.17-r1198-dirty
[main] CMD: /Library/Frameworks/R.framework/Versions/4.5-arm64/Resources/library/Rbwa/bwa samse -n 1000000000 /var/folders/dc/2xck8b8s0_3gymbxnrltzxhm0000gs/T//RtmpnVwBpj/chr12 /var/folders/dc/2xck8b8s0_3gymbxnrltzxhm0000gs/T//RtmpnVwBpj/file879473680c2.sai /var/folders/dc/2xck8b8s0_3gymbxnrltzxhm0000gs/T//RtmpnVwBpj/file879473680c2
[main] Real time: 0.007 sec; CPU: 0.008 sec
[runCrisprBwa] Using BSgenome.Hsapiens.UCSC.hg38
[runCrisprBwa] Searching for SpCas9 protospacers
[bwa_aln_core] calculate SA coordinate... 0.00 sec
[bwa_aln_core] write to the disk... 0.00 sec
[bwa_aln_core] 5 sequences have been processed.
[main] Version: 0.7.17-r1198-dirty
[main] CMD: /Library/Frameworks/R.framework/Versions/4.5-arm64/Resources/library/Rbwa/bwa aln -N -n 2 -l 60 -o 0 /var/folders/dc/2xck8b8s0_3gymbxnrltzxhm0000gs/T//RtmpnVwBpj/chr12 /var/folders/dc/2xck8b8s0_3gymbxnrltzxhm0000gs/T//RtmpnVwBpj/file8794b3f6514
[main] Real time: 0.007 sec; CPU: 0.008 sec
[bwa_aln_core] convert to sequence coordinate... 0.00 sec
[bwa_aln_core] refine gapped alignments... 0.00 sec
[bwa_aln_core] print alignments... 0.00 sec
[bwa_aln_core] 5 sequences have been processed.
[main] Version: 0.7.17-r1198-dirty
[main] CMD: /Library/Frameworks/R.framework/Versions/4.5-arm64/Resources/library/Rbwa/bwa samse -n 1000000000 /var/folders/dc/2xck8b8s0_3gymbxnrltzxhm0000gs/T//RtmpnVwBpj/chr12 /var/folders/dc/2xck8b8s0_3gymbxnrltzxhm0000gs/T//RtmpnVwBpj/file8794b3f6514.sai /var/folders/dc/2xck8b8s0_3gymbxnrltzxhm0000gs/T//RtmpnVwBpj/file8794b3f6514
[main] Real time: 0.006 sec; CPU: 0.007 sec
[runCrisprBwa] Using BSgenome.Hsapiens.UCSC.hg38
[runCrisprBwa] Searching for SpCas9 protospacers
[bwa_aln_core] calculate SA coordinate... 0.00 sec
[bwa_aln_core] write to the disk... 0.00 sec
[bwa_aln_core] 5 sequences have been processed.
[main] Version: 0.7.17-r1198-dirty
[main] CMD: /Library/Frameworks/R.framework/Versions/4.5-arm64/Resources/library/Rbwa/bwa aln -N -n 3 -l 60 -o 0 /var/folders/dc/2xck8b8s0_3gymbxnrltzxhm0000gs/T//RtmpnVwBpj/chr12 /var/folders/dc/2xck8b8s0_3gymbxnrltzxhm0000gs/T//RtmpnVwBpj/file8792f052aa4
[main] Real time: 0.009 sec; CPU: 0.009 sec
[bwa_aln_core] convert to sequence coordinate... 0.00 sec
[bwa_aln_core] refine gapped alignments... 0.00 sec
[bwa_aln_core] print alignments... 0.00 sec
[bwa_aln_core] 5 sequences have been processed.
[main] Version: 0.7.17-r1198-dirty
[main] CMD: /Library/Frameworks/R.framework/Versions/4.5-arm64/Resources/library/Rbwa/bwa samse -n 1000000000 /var/folders/dc/2xck8b8s0_3gymbxnrltzxhm0000gs/T//RtmpnVwBpj/chr12 /var/folders/dc/2xck8b8s0_3gymbxnrltzxhm0000gs/T//RtmpnVwBpj/file8792f052aa4.sai /var/folders/dc/2xck8b8s0_3gymbxnrltzxhm0000gs/T//RtmpnVwBpj/file8792f052aa4
[main] Real time: 0.008 sec; CPU: 0.009 sec
[runCrisprBwa] Using BSgenome.Hsapiens.UCSC.hg38
[runCrisprBwa] Searching for SpCas9 protospacers
[runCrisprBwa] Using BSgenome.Hsapiens.UCSC.hg38
[runCrisprBwa] Searching for SpCas9 protospacers
[bwa_aln_core] calculate SA coordinate... 0.00 sec
[bwa_aln_core] write to the disk... 0.00 sec
[bwa_aln_core] 5 sequences have been processed.
[main] Version: 0.7.17-r1198-dirty
[main] CMD: /Library/Frameworks/R.framework/Versions/4.5-arm64/Resources/library/Rbwa/bwa aln -N -n 3 -l 51 -o 0 /var/folders/dc/2xck8b8s0_3gymbxnrltzxhm0000gs/T//RtmpnVwBpj/chr12 /var/folders/dc/2xck8b8s0_3gymbxnrltzxhm0000gs/T//RtmpnVwBpj/file87972caade0
[main] Real time: 0.010 sec; CPU: 0.009 sec
[bwa_aln_core] convert to sequence coordinate... 0.00 sec
[bwa_aln_core] refine gapped alignments... 0.00 sec
[bwa_aln_core] print alignments... 0.00 sec
[bwa_aln_core] 5 sequences have been processed.
[main] Version: 0.7.17-r1198-dirty
[main] CMD: /Library/Frameworks/R.framework/Versions/4.5-arm64/Resources/library/Rbwa/bwa samse -n 1000000000 /var/folders/dc/2xck8b8s0_3gymbxnrltzxhm0000gs/T//RtmpnVwBpj/chr12 /var/folders/dc/2xck8b8s0_3gymbxnrltzxhm0000gs/T//RtmpnVwBpj/file87972caade0.sai /var/folders/dc/2xck8b8s0_3gymbxnrltzxhm0000gs/T//RtmpnVwBpj/file87972caade0
[main] Real time: 0.005 sec; CPU: 0.008 sec
[runCrisprBwa] Using BSgenome.Hsapiens.UCSC.hg38
[runCrisprBwa] Searching for AsCas12a protospacers
[bwa_aln_core] calculate SA coordinate... 0.00 sec
[bwa_aln_core] write to the disk... 0.00 sec
[bwa_aln_core] 4 sequences have been processed.
[main] Version: 0.7.17-r1198-dirty
[main] CMD: /Library/Frameworks/R.framework/Versions/4.5-arm64/Resources/library/Rbwa/bwa aln -N -n 0 -l 69 -o 0 /var/folders/dc/2xck8b8s0_3gymbxnrltzxhm0000gs/T//RtmpnVwBpj/chr12 /var/folders/dc/2xck8b8s0_3gymbxnrltzxhm0000gs/T//RtmpnVwBpj/file8791c7c9e10
[main] Real time: 0.006 sec; CPU: 0.007 sec
[bwa_aln_core] convert to sequence coordinate... 0.00 sec
[bwa_aln_core] refine gapped alignments... 0.00 sec
[bwa_aln_core] print alignments... 0.00 sec
[bwa_aln_core] 4 sequences have been processed.
[main] Version: 0.7.17-r1198-dirty
[main] CMD: /Library/Frameworks/R.framework/Versions/4.5-arm64/Resources/library/Rbwa/bwa samse -n 1000000000 /var/folders/dc/2xck8b8s0_3gymbxnrltzxhm0000gs/T//RtmpnVwBpj/chr12 /var/folders/dc/2xck8b8s0_3gymbxnrltzxhm0000gs/T//RtmpnVwBpj/file8791c7c9e10.sai /var/folders/dc/2xck8b8s0_3gymbxnrltzxhm0000gs/T//RtmpnVwBpj/file8791c7c9e10
[main] Real time: 0.007 sec; CPU: 0.007 sec
[runCrisprBwa] Using BSgenome.Hsapiens.UCSC.hg38
[runCrisprBwa] Searching for AsCas12a protospacers
[bwa_aln_core] calculate SA coordinate... 0.00 sec
[bwa_aln_core] write to the disk... 0.00 sec
[bwa_aln_core] 4 sequences have been processed.
[main] Version: 0.7.17-r1198-dirty
[main] CMD: /Library/Frameworks/R.framework/Versions/4.5-arm64/Resources/library/Rbwa/bwa aln -N -n 1 -l 69 -o 0 /var/folders/dc/2xck8b8s0_3gymbxnrltzxhm0000gs/T//RtmpnVwBpj/chr12 /var/folders/dc/2xck8b8s0_3gymbxnrltzxhm0000gs/T//RtmpnVwBpj/file879396d3b0c
[main] Real time: 0.006 sec; CPU: 0.008 sec
[bwa_aln_core] convert to sequence coordinate... 0.00 sec
[bwa_aln_core] refine gapped alignments... 0.00 sec
[bwa_aln_core] print alignments... 0.00 sec
[bwa_aln_core] 4 sequences have been processed.
[main] Version: 0.7.17-r1198-dirty
[main] CMD: /Library/Frameworks/R.framework/Versions/4.5-arm64/Resources/library/Rbwa/bwa samse -n 1000000000 /var/folders/dc/2xck8b8s0_3gymbxnrltzxhm0000gs/T//RtmpnVwBpj/chr12 /var/folders/dc/2xck8b8s0_3gymbxnrltzxhm0000gs/T//RtmpnVwBpj/file879396d3b0c.sai /var/folders/dc/2xck8b8s0_3gymbxnrltzxhm0000gs/T//RtmpnVwBpj/file879396d3b0c
[main] Real time: 0.005 sec; CPU: 0.007 sec
[runCrisprBwa] Using BSgenome.Hsapiens.UCSC.hg38
[runCrisprBwa] Searching for AsCas12a protospacers
[bwa_aln_core] calculate SA coordinate... 0.00 sec
[bwa_aln_core] write to the disk... 0.00 sec
[bwa_aln_core] 4 sequences have been processed.
[main] Version: 0.7.17-r1198-dirty
[main] CMD: /Library/Frameworks/R.framework/Versions/4.5-arm64/Resources/library/Rbwa/bwa aln -N -n 2 -l 69 -o 0 /var/folders/dc/2xck8b8s0_3gymbxnrltzxhm0000gs/T//RtmpnVwBpj/chr12 /var/folders/dc/2xck8b8s0_3gymbxnrltzxhm0000gs/T//RtmpnVwBpj/file879323fae48
[main] Real time: 0.006 sec; CPU: 0.007 sec
[bwa_aln_core] convert to sequence coordinate... 0.00 sec
[bwa_aln_core] refine gapped alignments... 0.00 sec
[bwa_aln_core] print alignments... 0.00 sec
[bwa_aln_core] 4 sequences have been processed.
[main] Version: 0.7.17-r1198-dirty
[main] CMD: /Library/Frameworks/R.framework/Versions/4.5-arm64/Resources/library/Rbwa/bwa samse -n 1000000000 /var/folders/dc/2xck8b8s0_3gymbxnrltzxhm0000gs/T//RtmpnVwBpj/chr12 /var/folders/dc/2xck8b8s0_3gymbxnrltzxhm0000gs/T//RtmpnVwBpj/file879323fae48.sai /var/folders/dc/2xck8b8s0_3gymbxnrltzxhm0000gs/T//RtmpnVwBpj/file879323fae48
[main] Real time: 0.006 sec; CPU: 0.008 sec
[runCrisprBwa] Using BSgenome.Hsapiens.UCSC.hg38
[runCrisprBwa] Searching for AsCas12a protospacers
[bwa_aln_core] calculate SA coordinate... 0.00 sec
[bwa_aln_core] write to the disk... 0.00 sec
[bwa_aln_core] 4 sequences have been processed.
[main] Version: 0.7.17-r1198-dirty
[main] CMD: /Library/Frameworks/R.framework/Versions/4.5-arm64/Resources/library/Rbwa/bwa aln -N -n 3 -l 69 -o 0 /var/folders/dc/2xck8b8s0_3gymbxnrltzxhm0000gs/T//RtmpnVwBpj/chr12 /var/folders/dc/2xck8b8s0_3gymbxnrltzxhm0000gs/T//RtmpnVwBpj/file87972cb12bd
[main] Real time: 0.006 sec; CPU: 0.007 sec
[bwa_aln_core] convert to sequence coordinate... 0.00 sec
[bwa_aln_core] refine gapped alignments... 0.00 sec
[bwa_aln_core] print alignments... 0.00 sec
[bwa_aln_core] 4 sequences have been processed.
[main] Version: 0.7.17-r1198-dirty
[main] CMD: /Library/Frameworks/R.framework/Versions/4.5-arm64/Resources/library/Rbwa/bwa samse -n 1000000000 /var/folders/dc/2xck8b8s0_3gymbxnrltzxhm0000gs/T//RtmpnVwBpj/chr12 /var/folders/dc/2xck8b8s0_3gymbxnrltzxhm0000gs/T//RtmpnVwBpj/file87972cb12bd.sai /var/folders/dc/2xck8b8s0_3gymbxnrltzxhm0000gs/T//RtmpnVwBpj/file87972cb12bd
[main] Real time: 0.007 sec; CPU: 0.009 sec
[ FAIL 0 | WARN 0 | SKIP 0 | PASS 19 ]
>
> proc.time()
user system elapsed
7.160 0.814 8.982
crisprBwa.Rcheck/crisprBwa-Ex.timings
| name | user | system | elapsed | |
| runBwa | 0.150 | 0.051 | 0.256 | |
| runCrisprBwa | 0.404 | 0.059 | 0.505 | |