Back to Multiple platform build/check report for BioC 3.21:   simplified   long
AB[C]DEFGHIJKLMNOPQRSTUVWXYZ

This page was generated on 2025-10-06 11:40 -0400 (Mon, 06 Oct 2025).

HostnameOSArch (*)R versionInstalled pkgs
nebbiolo1Linux (Ubuntu 24.04.3 LTS)x86_644.5.1 (2025-06-13) -- "Great Square Root" 4832
merida1macOS 12.7.5 Montereyx86_644.5.1 RC (2025-06-05 r88288) -- "Great Square Root" 4613
kjohnson1macOS 13.6.6 Venturaarm644.5.1 Patched (2025-06-14 r88325) -- "Great Square Root" 4554
kunpeng2Linux (openEuler 24.03 LTS)aarch64R Under development (unstable) (2025-02-19 r87757) -- "Unsuffered Consequences" 4585
Click on any hostname to see more info about the system (e.g. compilers)      (*) as reported by 'uname -p', except on Windows and Mac OS X

Package 417/2341HostnameOS / ArchINSTALLBUILDCHECKBUILD BIN
cola 2.14.0  (landing page)
Zuguang Gu
Snapshot Date: 2025-10-02 13:40 -0400 (Thu, 02 Oct 2025)
git_url: https://git.bioconductor.org/packages/cola
git_branch: RELEASE_3_21
git_last_commit: 545c0fe
git_last_commit_date: 2025-04-15 11:40:31 -0400 (Tue, 15 Apr 2025)
nebbiolo1Linux (Ubuntu 24.04.3 LTS) / x86_64  OK    OK    OK  UNNEEDED, same version is already published
merida1macOS 12.7.5 Monterey / x86_64  OK    OK    OK    OK  UNNEEDED, same version is already published
kjohnson1macOS 13.6.6 Ventura / arm64  OK    OK    OK    OK  UNNEEDED, same version is already published
kunpeng2Linux (openEuler 24.03 LTS) / aarch64  OK    OK    OK  


CHECK results for cola on kjohnson1

To the developers/maintainers of the cola package:
- Allow up to 24 hours (and sometimes 48 hours) for your latest push to git@git.bioconductor.org:packages/cola.git to reflect on this report. See Troubleshooting Build Report for more information.
- Use the following Renviron settings to reproduce errors and warnings.
- If 'R CMD check' started to fail recently on the Linux builder(s) over a missing dependency, add the missing dependency to 'Suggests:' in your DESCRIPTION file. See Renviron.bioc for more information.

raw results


Summary

Package: cola
Version: 2.14.0
Command: /Library/Frameworks/R.framework/Resources/bin/R CMD check --install=check:cola.install-out.txt --library=/Library/Frameworks/R.framework/Resources/library --no-vignettes --timings cola_2.14.0.tar.gz
StartedAt: 2025-10-03 16:44:28 -0400 (Fri, 03 Oct 2025)
EndedAt: 2025-10-03 16:48:07 -0400 (Fri, 03 Oct 2025)
EllapsedTime: 218.6 seconds
RetCode: 0
Status:   OK  
CheckDir: cola.Rcheck
Warnings: 0

Command output

##############################################################################
##############################################################################
###
### Running command:
###
###   /Library/Frameworks/R.framework/Resources/bin/R CMD check --install=check:cola.install-out.txt --library=/Library/Frameworks/R.framework/Resources/library --no-vignettes --timings cola_2.14.0.tar.gz
###
##############################################################################
##############################################################################


* using log directory ‘/Users/biocbuild/bbs-3.21-bioc/meat/cola.Rcheck’
* using R version 4.5.1 Patched (2025-06-14 r88325)
* using platform: aarch64-apple-darwin20
* R was compiled by
    Apple clang version 16.0.0 (clang-1600.0.26.6)
    GNU Fortran (GCC) 14.2.0
* running under: macOS Ventura 13.7.5
* using session charset: UTF-8
* using option ‘--no-vignettes’
* checking for file ‘cola/DESCRIPTION’ ... OK
* checking extension type ... Package
* this is package ‘cola’ version ‘2.14.0’
* checking package namespace information ... OK
* checking package dependencies ... INFO
Imports includes 27 non-default packages.
Importing from so many packages makes the package vulnerable to any of
them becoming unavailable.  Move as many as possible to Suggests and
use conditionally.
* checking if this is a source package ... OK
* checking if there is a namespace ... OK
* checking for hidden files and directories ... OK
* checking for portable file names ... OK
* checking for sufficient/correct file permissions ... OK
* checking whether package ‘cola’ can be installed ... OK
* used C++ compiler: ‘Apple clang version 15.0.0 (clang-1500.0.40.1)’
* used SDK: ‘MacOSX11.3.sdk’
* checking installed package size ... INFO
  installed size is  5.8Mb
  sub-directories of 1Mb or more:
    data      3.2Mb
    extdata   1.0Mb
* checking package directory ... OK
* checking ‘build’ directory ... OK
* checking DESCRIPTION meta-information ... NOTE
License stub is invalid DCF.
* checking top-level files ... OK
* checking for left-over files ... OK
* checking index information ... OK
* checking package subdirectories ... OK
* checking code files for non-ASCII characters ... OK
* checking R files for syntax errors ... OK
* checking whether the package can be loaded ... OK
* checking whether the package can be loaded with stated dependencies ... OK
* checking whether the package can be unloaded cleanly ... OK
* checking whether the namespace can be loaded with stated dependencies ... OK
* checking whether the namespace can be unloaded cleanly ... OK
* checking whether startup messages can be suppressed ... OK
* checking dependencies in R code ... OK
* checking S3 generic/method consistency ... OK
* checking replacement functions ... OK
* checking foreign function calls ... OK
* checking R code for possible problems ... OK
* checking Rd files ... OK
* checking Rd metadata ... OK
* checking Rd cross-references ... NOTE
Non-topic package-anchored link(s) in Rd file 'collect_classes-ConsensusPartitionList-method.Rd':
  ‘[ComplexHeatmap:draw-HeatmapList-method]{draw,HeatmapList-method}’

See section 'Cross-references' in the 'Writing R Extensions' manual.

Found the following Rd file(s) with Rd \link{} targets missing package
anchors:
  predict_classes-ConsensusPartition-method.Rd: colorRamp2
  predict_classes-matrix-method.Rd: colorRamp2
Please provide package anchors for all Rd \link{} targets not in the
package itself and the base packages.
* checking for missing documentation entries ... OK
* checking for code/documentation mismatches ... OK
* checking Rd \usage sections ... OK
* checking Rd contents ... OK
* checking for unstated dependencies in examples ... OK
* checking contents of ‘data’ directory ... OK
* checking data for non-ASCII characters ... OK
* checking data for ASCII and uncompressed saves ... OK
* checking line endings in C/C++/Fortran sources/headers ... OK
* checking compiled code ... NOTE
Note: information on .o files is not available
* checking files in ‘vignettes’ ... OK
* checking examples ... OK
Examples with CPU (user + system) or elapsed time > 5s
                                                  user system elapsed
consensus_partition                             17.094  0.320  17.554
get_signatures-ConsensusPartition-method         6.129  0.284   6.508
top_rows_heatmap-matrix-method                   4.938  0.369   5.388
compare_signatures-HierarchicalPartition-method  4.808  0.170   5.048
* checking for unstated dependencies in ‘tests’ ... OK
* checking tests ...
  Running ‘test-all.R’
 OK
* checking for unstated dependencies in vignettes ... OK
* checking package vignettes ... OK
* checking running R code from vignettes ... SKIPPED
* checking re-building of vignette outputs ... SKIPPED
* checking PDF version of manual ... OK
* DONE

Status: 3 NOTEs
See
  ‘/Users/biocbuild/bbs-3.21-bioc/meat/cola.Rcheck/00check.log’
for details.


Installation output

cola.Rcheck/00install.out

##############################################################################
##############################################################################
###
### Running command:
###
###   /Library/Frameworks/R.framework/Resources/bin/R CMD INSTALL cola
###
##############################################################################
##############################################################################


* installing to library ‘/Library/Frameworks/R.framework/Versions/4.5-arm64/Resources/library’
* installing *source* package ‘cola’ ...
** this is package ‘cola’ version ‘2.14.0’
** using staged installation
** libs
using C++ compiler: ‘Apple clang version 15.0.0 (clang-1500.0.40.1)’
using SDK: ‘MacOSX11.3.sdk’
clang++ -arch arm64 -std=gnu++17 -I"/Library/Frameworks/R.framework/Resources/include" -DNDEBUG  -I'/Library/Frameworks/R.framework/Versions/4.5-arm64/Resources/library/Rcpp/include' -I/opt/R/arm64/include    -fPIC  -falign-functions=64 -Wall -g -O2   -c RcppExports.cpp -o RcppExports.o
clang++ -arch arm64 -std=gnu++17 -I"/Library/Frameworks/R.framework/Resources/include" -DNDEBUG  -I'/Library/Frameworks/R.framework/Versions/4.5-arm64/Resources/library/Rcpp/include' -I/opt/R/arm64/include    -fPIC  -falign-functions=64 -Wall -g -O2   -c atc.cpp -o atc.o
clang++ -arch arm64 -std=gnu++17 -I"/Library/Frameworks/R.framework/Resources/include" -DNDEBUG  -I'/Library/Frameworks/R.framework/Versions/4.5-arm64/Resources/library/Rcpp/include' -I/opt/R/arm64/include    -fPIC  -falign-functions=64 -Wall -g -O2   -c cal_consensus_mat.cpp -o cal_consensus_mat.o
clang++ -arch arm64 -std=gnu++17 -I"/Library/Frameworks/R.framework/Resources/include" -DNDEBUG  -I'/Library/Frameworks/R.framework/Versions/4.5-arm64/Resources/library/Rcpp/include' -I/opt/R/arm64/include    -fPIC  -falign-functions=64 -Wall -g -O2   -c pdist.cpp -o pdist.o
clang++ -arch arm64 -std=gnu++17 -dynamiclib -Wl,-headerpad_max_install_names -undefined dynamic_lookup -L/Library/Frameworks/R.framework/Resources/lib -L/opt/R/arm64/lib -o cola.so RcppExports.o atc.o cal_consensus_mat.o pdist.o -F/Library/Frameworks/R.framework/.. -framework R
installing to /Library/Frameworks/R.framework/Versions/4.5-arm64/Resources/library/00LOCK-cola/00new/cola/libs
** R
** data
** inst
** byte-compile and prepare package for lazy loading
** help
*** installing help indices
** building package indices
** installing vignettes
** testing if installed package can be loaded from temporary location
** checking absolute paths in shared objects and dynamic libraries
** testing if installed package can be loaded from final location
** testing if installed package keeps a record of temporary installation path
* DONE (cola)

Tests output

cola.Rcheck/tests/test-all.Rout


R version 4.5.1 Patched (2025-06-14 r88325) -- "Great Square Root"
Copyright (C) 2025 The R Foundation for Statistical Computing
Platform: aarch64-apple-darwin20

R is free software and comes with ABSOLUTELY NO WARRANTY.
You are welcome to redistribute it under certain conditions.
Type 'license()' or 'licence()' for distribution details.

R is a collaborative project with many contributors.
Type 'contributors()' for more information and
'citation()' on how to cite R or R packages in publications.

Type 'demo()' for some demos, 'help()' for on-line help, or
'help.start()' for an HTML browser interface to help.
Type 'q()' to quit R.

> library(testthat)
> suppressWarnings(suppressPackageStartupMessages(library(cola)))
> 
> test_check("cola")
[ FAIL 0 | WARN 0 | SKIP 0 | PASS 18 ]
> 
> 
> proc.time()
   user  system elapsed 
  4.909   0.409   5.430 

Example timings

cola.Rcheck/cola-Ex.timings

nameusersystemelapsed
ATC0.0350.0050.038
ATC_approx000
ConsensusPartition-class0.0010.0000.000
ConsensusPartitionList-class000
DownSamplingConsensusPartition-class0.0000.0010.000
Extract.ConsensusPartitionList0.6260.0300.669
Extract.HierarchicalPartition0.2070.0120.226
ExtractExtract.ConsensusPartitionList0.6130.0260.647
ExtractExtract.HierarchicalPartition000
FCC0.2090.0180.230
HierarchicalPartition-class000
PAC0.2090.0190.232
aPAC0.2140.0200.240
adjust_matrix0.0070.0020.008
adjust_outlier0.0010.0010.001
all_leaves-HierarchicalPartition-method0.1860.0100.199
all_nodes-HierarchicalPartition-method0.1810.0110.194
all_partition_methods000
all_top_value_methods000
cola0.0490.0010.051
cola_opt0.0270.0010.027
cola_report-ConsensusPartition-method0.0000.0000.001
cola_report-ConsensusPartitionList-method0.0000.0000.001
cola_report-HierarchicalPartition-method000
cola_report-dispatch0.0000.0010.000
cola_rl0.1000.0120.113
collect_classes-ConsensusPartition-method2.2440.0852.353
collect_classes-ConsensusPartitionList-method3.2280.0393.301
collect_classes-HierarchicalPartition-method2.2760.0682.374
collect_classes-dispatch000
collect_plots-ConsensusPartition-method000
collect_plots-ConsensusPartitionList-method000
collect_plots-dispatch000
collect_stats-ConsensusPartition-method0.0010.0000.000
collect_stats-ConsensusPartitionList-method0.4820.0190.505
collect_stats-dispatch000
colnames-ConsensusPartition-method000
colnames-ConsensusPartitionList-method000
colnames-DownSamplingConsensusPartition-method0.0010.0000.001
colnames-HierarchicalPartition-method000
colnames-dispatch0.0000.0010.000
compare_partitions-ConsensusPartition-method000
compare_signatures-ConsensusPartition-method0.0000.0000.001
compare_signatures-HierarchicalPartition-method4.8080.1705.048
compare_signatures-dispatch000
concordance0.2060.0150.221
config_ATC0.0010.0000.001
consensus_heatmap-ConsensusPartition-method0.6540.0180.681
consensus_partition17.094 0.32017.554
consensus_partition_by_down_sampling0.0000.0000.001
correspond_between_rankings0.0690.0030.073
correspond_between_two_rankings0.0390.0020.041
david_enrichment000
dim.ConsensusPartition000
dim.ConsensusPartitionList0.0000.0010.000
dim.DownSamplingConsensusPartition000
dim.HierarchicalPartition000
dimension_reduction-ConsensusPartition-method1.5790.0621.688
dimension_reduction-DownSamplingConsensusPartition-method1.2990.0521.364
dimension_reduction-HierarchicalPartition-method0.6970.0270.732
dimension_reduction-dispatch0.0000.0000.001
dimension_reduction-matrix-method0.0000.0000.001
find_best_km000
functional_enrichment-ANY-method000
functional_enrichment-ConsensusPartition-method0.0010.0000.000
functional_enrichment-ConsensusPartitionList-method0.0000.0000.001
functional_enrichment-HierarchicalPartition-method000
functional_enrichment-dispatch0.0000.0010.000
get_anno-ConsensusPartition-method000
get_anno-ConsensusPartitionList-method0.0000.0000.001
get_anno-DownSamplingConsensusPartition-method0.1220.0090.131
get_anno-HierarchicalPartition-method000
get_anno-dispatch000
get_anno_col-ConsensusPartition-method0.0000.0000.001
get_anno_col-ConsensusPartitionList-method0.0010.0000.000
get_anno_col-HierarchicalPartition-method000
get_anno_col-dispatch000
get_children_nodes-HierarchicalPartition-method000
get_classes-ConsensusPartition-method0.2250.0200.247
get_classes-ConsensusPartitionList-method0.2010.0140.215
get_classes-DownSamplingConsensusPartition-method0.1280.0080.137
get_classes-HierarchicalPartition-method0.2010.0080.212
get_classes-dispatch0.0000.0000.001
get_consensus-ConsensusPartition-method0.2030.0340.240
get_matrix-ConsensusPartition-method0.4030.4830.913
get_matrix-ConsensusPartitionList-method0.4010.4880.935
get_matrix-DownSamplingConsensusPartition-method0.0000.0000.001
get_matrix-HierarchicalPartition-method000
get_matrix-dispatch0.0000.0000.001
get_membership-ConsensusPartition-method0.2120.0350.250
get_membership-ConsensusPartitionList-method0.1960.0170.215
get_membership-dispatch000
get_param-ConsensusPartition-method0.2030.0190.226
get_signatures-ConsensusPartition-method6.1290.2846.508
get_signatures-DownSamplingConsensusPartition-method000
get_signatures-HierarchicalPartition-method0.0000.0000.001
get_signatures-dispatch0.0010.0000.000
get_stats-ConsensusPartition-method0.2020.0180.221
get_stats-ConsensusPartitionList-method0.2020.0160.221
get_stats-dispatch0.0000.0010.001
golub_cola0.2280.0190.265
golub_cola_ds0.1570.0100.167
golub_cola_rh0.2330.0110.246
hierarchical_partition000
is_best_k-ConsensusPartition-method0.2210.0180.241
is_best_k-ConsensusPartitionList-method0.2090.0180.230
is_best_k-dispatch000
is_leaf_node-HierarchicalPartition-method0.1890.0120.204
is_stable_k-ConsensusPartition-method0.1960.0150.213
is_stable_k-ConsensusPartitionList-method0.2110.0160.228
is_stable_k-dispatch000
knee_finder20.0330.0050.038
knitr_add_tab_item0.0010.0000.000
knitr_insert_tabs0.0000.0010.000
map_to_entrez_id000
max_depth-HierarchicalPartition-method0.1940.0110.206
membership_heatmap-ConsensusPartition-method0.5700.0210.596
merge_node-HierarchicalPartition-method000
merge_node_param0.0000.0000.001
ncol-ConsensusPartition-method000
ncol-ConsensusPartitionList-method000
ncol-DownSamplingConsensusPartition-method000
ncol-HierarchicalPartition-method000
ncol-dispatch0.0000.0000.001
node_info-HierarchicalPartition-method000
node_level-HierarchicalPartition-method000
nrow-ConsensusPartition-method000
nrow-ConsensusPartitionList-method0.0000.0000.001
nrow-HierarchicalPartition-method000
nrow-dispatch000
plot_ecdf-ConsensusPartition-method0.2140.0160.238
predict_classes-ConsensusPartition-method000
predict_classes-dispatch000
predict_classes-matrix-method000
print.hc_table_suggest_best_k0.0000.0000.001
recalc_stats000
register_NMF000
register_SOM000
register_partition_methods0.8050.0140.825
register_top_value_methods0.0020.0000.002
relabel_class0.0080.0010.009
remove_partition_methods0.0000.0010.000
remove_top_value_methods0.0000.0000.001
rownames-ConsensusPartition-method000
rownames-ConsensusPartitionList-method000
rownames-HierarchicalPartition-method0.0000.0000.001
rownames-dispatch0.0000.0000.001
run_all_consensus_partition_methods0.0000.0000.001
select_partition_number-ConsensusPartition-method0.2150.0170.238
show-ConsensusPartition-method000
show-ConsensusPartitionList-method0.0000.0000.001
show-DownSamplingConsensusPartition-method0.1490.0110.167
show-HierarchicalPartition-method0.2210.0120.235
show-dispatch000
split_node-HierarchicalPartition-method000
suggest_best_k-ConsensusPartition-method0.1940.0180.216
suggest_best_k-ConsensusPartitionList-method0.2030.0160.222
suggest_best_k-HierarchicalPartition-method0.1880.0120.200
suggest_best_k-dispatch000
test_between_factors0.0080.0000.009
test_to_known_factors-ConsensusPartition-method0.2120.0170.231
test_to_known_factors-ConsensusPartitionList-method0.3110.0200.337
test_to_known_factors-DownSamplingConsensusPartition-method0.1520.0120.175
test_to_known_factors-HierarchicalPartition-method0.2090.0180.228
test_to_known_factors-dispatch000
top_elements_overlap0.2170.0160.235
top_rows_heatmap-ConsensusPartition-method000
top_rows_heatmap-ConsensusPartitionList-method000
top_rows_heatmap-HierarchicalPartition-method000
top_rows_heatmap-dispatch000
top_rows_heatmap-matrix-method4.9380.3695.388
top_rows_overlap-ConsensusPartitionList-method0.9460.0711.034
top_rows_overlap-HierarchicalPartition-method0.7070.0270.741
top_rows_overlap-dispatch0.0000.0010.001
top_rows_overlap-matrix-method0.1500.0080.159