| Back to Multiple platform build/check report for BioC 3.21: simplified long |
|
This page was generated on 2025-10-16 11:38 -0400 (Thu, 16 Oct 2025).
| Hostname | OS | Arch (*) | R version | Installed pkgs |
|---|---|---|---|---|
| nebbiolo1 | Linux (Ubuntu 24.04.3 LTS) | x86_64 | 4.5.1 (2025-06-13) -- "Great Square Root" | 4833 |
| merida1 | macOS 12.7.6 Monterey | x86_64 | 4.5.1 RC (2025-06-05 r88288) -- "Great Square Root" | 4614 |
| kjohnson1 | macOS 13.7.5 Ventura | arm64 | 4.5.1 Patched (2025-06-14 r88325) -- "Great Square Root" | 4555 |
| kunpeng2 | Linux (openEuler 24.03 LTS) | aarch64 | R Under development (unstable) (2025-02-19 r87757) -- "Unsuffered Consequences" | 4586 |
| Click on any hostname to see more info about the system (e.g. compilers) (*) as reported by 'uname -p', except on Windows and Mac OS X | ||||
| Package 370/2341 | Hostname | OS / Arch | INSTALL | BUILD | CHECK | BUILD BIN | ||||||||
| clippda 1.58.0 (landing page) Stephen Nyangoma
| nebbiolo1 | Linux (Ubuntu 24.04.3 LTS) / x86_64 | OK | OK | OK | |||||||||
| merida1 | macOS 12.7.6 Monterey / x86_64 | OK | OK | OK | OK | |||||||||
| kjohnson1 | macOS 13.7.5 Ventura / arm64 | OK | OK | OK | OK | |||||||||
| kunpeng2 | Linux (openEuler 24.03 LTS) / aarch64 | OK | OK | OK | ||||||||||
|
To the developers/maintainers of the clippda package: - Allow up to 24 hours (and sometimes 48 hours) for your latest push to git@git.bioconductor.org:packages/clippda.git to reflect on this report. See Troubleshooting Build Report for more information. - Use the following Renviron settings to reproduce errors and warnings. - If 'R CMD check' started to fail recently on the Linux builder(s) over a missing dependency, add the missing dependency to 'Suggests:' in your DESCRIPTION file. See Renviron.bioc for more information. |
| Package: clippda |
| Version: 1.58.0 |
| Command: /Library/Frameworks/R.framework/Resources/bin/R CMD check --install=check:clippda.install-out.txt --library=/Library/Frameworks/R.framework/Resources/library --no-vignettes --timings clippda_1.58.0.tar.gz |
| StartedAt: 2025-10-14 01:32:25 -0400 (Tue, 14 Oct 2025) |
| EndedAt: 2025-10-14 01:38:21 -0400 (Tue, 14 Oct 2025) |
| EllapsedTime: 355.5 seconds |
| RetCode: 0 |
| Status: OK |
| CheckDir: clippda.Rcheck |
| Warnings: 0 |
##############################################################################
##############################################################################
###
### Running command:
###
### /Library/Frameworks/R.framework/Resources/bin/R CMD check --install=check:clippda.install-out.txt --library=/Library/Frameworks/R.framework/Resources/library --no-vignettes --timings clippda_1.58.0.tar.gz
###
##############################################################################
##############################################################################
* using log directory ‘/Users/biocbuild/bbs-3.21-bioc/meat/clippda.Rcheck’
* using R version 4.5.1 RC (2025-06-05 r88288)
* using platform: x86_64-apple-darwin20
* R was compiled by
Apple clang version 14.0.0 (clang-1400.0.29.202)
GNU Fortran (GCC) 14.2.0
* running under: macOS Monterey 12.7.6
* using session charset: UTF-8
* using option ‘--no-vignettes’
* checking for file ‘clippda/DESCRIPTION’ ... OK
* this is package ‘clippda’ version ‘1.58.0’
* checking package namespace information ... NOTE
Namespaces with empty importFrom:
‘Biobase’ ‘tools’
* checking package dependencies ... INFO
Depends: includes the non-default packages:
'limma', 'statmod', 'rgl', 'lattice', 'scatterplot3d', 'Biobase',
'tools'
Adding so many packages to the search path is excessive and importing
selectively is preferable.
* checking if this is a source package ... OK
* checking if there is a namespace ... OK
* checking for hidden files and directories ... OK
* checking for portable file names ... OK
* checking for sufficient/correct file permissions ... OK
* checking whether package ‘clippda’ can be installed ... OK
* checking installed package size ... OK
* checking package directory ... OK
* checking ‘build’ directory ... OK
* checking DESCRIPTION meta-information ... OK
* checking top-level files ... OK
* checking for left-over files ... OK
* checking index information ... OK
* checking package subdirectories ... OK
* checking code files for non-ASCII characters ... OK
* checking R files for syntax errors ... OK
* checking whether the package can be loaded ... OK
* checking whether the package can be loaded with stated dependencies ... OK
* checking whether the package can be unloaded cleanly ... OK
* checking whether the namespace can be loaded with stated dependencies ... OK
* checking whether the namespace can be unloaded cleanly ... OK
* checking dependencies in R code ... NOTE
'library' or 'require' calls to packages already attached by Depends:
‘lattice’ ‘limma’ ‘rgl’ ‘scatterplot3d’ ‘statmod’
Please remove these calls from your code.
Packages in Depends field not imported from:
‘lattice’ ‘rgl’
These packages need to be imported from (in the NAMESPACE file)
for when this namespace is loaded but not attached.
* checking S3 generic/method consistency ... OK
* checking replacement functions ... OK
* checking foreign function calls ... OK
* checking R code for possible problems ... NOTE
ZvaluescasesVcontrolsPlots: no visible global function definition for
‘lines’
ZvaluescasesVcontrolsPlots: no visible global function definition for
‘legend’
ZvaluesfrommultinomPlots: no visible global function definition for
‘rmultinom’
ZvaluesfrommultinomPlots: no visible global function definition for
‘density’
ZvaluesfrommultinomPlots: no visible global function definition for
‘lines’
ZvaluesfrommultinomPlots: no visible global function definition for
‘legend’
ZvaluesfrommultinomPlots: no visible global function definition for
‘cloud’
ZvaluesfrommultinomPlots: no visible global function definition for
‘var’
Undefined global functions or variables:
cloud density legend lines rmultinom var
Consider adding
importFrom("graphics", "legend", "lines")
importFrom("stats", "density", "rmultinom", "var")
to your NAMESPACE file.
* checking Rd files ... NOTE
checkRd: (-1) show-methods.Rd:11-18: Lost braces
11 | {object = "aclinicalProteomicsData"}{
| ^
* checking Rd metadata ... OK
* checking Rd cross-references ... OK
* checking for missing documentation entries ... OK
* checking for code/documentation mismatches ... OK
* checking Rd \usage sections ... OK
* checking Rd contents ... OK
* checking for unstated dependencies in examples ... OK
* checking contents of ‘data’ directory ... OK
* checking data for non-ASCII characters ... OK
* checking data for ASCII and uncompressed saves ... OK
* checking sizes of PDF files under ‘inst/doc’ ... OK
* checking files in ‘vignettes’ ... OK
* checking examples ... OK
Examples with CPU (user + system) or elapsed time > 5s
user system elapsed
clippda-package 118.705 3.494 123.328
sampleSize 70.269 2.423 75.407
sampleSizeParameters 35.839 1.238 39.897
sample_technicalVariance 9.531 0.229 10.111
replicateCorrelations 5.925 0.182 6.135
* checking for unstated dependencies in vignettes ... OK
* checking package vignettes ... OK
* checking running R code from vignettes ... SKIPPED
* checking re-building of vignette outputs ... SKIPPED
* checking PDF version of manual ... OK
* DONE
Status: 4 NOTEs
See
‘/Users/biocbuild/bbs-3.21-bioc/meat/clippda.Rcheck/00check.log’
for details.
clippda.Rcheck/00install.out
############################################################################## ############################################################################## ### ### Running command: ### ### /Library/Frameworks/R.framework/Resources/bin/R CMD INSTALL clippda ### ############################################################################## ############################################################################## * installing to library ‘/Library/Frameworks/R.framework/Versions/4.5-x86_64/Resources/library’ * installing *source* package ‘clippda’ ... ** this is package ‘clippda’ version ‘1.58.0’ ** using staged installation ** R ** data ** inst ** byte-compile and prepare package for lazy loading ** help *** installing help indices ** building package indices ** installing vignettes ** testing if installed package can be loaded from temporary location ** testing if installed package can be loaded from final location ** testing if installed package keeps a record of temporary installation path * DONE (clippda)
clippda.Rcheck/clippda-Ex.timings
| name | user | system | elapsed | |
| ZvaluescasesVcontrolsPlots | 0.018 | 0.006 | 0.025 | |
| ZvaluesfrommultinomPlots | 1.576 | 0.146 | 1.742 | |
| aclinicalProteomicsData-class | 0.069 | 0.009 | 0.078 | |
| aclinicalProteomicsData-methods | 0.591 | 1.195 | 1.803 | |
| betweensampleVariance | 2.389 | 0.169 | 2.581 | |
| checkNo.replicates | 0.140 | 0.016 | 0.157 | |
| clippda-package | 118.705 | 3.494 | 123.328 | |
| f | 0.001 | 0.001 | 0.003 | |
| fisherInformation | 0.090 | 0.012 | 0.101 | |
| liverRawData | 0.005 | 0.004 | 0.010 | |
| liver_pheno | 0.002 | 0.003 | 0.005 | |
| liverdata | 2.072 | 0.153 | 2.250 | |
| mostSimilarTwo | 0.004 | 0.001 | 0.004 | |
| negativeIntensitiesCorrection | 0.552 | 0.051 | 0.606 | |
| phenoDataFrame | 0.067 | 0.008 | 0.076 | |
| pheno_urine | 0.002 | 0.003 | 0.006 | |
| preProcRepeatedPeakData | 1.922 | 0.165 | 2.098 | |
| proteomicsExprsData | 0.194 | 0.021 | 0.218 | |
| proteomicspData | 0.065 | 0.008 | 0.073 | |
| replicateCorrelations | 5.925 | 0.182 | 6.135 | |
| sampleClusteredData | 0.510 | 0.076 | 0.608 | |
| sampleSize | 70.269 | 2.423 | 75.407 | |
| sampleSize3DscatterPlots | 0.032 | 0.006 | 0.067 | |
| sampleSizeContourPlots | 0.048 | 0.008 | 0.059 | |
| sampleSizeParameters | 35.839 | 1.238 | 39.897 | |
| sample_technicalVariance | 9.531 | 0.229 | 10.111 | |
| spectrumFilter | 1.747 | 0.137 | 1.889 | |
| ztwo | 0.000 | 0.001 | 0.001 | |