Back to Multiple platform build/check report for BioC 3.21: simplified long |
|
This page was generated on 2025-09-29 11:40 -0400 (Mon, 29 Sep 2025).
Hostname | OS | Arch (*) | R version | Installed pkgs |
---|---|---|---|---|
nebbiolo1 | Linux (Ubuntu 24.04.3 LTS) | x86_64 | 4.5.1 (2025-06-13) -- "Great Square Root" | 4827 |
merida1 | macOS 12.7.5 Monterey | x86_64 | 4.5.1 RC (2025-06-05 r88288) -- "Great Square Root" | 4608 |
kjohnson1 | macOS 13.6.6 Ventura | arm64 | 4.5.1 Patched (2025-06-14 r88325) -- "Great Square Root" | 4549 |
kunpeng2 | Linux (openEuler 24.03 LTS) | aarch64 | R Under development (unstable) (2025-02-19 r87757) -- "Unsuffered Consequences" | 4580 |
Click on any hostname to see more info about the system (e.g. compilers) (*) as reported by 'uname -p', except on Windows and Mac OS X |
Package 356/2341 | Hostname | OS / Arch | INSTALL | BUILD | CHECK | BUILD BIN | ||||||||
chromVAR 1.30.1 (landing page) Alicia Schep
| nebbiolo1 | Linux (Ubuntu 24.04.3 LTS) / x86_64 | OK | OK | OK | ![]() | ||||||||
merida1 | macOS 12.7.5 Monterey / x86_64 | OK | OK | OK | OK | ![]() | ||||||||
kjohnson1 | macOS 13.6.6 Ventura / arm64 | OK | OK | OK | OK | ![]() | ||||||||
kunpeng2 | Linux (openEuler 24.03 LTS) / aarch64 | OK | OK | OK | ||||||||||
To the developers/maintainers of the chromVAR package: - Allow up to 24 hours (and sometimes 48 hours) for your latest push to git@git.bioconductor.org:packages/chromVAR.git to reflect on this report. See Troubleshooting Build Report for more information. - Use the following Renviron settings to reproduce errors and warnings. - If 'R CMD check' started to fail recently on the Linux builder(s) over a missing dependency, add the missing dependency to 'Suggests:' in your DESCRIPTION file. See Renviron.bioc for more information. |
Package: chromVAR |
Version: 1.30.1 |
Command: /Library/Frameworks/R.framework/Resources/bin/R CMD check --install=check:chromVAR.install-out.txt --library=/Library/Frameworks/R.framework/Resources/library --no-vignettes --timings chromVAR_1.30.1.tar.gz |
StartedAt: 2025-09-26 15:50:50 -0400 (Fri, 26 Sep 2025) |
EndedAt: 2025-09-26 15:58:05 -0400 (Fri, 26 Sep 2025) |
EllapsedTime: 434.6 seconds |
RetCode: 0 |
Status: OK |
CheckDir: chromVAR.Rcheck |
Warnings: 0 |
############################################################################## ############################################################################## ### ### Running command: ### ### /Library/Frameworks/R.framework/Resources/bin/R CMD check --install=check:chromVAR.install-out.txt --library=/Library/Frameworks/R.framework/Resources/library --no-vignettes --timings chromVAR_1.30.1.tar.gz ### ############################################################################## ############################################################################## * using log directory ‘/Users/biocbuild/bbs-3.21-bioc/meat/chromVAR.Rcheck’ * using R version 4.5.1 Patched (2025-06-14 r88325) * using platform: aarch64-apple-darwin20 * R was compiled by Apple clang version 16.0.0 (clang-1600.0.26.6) GNU Fortran (GCC) 14.2.0 * running under: macOS Ventura 13.7.5 * using session charset: UTF-8 * using option ‘--no-vignettes’ * checking for file ‘chromVAR/DESCRIPTION’ ... OK * checking extension type ... Package * this is package ‘chromVAR’ version ‘1.30.1’ * checking package namespace information ... OK * checking package dependencies ... INFO Imports includes 21 non-default packages. Importing from so many packages makes the package vulnerable to any of them becoming unavailable. Move as many as possible to Suggests and use conditionally. * checking if this is a source package ... OK * checking if there is a namespace ... OK * checking for hidden files and directories ... OK * checking for portable file names ... OK * checking for sufficient/correct file permissions ... OK * checking whether package ‘chromVAR’ can be installed ... OK * used C++ compiler: ‘Apple clang version 15.0.0 (clang-1500.0.40.1)’ * used SDK: ‘MacOSX11.3.sdk’ * checking C++ specification ... NOTE Specified C++11: please drop specification unless essential * checking installed package size ... OK * checking package directory ... OK * checking ‘build’ directory ... OK * checking DESCRIPTION meta-information ... NOTE License stub records with missing/empty fields: Record: 1 Field(s): COPYRIGHT HOLDER * checking top-level files ... OK * checking for left-over files ... OK * checking index information ... OK * checking package subdirectories ... OK * checking code files for non-ASCII characters ... OK * checking R files for syntax errors ... OK * checking whether the package can be loaded ... OK * checking whether the package can be loaded with stated dependencies ... OK * checking whether the package can be unloaded cleanly ... OK * checking whether the namespace can be loaded with stated dependencies ... OK * checking whether the namespace can be unloaded cleanly ... OK * checking dependencies in R code ... OK * checking S3 generic/method consistency ... OK * checking replacement functions ... OK * checking foreign function calls ... OK * checking R code for possible problems ... NOTE left_right_to_grglist: no visible global function definition for ‘GenomicRangesList’ Undefined global functions or variables: GenomicRangesList * checking Rd files ... OK * checking Rd metadata ... OK * checking Rd cross-references ... OK * checking for missing documentation entries ... OK * checking for code/documentation mismatches ... OK * checking Rd \usage sections ... OK * checking Rd contents ... OK * checking for unstated dependencies in examples ... OK * checking contents of ‘data’ directory ... OK * checking data for non-ASCII characters ... OK * checking LazyData ... OK * checking data for ASCII and uncompressed saves ... OK * checking line endings in C/C++/Fortran sources/headers ... OK * checking line endings in Makefiles ... OK * checking compilation flags in Makevars ... OK * checking for GNU extensions in Makefiles ... OK * checking for portable use of $(BLAS_LIBS) and $(LAPACK_LIBS) ... OK * checking use of PKG_*FLAGS in Makefiles ... OK * checking compiled code ... NOTE Note: information on .o files is not available * checking files in ‘vignettes’ ... OK * checking examples ... OK Examples with CPU (user + system) or elapsed time > 5s user system elapsed deviationsCovariability 16.231 1.787 18.483 computeDeviations 7.213 0.069 7.337 pwmDistance 5.517 0.135 5.699 getJasparMotifs 5.505 0.141 5.763 * checking for unstated dependencies in ‘tests’ ... OK * checking tests ... Running ‘testthat.R’ OK * checking for unstated dependencies in vignettes ... OK * checking package vignettes ... OK * checking running R code from vignettes ... SKIPPED * checking re-building of vignette outputs ... SKIPPED * checking PDF version of manual ... OK * DONE Status: 4 NOTEs See ‘/Users/biocbuild/bbs-3.21-bioc/meat/chromVAR.Rcheck/00check.log’ for details.
chromVAR.Rcheck/00install.out
############################################################################## ############################################################################## ### ### Running command: ### ### /Library/Frameworks/R.framework/Resources/bin/R CMD INSTALL chromVAR ### ############################################################################## ############################################################################## * installing to library ‘/Library/Frameworks/R.framework/Versions/4.5-arm64/Resources/library’ * installing *source* package ‘chromVAR’ ... ** this is package ‘chromVAR’ version ‘1.30.1’ ** using staged installation ** libs using C++ compiler: ‘Apple clang version 15.0.0 (clang-1500.0.40.1)’ using C++11 using SDK: ‘MacOSX11.3.sdk’ clang++ -arch arm64 -std=gnu++11 -I"/Library/Frameworks/R.framework/Resources/include" -DNDEBUG -I'/Library/Frameworks/R.framework/Versions/4.5-arm64/Resources/library/Rcpp/include' -I'/Library/Frameworks/R.framework/Versions/4.5-arm64/Resources/library/RcppArmadillo/include' -I/opt/R/arm64/include -fPIC -falign-functions=64 -Wall -g -O2 -c RcppExports.cpp -o RcppExports.o In file included from RcppExports.cpp:4: In file included from /Library/Frameworks/R.framework/Versions/4.5-arm64/Resources/library/RcppArmadillo/include/RcppArmadillo.h:29: /Library/Frameworks/R.framework/Versions/4.5-arm64/Resources/library/RcppArmadillo/include/RcppArmadillo/version/arma.h:66:17: warning: Using fallback compilation with Armadillo 14.6.3. Please consider defining -DARMA_USE_CURRENT and also removing C++11 compilation directive. See GitHub issue #475 for more. [-W#pragma-messages] #pragma message("Using fallback compilation with Armadillo 14.6.3. Please consider defining -DARMA_USE_CURRENT and also removing C++11 compilation directive. See GitHub issue #475 for more.") ^ 1 warning generated. clang++ -arch arm64 -std=gnu++11 -I"/Library/Frameworks/R.framework/Resources/include" -DNDEBUG -I'/Library/Frameworks/R.framework/Versions/4.5-arm64/Resources/library/Rcpp/include' -I'/Library/Frameworks/R.framework/Versions/4.5-arm64/Resources/library/RcppArmadillo/include' -I/opt/R/arm64/include -fPIC -falign-functions=64 -Wall -g -O2 -c pwm_similarity.cpp -o pwm_similarity.o In file included from pwm_similarity.cpp:2: In file included from /Library/Frameworks/R.framework/Versions/4.5-arm64/Resources/library/RcppArmadillo/include/RcppArmadillo.h:29: /Library/Frameworks/R.framework/Versions/4.5-arm64/Resources/library/RcppArmadillo/include/RcppArmadillo/version/arma.h:66:17: warning: Using fallback compilation with Armadillo 14.6.3. Please consider defining -DARMA_USE_CURRENT and also removing C++11 compilation directive. See GitHub issue #475 for more. [-W#pragma-messages] #pragma message("Using fallback compilation with Armadillo 14.6.3. Please consider defining -DARMA_USE_CURRENT and also removing C++11 compilation directive. See GitHub issue #475 for more.") ^ 1 warning generated. clang++ -arch arm64 -std=gnu++11 -I"/Library/Frameworks/R.framework/Resources/include" -DNDEBUG -I'/Library/Frameworks/R.framework/Versions/4.5-arm64/Resources/library/Rcpp/include' -I'/Library/Frameworks/R.framework/Versions/4.5-arm64/Resources/library/RcppArmadillo/include' -I/opt/R/arm64/include -fPIC -falign-functions=64 -Wall -g -O2 -c utils.cpp -o utils.o In file included from utils.cpp:2: In file included from /Library/Frameworks/R.framework/Versions/4.5-arm64/Resources/library/RcppArmadillo/include/RcppArmadillo.h:29: /Library/Frameworks/R.framework/Versions/4.5-arm64/Resources/library/RcppArmadillo/include/RcppArmadillo/version/arma.h:66:17: warning: Using fallback compilation with Armadillo 14.6.3. Please consider defining -DARMA_USE_CURRENT and also removing C++11 compilation directive. See GitHub issue #475 for more. [-W#pragma-messages] #pragma message("Using fallback compilation with Armadillo 14.6.3. Please consider defining -DARMA_USE_CURRENT and also removing C++11 compilation directive. See GitHub issue #475 for more.") ^ 1 warning generated. clang++ -arch arm64 -std=gnu++11 -dynamiclib -Wl,-headerpad_max_install_names -undefined dynamic_lookup -L/Library/Frameworks/R.framework/Resources/lib -L/opt/R/arm64/lib -o chromVAR.so RcppExports.o pwm_similarity.o utils.o -L/Library/Frameworks/R.framework/Resources/lib -lRlapack -L/Library/Frameworks/R.framework/Resources/lib -lRblas -L/opt/gfortran/lib/gcc/aarch64-apple-darwin20.0/14.2.0 -L/opt/gfortran/lib -lemutls_w -lheapt_w -lgfortran -lquadmath -F/Library/Frameworks/R.framework/.. -framework R installing to /Library/Frameworks/R.framework/Versions/4.5-arm64/Resources/library/00LOCK-chromVAR/00new/chromVAR/libs ** R ** data *** moving datasets to lazyload DB ** inst ** byte-compile and prepare package for lazy loading ** help *** installing help indices ** building package indices ** installing vignettes ** testing if installed package can be loaded from temporary location ** checking absolute paths in shared objects and dynamic libraries ** testing if installed package can be loaded from final location ** testing if installed package keeps a record of temporary installation path * DONE (chromVAR)
chromVAR.Rcheck/tests/testthat.Rout
R version 4.5.1 Patched (2025-06-14 r88325) -- "Great Square Root" Copyright (C) 2025 The R Foundation for Statistical Computing Platform: aarch64-apple-darwin20 R is free software and comes with ABSOLUTELY NO WARRANTY. You are welcome to redistribute it under certain conditions. Type 'license()' or 'licence()' for distribution details. R is a collaborative project with many contributors. Type 'contributors()' for more information and 'citation()' on how to cite R or R packages in publications. Type 'demo()' for some demos, 'help()' for on-line help, or 'help.start()' for an HTML browser interface to help. Type 'q()' to quit R. > library(testthat) > library(chromVAR) > BiocParallel::register(BiocParallel::SerialParam()) > test_check("chromVAR") [ FAIL 0 | WARN 0 | SKIP 0 | PASS 65 ] > > proc.time() user system elapsed 27.903 1.613 29.838
chromVAR.Rcheck/chromVAR-Ex.timings
name | user | system | elapsed | |
addGCBias | 1.896 | 0.050 | 2.025 | |
annotationMatches | 0.015 | 0.001 | 0.016 | |
chromVAR_theme | 0.186 | 0.020 | 0.208 | |
computeDeviations | 7.213 | 0.069 | 7.337 | |
computeExpectations | 0.019 | 0.001 | 0.020 | |
computeVariability | 3.495 | 0.103 | 3.647 | |
counts | 0.008 | 0.001 | 0.008 | |
deviationScores | 0.005 | 0.001 | 0.006 | |
deviations | 0.004 | 0.000 | 0.005 | |
deviationsCovariability | 16.231 | 1.787 | 18.483 | |
deviationsTsne | 0.073 | 0.003 | 0.077 | |
differentialDeviations | 0.011 | 0.001 | 0.013 | |
differentialVariability | 0.026 | 0.002 | 0.029 | |
example_counts | 0.001 | 0.002 | 0.002 | |
filterPeaks | 0.222 | 0.009 | 0.236 | |
filterSamples | 0.045 | 0.005 | 0.050 | |
filterSamplesPlot | 0.246 | 0.011 | 0.264 | |
getAnnotations | 0.427 | 0.023 | 0.458 | |
getBackgroundPeaks | 0.540 | 0.049 | 0.602 | |
getCisGroups | 0.103 | 0.002 | 0.105 | |
getCounts | 3.892 | 0.681 | 4.648 | |
getFragmentsPerPeak | 0.008 | 0.001 | 0.009 | |
getFragmentsPerSample | 0.007 | 0.001 | 0.008 | |
getJasparMotifs | 5.505 | 0.141 | 5.763 | |
getPeaks | 0.157 | 0.004 | 0.162 | |
getPermutedData | 2.521 | 0.139 | 2.685 | |
getSampleCorrelation | 0.013 | 0.001 | 0.014 | |
getSampleDepths | 0.109 | 0.009 | 0.119 | |
getSampleDistance | 0.014 | 0.001 | 0.014 | |
getTotalFragments | 0.010 | 0.001 | 0.011 | |
makeBiasBins | 0.047 | 0.001 | 0.047 | |
makePermutedSets | 0.993 | 0.117 | 1.119 | |
matchKmers | 1.237 | 0.131 | 1.402 | |
mini_counts | 0.000 | 0.002 | 0.002 | |
mini_dev | 0.000 | 0.002 | 0.002 | |
mini_ix | 0.000 | 0.001 | 0.002 | |
plotVariability | 3.471 | 0.019 | 3.517 | |
pwmDistance | 5.517 | 0.135 | 5.699 | |
rbind-chromVARDeviations-method | 0.081 | 0.001 | 0.082 | |