Back to Multiple platform build/check report for BioC 3.22:   simplified   long
AB[C]DEFGHIJKLMNOPQRSTUVWXYZ

This page was generated on 2025-10-31 12:02 -0400 (Fri, 31 Oct 2025).

HostnameOSArch (*)R versionInstalled pkgs
nebbiolo2Linux (Ubuntu 24.04.3 LTS)x86_644.5.1 Patched (2025-08-23 r88802) -- "Great Square Root" 4901
lconwaymacOS 12.7.6 Montereyx86_644.5.1 Patched (2025-09-10 r88807) -- "Great Square Root" 4691
kjohnson3macOS 13.7.7 Venturaarm644.5.1 Patched (2025-09-10 r88807) -- "Great Square Root" 4637
Click on any hostname to see more info about the system (e.g. compilers)      (*) as reported by 'uname -p', except on Windows and Mac OS X

Package 313/2361HostnameOS / ArchINSTALLBUILDCHECKBUILD BIN
cellmigRation 1.18.0  (landing page)
Waldir Leoncio
Snapshot Date: 2025-10-30 13:45 -0400 (Thu, 30 Oct 2025)
git_url: https://git.bioconductor.org/packages/cellmigRation
git_branch: RELEASE_3_22
git_last_commit: 995cd43
git_last_commit_date: 2025-10-29 11:08:05 -0400 (Wed, 29 Oct 2025)
nebbiolo2Linux (Ubuntu 24.04.3 LTS) / x86_64  OK    OK    OK  UNNEEDED, same version is already published
lconwaymacOS 12.7.6 Monterey / x86_64  OK    OK    OK    OK  UNNEEDED, same version is already published
kjohnson3macOS 13.7.7 Ventura / arm64  OK    OK    OK    OK  UNNEEDED, same version is already published


CHECK results for cellmigRation on nebbiolo2

To the developers/maintainers of the cellmigRation package:
- Allow up to 24 hours (and sometimes 48 hours) for your latest push to git@git.bioconductor.org:packages/cellmigRation.git to reflect on this report. See Troubleshooting Build Report for more information.
- Use the following Renviron settings to reproduce errors and warnings.
- If 'R CMD check' started to fail recently on the Linux builder(s) over a missing dependency, add the missing dependency to 'Suggests:' in your DESCRIPTION file. See Renviron.bioc for more information.

raw results


Summary

Package: cellmigRation
Version: 1.18.0
Command: /home/biocbuild/bbs-3.22-bioc/R/bin/R CMD check --install=check:cellmigRation.install-out.txt --library=/home/biocbuild/bbs-3.22-bioc/R/site-library --timings cellmigRation_1.18.0.tar.gz
StartedAt: 2025-10-30 21:52:17 -0400 (Thu, 30 Oct 2025)
EndedAt: 2025-10-30 21:56:12 -0400 (Thu, 30 Oct 2025)
EllapsedTime: 234.2 seconds
RetCode: 0
Status:   OK  
CheckDir: cellmigRation.Rcheck
Warnings: 0

Command output

##############################################################################
##############################################################################
###
### Running command:
###
###   /home/biocbuild/bbs-3.22-bioc/R/bin/R CMD check --install=check:cellmigRation.install-out.txt --library=/home/biocbuild/bbs-3.22-bioc/R/site-library --timings cellmigRation_1.18.0.tar.gz
###
##############################################################################
##############################################################################


* using log directory ‘/home/biocbuild/bbs-3.22-bioc/meat/cellmigRation.Rcheck’
* using R version 4.5.1 Patched (2025-08-23 r88802)
* using platform: x86_64-pc-linux-gnu
* R was compiled by
    gcc (Ubuntu 13.3.0-6ubuntu2~24.04) 13.3.0
    GNU Fortran (Ubuntu 13.3.0-6ubuntu2~24.04) 13.3.0
* running under: Ubuntu 24.04.3 LTS
* using session charset: UTF-8
* checking for file ‘cellmigRation/DESCRIPTION’ ... OK
* checking extension type ... Package
* this is package ‘cellmigRation’ version ‘1.18.0’
* package encoding: UTF-8
* checking package namespace information ... OK
* checking package dependencies ... OK
* checking if this is a source package ... OK
* checking if there is a namespace ... OK
* checking for hidden files and directories ... OK
* checking for portable file names ... OK
* checking for sufficient/correct file permissions ... OK
* checking whether package ‘cellmigRation’ can be installed ... OK
* checking installed package size ... OK
* checking package directory ... OK
* checking ‘build’ directory ... OK
* checking DESCRIPTION meta-information ... OK
* checking top-level files ... OK
* checking for left-over files ... OK
* checking index information ... OK
* checking package subdirectories ... OK
* checking code files for non-ASCII characters ... OK
* checking R files for syntax errors ... OK
* checking whether the package can be loaded ... OK
* checking whether the package can be loaded with stated dependencies ... OK
* checking whether the package can be unloaded cleanly ... OK
* checking whether the namespace can be loaded with stated dependencies ... OK
* checking whether the namespace can be unloaded cleanly ... OK
* checking loading without being on the library search path ... OK
* checking dependencies in R code ... OK
* checking S3 generic/method consistency ... OK
* checking replacement functions ... OK
* checking foreign function calls ... OK
* checking R code for possible problems ... OK
* checking Rd files ... OK
* checking Rd metadata ... OK
* checking Rd cross-references ... OK
* checking for missing documentation entries ... OK
* checking for code/documentation mismatches ... OK
* checking Rd \usage sections ... NOTE
Documented arguments not in \usage in Rd file 'fixDA.Rd':
  ‘object’

Documented arguments not in \usage in Rd file 'fixFM1.Rd':
  ‘object’

Documented arguments not in \usage in Rd file 'fixFM2.Rd':
  ‘object’

Documented arguments not in \usage in Rd file 'fixFM3.Rd':
  ‘object’

Documented arguments not in \usage in Rd file 'fixFM4.Rd':
  ‘object’

Documented arguments not in \usage in Rd file 'fixFM5.Rd':
  ‘object’

Documented arguments not in \usage in Rd file 'fixFM6.Rd':
  ‘object’

Documented arguments not in \usage in Rd file 'fixID2.Rd':
  ‘TimeInterval’

Documented arguments not in \usage in Rd file 'fixID3.Rd':
  ‘TimeInterval’

Documented arguments not in \usage in Rd file 'fixID4.Rd':
  ‘TimeInterval’

Documented arguments not in \usage in Rd file 'fixMSD.Rd':
  ‘object’

Documented arguments not in \usage in Rd file 'fixPER1.Rd':
  ‘x’

Documented arguments not in \usage in Rd file 'fixPER2.Rd':
  ‘x’

Documented arguments not in \usage in Rd file 'innerBondRaster.Rd':
  ‘i’

Functions with \usage entries need to have the appropriate \alias
entries, and all their arguments documented.
The \usage entries must correspond to syntactically valid R code.
See chapter ‘Writing R documentation files’ in the ‘Writing R
Extensions’ manual.
* checking Rd contents ... OK
* checking for unstated dependencies in examples ... OK
* checking contents of ‘data’ directory ... OK
* checking data for non-ASCII characters ... OK
* checking data for ASCII and uncompressed saves ... OK
* checking files in ‘vignettes’ ... OK
* checking examples ... OK
* checking for unstated dependencies in ‘tests’ ... OK
* checking tests ...
  Running ‘runTests.R’
 OK
* checking for unstated dependencies in vignettes ... OK
* checking package vignettes ... OK
* checking re-building of vignette outputs ... OK
* checking PDF version of manual ... OK
* DONE

Status: 1 NOTE
See
  ‘/home/biocbuild/bbs-3.22-bioc/meat/cellmigRation.Rcheck/00check.log’
for details.


Installation output

cellmigRation.Rcheck/00install.out

##############################################################################
##############################################################################
###
### Running command:
###
###   /home/biocbuild/bbs-3.22-bioc/R/bin/R CMD INSTALL cellmigRation
###
##############################################################################
##############################################################################


* installing to library ‘/home/biocbuild/bbs-3.22-bioc/R/site-library’
* installing *source* package ‘cellmigRation’ ...
** this is package ‘cellmigRation’ version ‘1.18.0’
** using staged installation
** R
** data
** inst
** byte-compile and prepare package for lazy loading
** help
*** installing help indices
** building package indices
** installing vignettes
** testing if installed package can be loaded from temporary location
** testing if installed package can be loaded from final location
** testing if installed package keeps a record of temporary installation path
* DONE (cellmigRation)

Tests output

cellmigRation.Rcheck/tests/runTests.Rout


R version 4.5.1 Patched (2025-08-23 r88802) -- "Great Square Root"
Copyright (C) 2025 The R Foundation for Statistical Computing
Platform: x86_64-pc-linux-gnu

R is free software and comes with ABSOLUTELY NO WARRANTY.
You are welcome to redistribute it under certain conditions.
Type 'license()' or 'licence()' for distribution details.

R is a collaborative project with many contributors.
Type 'contributors()' for more information and
'citation()' on how to cite R or R packages in publications.

Type 'demo()' for some demos, 'help()' for on-line help, or
'help.start()' for an HTML browser interface to help.
Type 'q()' to quit R.

> BiocGenerics:::testPackage("cellmigRation")


RUNIT TEST PROTOCOL -- Thu Oct 30 21:54:08 2025 
*********************************************** 
Number of test functions: 7 
Number of errors: 0 
Number of failures: 0 

 
1 Test Suite : 
cellmigRation RUnit Tests - 7 test functions, 0 errors, 0 failures
Number of test functions: 7 
Number of errors: 0 
Number of failures: 0 
> 
> proc.time()
   user  system elapsed 
  3.043   0.262   3.292 

Example timings

cellmigRation.Rcheck/cellmigRation-Ex.timings

nameusersystemelapsed
AddDimension0.0010.0000.001
CellMig-class0.0260.0010.027
CellMigPCA1.4860.0071.494
CellMigPCAclust0.0080.0000.008
CellMigPCAclustALL0.6410.0010.644
CellTracker0.0170.0010.019
CellTrackerMainLoop0.0020.0050.006
CentroidArray0.0190.0090.029
CentroidValidation0.4980.0460.545
ComputeTracksStats0.0240.0030.028
DetectRadii0.0020.0000.002
DiAutoCor1.4100.0481.459
DiRatio0.0170.0000.017
DiRatioPlot0.0280.0060.035
EstimateDiameterRange0.0120.0010.013
FMI0.4560.0000.456
FianlizeOptiParams0.0000.0000.001
FilterTrackedCells0.0020.0000.002
FinRes0.8890.0290.919
ForwardMigration0.8830.0880.971
GenAllCombos0.0020.0000.003
LinearConv20.0190.0000.019
LoadTiff0.0010.0000.001
MSD1.4060.0371.445
MakeHypercube0.0010.0000.001
MigrationStats0.0000.0000.001
NextOdd000
NonParallel4OptimizeParams0.0010.0000.000
NonParallelTrackLoop0.0010.0000.000
OptimizeParams0.0120.0060.018
OptimizeParamsMainLoop0.0000.0080.006
Parallel4OptimizeParams0.0000.0000.001
ParallelTrackLoop0.0000.0000.001
PerAndSpeed0.2680.0050.276
PlotTracksSeparately0.0090.0000.010
PostProcessTracking000
Prep4OptimizeParams0.0860.0060.092
ThreeConditions0.0100.0040.015
TrackCellsDataset0.0150.0020.017
TrajectoryDataset0.0190.0020.022
ValidateTrackingArgs000
VeAutoCor1.0260.0321.058
VisualizeCntr0.0020.0000.002
VisualizeImg0.0050.0000.006
VisualizeStackCentroids0.0530.0050.058
WSADataset0.0070.0000.006
aggregateFR0.6050.0080.613
aggregateTrackedCells0.0200.0030.023
bpass0.0610.0060.066
circshift0.0010.0000.001
cntrd0.7180.0200.738
fixDA000
fixExpName0.0010.0000.001
fixFM1000
fixFM2000
fixFM3000
fixFM40.0000.0000.001
fixFM5000
fixFM6000
fixID1000
fixMSD000
fixPER10.0010.0000.000
fixPER2000
fixPER30.0010.0000.001
getAvailableAggrMetrics0.8510.0020.853
getCellImages0.1500.1050.255
getCellMigSlot0.2110.0740.285
getCellTrackMeta0.0120.0050.017
getCellTrackStats0.0150.0050.020
getCellTracks0.0120.0050.018
getCellsMeta0.0170.0070.024
getCellsStats0.0170.0030.021
getDACtable1.8420.0601.903
getDiRatio0.0200.0000.019
getFMItable0.4290.0050.434
getForMigtable0.5250.0020.527
getImageCentroids0.0160.0050.022
getImageStacks0.0570.0000.057
getMSDtable3.3870.0433.431
getOptimizedParameters0.0170.0000.016
getOptimizedParams0.0180.0000.018
getPerAndSpeed0.2630.0180.282
getPopulationStats0.0160.0030.019
getProcessedImages0.1320.1070.239
getProcessingStatus0.0140.0030.017
getResults0.6080.0200.628
getTracks0.0140.0040.018
getVACtable1.0010.0061.007
initializeTrackParams0.0000.0000.001
innerBondRaster0.0010.0000.001
internalPermutation0.0010.0000.000
matfix0.0010.0000.001
nontrivialBondTracking0.0000.0010.001
pkfnd0.6800.0060.687
plot3DAllTracks0.0760.0200.096
plot3DTracks0.0070.0010.008
plotAllTracks0.0180.0010.018
plotSampleTracks0.0140.0000.015
preProcCellMig0.0070.0010.008
rmPreProcessing0.0830.0000.084
runTrackingPermutation0.0010.0000.001
setAnalyticParams0.0120.0040.017
setCellMigSlot0.0210.0010.023
setCellTracks0.0130.0030.017
setCellsMeta0.0150.0020.017
setExpName0.0200.0030.022
setOptimizedParams0.0130.0030.017
setProcessedImages0.0150.0020.017
setProcessingStatus0.0150.0020.016
setTrackedCellsMeta0.0270.0010.028
setTrackedCentroids0.0150.0020.016
setTrackedPositions0.0160.0000.017
setTrackingStats0.0150.0020.017
sinkAway0.0010.0000.001
subNetworkTracking0.0010.0000.001
track0.0080.0000.009
trackHypercubeBuild0.0010.0000.001
trackSlideProcessing0.0000.0000.001
trackSlideWrapUp0.0000.0010.001
trivialBondRaster0.0000.0010.001
trivialBondTracking000
visualizeCellTracks0.0560.0030.058
visualizeTrcks0.0240.0010.025
warnMessage0.0010.0000.000
wsaPreProcessing0.0490.0010.051