| Back to Multiple platform build/check report for BioC 3.21: simplified long |
|
This page was generated on 2025-10-16 11:41 -0400 (Thu, 16 Oct 2025).
| Hostname | OS | Arch (*) | R version | Installed pkgs |
|---|---|---|---|---|
| nebbiolo1 | Linux (Ubuntu 24.04.3 LTS) | x86_64 | 4.5.1 (2025-06-13) -- "Great Square Root" | 4833 |
| merida1 | macOS 12.7.6 Monterey | x86_64 | 4.5.1 RC (2025-06-05 r88288) -- "Great Square Root" | 4614 |
| kjohnson1 | macOS 13.7.5 Ventura | arm64 | 4.5.1 Patched (2025-06-14 r88325) -- "Great Square Root" | 4555 |
| kunpeng2 | Linux (openEuler 24.03 LTS) | aarch64 | R Under development (unstable) (2025-02-19 r87757) -- "Unsuffered Consequences" | 4586 |
| Click on any hostname to see more info about the system (e.g. compilers) (*) as reported by 'uname -p', except on Windows and Mac OS X | ||||
| Package 306/2341 | Hostname | OS / Arch | INSTALL | BUILD | CHECK | BUILD BIN | ||||||||
| cellmigRation 1.16.0 (landing page) Waldir Leoncio
| nebbiolo1 | Linux (Ubuntu 24.04.3 LTS) / x86_64 | OK | OK | OK | |||||||||
| merida1 | macOS 12.7.6 Monterey / x86_64 | OK | OK | OK | OK | |||||||||
| kjohnson1 | macOS 13.7.5 Ventura / arm64 | OK | OK | OK | OK | |||||||||
| kunpeng2 | Linux (openEuler 24.03 LTS) / aarch64 | OK | OK | OK | ||||||||||
|
To the developers/maintainers of the cellmigRation package: - Allow up to 24 hours (and sometimes 48 hours) for your latest push to git@git.bioconductor.org:packages/cellmigRation.git to reflect on this report. See Troubleshooting Build Report for more information. - Use the following Renviron settings to reproduce errors and warnings. - If 'R CMD check' started to fail recently on the Linux builder(s) over a missing dependency, add the missing dependency to 'Suggests:' in your DESCRIPTION file. See Renviron.bioc for more information. - See Martin Grigorov's blog post for how to debug Linux ARM64 related issues on a x86_64 host. |
| Package: cellmigRation |
| Version: 1.16.0 |
| Command: /home/biocbuild/R/R/bin/R CMD check --install=check:cellmigRation.install-out.txt --library=/home/biocbuild/R/R/site-library --no-vignettes --timings cellmigRation_1.16.0.tar.gz |
| StartedAt: 2025-10-14 07:18:37 -0000 (Tue, 14 Oct 2025) |
| EndedAt: 2025-10-14 07:21:22 -0000 (Tue, 14 Oct 2025) |
| EllapsedTime: 164.1 seconds |
| RetCode: 0 |
| Status: OK |
| CheckDir: cellmigRation.Rcheck |
| Warnings: 0 |
##############################################################################
##############################################################################
###
### Running command:
###
### /home/biocbuild/R/R/bin/R CMD check --install=check:cellmigRation.install-out.txt --library=/home/biocbuild/R/R/site-library --no-vignettes --timings cellmigRation_1.16.0.tar.gz
###
##############################################################################
##############################################################################
* using log directory ‘/home/biocbuild/bbs-3.21-bioc/meat/cellmigRation.Rcheck’
* using R Under development (unstable) (2025-02-19 r87757)
* using platform: aarch64-unknown-linux-gnu
* R was compiled by
aarch64-unknown-linux-gnu-gcc (GCC) 14.2.0
GNU Fortran (GCC) 14.2.0
* running under: openEuler 24.03 (LTS-SP1)
* using session charset: UTF-8
* using option ‘--no-vignettes’
* checking for file ‘cellmigRation/DESCRIPTION’ ... OK
* checking extension type ... Package
* this is package ‘cellmigRation’ version ‘1.16.0’
* package encoding: UTF-8
* checking package namespace information ... OK
* checking package dependencies ... OK
* checking if this is a source package ... OK
* checking if there is a namespace ... OK
* checking for hidden files and directories ... OK
* checking for portable file names ... OK
* checking for sufficient/correct file permissions ... OK
* checking whether package ‘cellmigRation’ can be installed ... OK
* checking installed package size ... OK
* checking package directory ... OK
* checking ‘build’ directory ... OK
* checking DESCRIPTION meta-information ... OK
* checking top-level files ... OK
* checking for left-over files ... OK
* checking index information ... OK
* checking package subdirectories ... OK
* checking code files for non-ASCII characters ... OK
* checking R files for syntax errors ... OK
* checking whether the package can be loaded ... OK
* checking whether the package can be loaded with stated dependencies ... OK
* checking whether the package can be unloaded cleanly ... OK
* checking whether the namespace can be loaded with stated dependencies ... OK
* checking whether the namespace can be unloaded cleanly ... OK
* checking loading without being on the library search path ... OK
* checking dependencies in R code ... OK
* checking S3 generic/method consistency ... OK
* checking replacement functions ... OK
* checking foreign function calls ... OK
* checking R code for possible problems ... OK
* checking Rd files ... OK
* checking Rd metadata ... OK
* checking Rd cross-references ... OK
* checking for missing documentation entries ... OK
* checking for code/documentation mismatches ... OK
* checking Rd \usage sections ... NOTE
Documented arguments not in \usage in Rd file 'fixDA.Rd':
‘object’
Documented arguments not in \usage in Rd file 'fixFM1.Rd':
‘object’
Documented arguments not in \usage in Rd file 'fixFM2.Rd':
‘object’
Documented arguments not in \usage in Rd file 'fixFM3.Rd':
‘object’
Documented arguments not in \usage in Rd file 'fixFM4.Rd':
‘object’
Documented arguments not in \usage in Rd file 'fixFM5.Rd':
‘object’
Documented arguments not in \usage in Rd file 'fixFM6.Rd':
‘object’
Documented arguments not in \usage in Rd file 'fixID2.Rd':
‘TimeInterval’
Documented arguments not in \usage in Rd file 'fixID3.Rd':
‘TimeInterval’
Documented arguments not in \usage in Rd file 'fixID4.Rd':
‘TimeInterval’
Documented arguments not in \usage in Rd file 'fixMSD.Rd':
‘object’
Documented arguments not in \usage in Rd file 'fixPER1.Rd':
‘x’
Documented arguments not in \usage in Rd file 'fixPER2.Rd':
‘x’
Documented arguments not in \usage in Rd file 'innerBondRaster.Rd':
‘i’
Functions with \usage entries need to have the appropriate \alias
entries, and all their arguments documented.
The \usage entries must correspond to syntactically valid R code.
See chapter ‘Writing R documentation files’ in the ‘Writing R
Extensions’ manual.
* checking Rd contents ... OK
* checking for unstated dependencies in examples ... OK
* checking contents of ‘data’ directory ... OK
* checking data for non-ASCII characters ... OK
* checking data for ASCII and uncompressed saves ... OK
* checking files in ‘vignettes’ ... OK
* checking examples ... OK
Examples with CPU (user + system) or elapsed time > 5s
user system elapsed
getMSDtable 5.811 0.112 5.937
* checking for unstated dependencies in ‘tests’ ... OK
* checking tests ...
Running ‘runTests.R’
OK
* checking for unstated dependencies in vignettes ... OK
* checking package vignettes ... OK
* checking running R code from vignettes ... SKIPPED
* checking re-building of vignette outputs ... SKIPPED
* checking PDF version of manual ... OK
* DONE
Status: 1 NOTE
See
‘/home/biocbuild/bbs-3.21-bioc/meat/cellmigRation.Rcheck/00check.log’
for details.
cellmigRation.Rcheck/00install.out
############################################################################## ############################################################################## ### ### Running command: ### ### /home/biocbuild/R/R/bin/R CMD INSTALL cellmigRation ### ############################################################################## ############################################################################## * installing to library ‘/home/biocbuild/R/R-devel_2025-02-19/site-library’ * installing *source* package ‘cellmigRation’ ... ** this is package ‘cellmigRation’ version ‘1.16.0’ ** using staged installation ** R ** data ** inst ** byte-compile and prepare package for lazy loading ** help *** installing help indices ** building package indices ** installing vignettes ** testing if installed package can be loaded from temporary location ** testing if installed package can be loaded from final location ** testing if installed package keeps a record of temporary installation path * DONE (cellmigRation)
cellmigRation.Rcheck/tests/runTests.Rout
R Under development (unstable) (2025-02-19 r87757) -- "Unsuffered Consequences"
Copyright (C) 2025 The R Foundation for Statistical Computing
Platform: aarch64-unknown-linux-gnu
R is free software and comes with ABSOLUTELY NO WARRANTY.
You are welcome to redistribute it under certain conditions.
Type 'license()' or 'licence()' for distribution details.
R is a collaborative project with many contributors.
Type 'contributors()' for more information and
'citation()' on how to cite R or R packages in publications.
Type 'demo()' for some demos, 'help()' for on-line help, or
'help.start()' for an HTML browser interface to help.
Type 'q()' to quit R.
> BiocGenerics:::testPackage("cellmigRation")
RUNIT TEST PROTOCOL -- Tue Oct 14 07:21:14 2025
***********************************************
Number of test functions: 7
Number of errors: 0
Number of failures: 0
1 Test Suite :
cellmigRation RUnit Tests - 7 test functions, 0 errors, 0 failures
Number of test functions: 7
Number of errors: 0
Number of failures: 0
>
> proc.time()
user system elapsed
4.285 0.257 4.543
cellmigRation.Rcheck/cellmigRation-Ex.timings
| name | user | system | elapsed | |
| AddDimension | 0.001 | 0.000 | 0.002 | |
| CellMig-class | 0.025 | 0.000 | 0.025 | |
| CellMigPCA | 2.675 | 0.052 | 2.736 | |
| CellMigPCAclust | 0.003 | 0.003 | 0.007 | |
| CellMigPCAclustALL | 1.027 | 0.024 | 1.054 | |
| CellTracker | 0.012 | 0.004 | 0.017 | |
| CellTrackerMainLoop | 0.005 | 0.001 | 0.006 | |
| CentroidArray | 0.013 | 0.004 | 0.018 | |
| CentroidValidation | 0.722 | 0.020 | 0.744 | |
| ComputeTracksStats | 0.023 | 0.004 | 0.027 | |
| DetectRadii | 0.000 | 0.003 | 0.003 | |
| DiAutoCor | 2.108 | 0.012 | 2.125 | |
| DiRatio | 0.020 | 0.000 | 0.021 | |
| DiRatioPlot | 0.040 | 0.000 | 0.045 | |
| EstimateDiameterRange | 0.018 | 0.000 | 0.018 | |
| FMI | 0.748 | 0.032 | 0.781 | |
| FianlizeOptiParams | 0.001 | 0.000 | 0.001 | |
| FilterTrackedCells | 0.003 | 0.000 | 0.004 | |
| FinRes | 0.989 | 0.004 | 0.995 | |
| ForwardMigration | 1.477 | 0.020 | 1.500 | |
| GenAllCombos | 0.004 | 0.000 | 0.004 | |
| LinearConv2 | 0.030 | 0.000 | 0.029 | |
| LoadTiff | 0.001 | 0.000 | 0.001 | |
| MSD | 2.234 | 0.015 | 2.258 | |
| MakeHypercube | 0.001 | 0.001 | 0.001 | |
| MigrationStats | 0.001 | 0.000 | 0.001 | |
| NextOdd | 0.001 | 0.000 | 0.000 | |
| NonParallel4OptimizeParams | 0.001 | 0.000 | 0.001 | |
| NonParallelTrackLoop | 0.000 | 0.000 | 0.001 | |
| OptimizeParams | 0.013 | 0.000 | 0.013 | |
| OptimizeParamsMainLoop | 0.004 | 0.004 | 0.005 | |
| Parallel4OptimizeParams | 0.001 | 0.007 | 0.009 | |
| ParallelTrackLoop | 0.001 | 0.002 | 0.002 | |
| PerAndSpeed | 0.445 | 0.109 | 0.559 | |
| PlotTracksSeparately | 0.011 | 0.000 | 0.010 | |
| PostProcessTracking | 0.001 | 0.000 | 0.001 | |
| Prep4OptimizeParams | 0.129 | 0.076 | 0.205 | |
| ThreeConditions | 0.008 | 0.008 | 0.017 | |
| TrackCellsDataset | 0.013 | 0.004 | 0.017 | |
| TrajectoryDataset | 0.018 | 0.000 | 0.019 | |
| ValidateTrackingArgs | 0.001 | 0.000 | 0.001 | |
| VeAutoCor | 1.762 | 0.279 | 2.046 | |
| VisualizeCntr | 0.003 | 0.000 | 0.002 | |
| VisualizeImg | 0.008 | 0.000 | 0.007 | |
| VisualizeStackCentroids | 0.058 | 0.000 | 0.058 | |
| WSADataset | 0.006 | 0.000 | 0.006 | |
| aggregateFR | 1.029 | 0.032 | 1.063 | |
| aggregateTrackedCells | 0.016 | 0.004 | 0.020 | |
| bpass | 0.077 | 0.011 | 0.089 | |
| circshift | 0.001 | 0.000 | 0.000 | |
| cntrd | 1.120 | 0.068 | 1.191 | |
| fixDA | 0 | 0 | 0 | |
| fixExpName | 0 | 0 | 0 | |
| fixFM1 | 0 | 0 | 0 | |
| fixFM2 | 0.000 | 0.000 | 0.001 | |
| fixFM3 | 0.001 | 0.000 | 0.000 | |
| fixFM4 | 0 | 0 | 0 | |
| fixFM5 | 0.000 | 0.000 | 0.001 | |
| fixFM6 | 0.001 | 0.000 | 0.001 | |
| fixID1 | 0.001 | 0.000 | 0.000 | |
| fixMSD | 0 | 0 | 0 | |
| fixPER1 | 0 | 0 | 0 | |
| fixPER2 | 0.000 | 0.000 | 0.001 | |
| fixPER3 | 0.001 | 0.000 | 0.001 | |
| getAvailableAggrMetrics | 1.517 | 0.048 | 1.569 | |
| getCellImages | 0.166 | 0.155 | 0.323 | |
| getCellMigSlot | 0.257 | 0.076 | 0.333 | |
| getCellTrackMeta | 0.010 | 0.004 | 0.014 | |
| getCellTrackStats | 0.014 | 0.004 | 0.018 | |
| getCellTracks | 0.014 | 0.000 | 0.014 | |
| getCellsMeta | 0.014 | 0.000 | 0.014 | |
| getCellsStats | 0.017 | 0.000 | 0.017 | |
| getDACtable | 3.171 | 0.036 | 3.215 | |
| getDiRatio | 0.023 | 0.000 | 0.024 | |
| getFMItable | 0.760 | 0.012 | 0.775 | |
| getForMigtable | 0.924 | 0.000 | 0.926 | |
| getImageCentroids | 0.021 | 0.000 | 0.021 | |
| getImageStacks | 0.050 | 0.004 | 0.054 | |
| getMSDtable | 5.811 | 0.112 | 5.937 | |
| getOptimizedParameters | 0.010 | 0.004 | 0.014 | |
| getOptimizedParams | 0.015 | 0.000 | 0.015 | |
| getPerAndSpeed | 0.400 | 0.008 | 0.409 | |
| getPopulationStats | 0.015 | 0.000 | 0.015 | |
| getProcessedImages | 0.156 | 0.143 | 0.300 | |
| getProcessingStatus | 0.014 | 0.000 | 0.013 | |
| getResults | 1.027 | 0.012 | 1.041 | |
| getTracks | 0.012 | 0.003 | 0.015 | |
| getVACtable | 1.760 | 0.028 | 1.792 | |
| initializeTrackParams | 0.000 | 0.000 | 0.001 | |
| innerBondRaster | 0.002 | 0.000 | 0.002 | |
| internalPermutation | 0.001 | 0.000 | 0.001 | |
| matfix | 0.002 | 0.000 | 0.001 | |
| nontrivialBondTracking | 0.002 | 0.000 | 0.001 | |
| pkfnd | 1.136 | 0.000 | 1.138 | |
| plot3DAllTracks | 0.105 | 0.040 | 0.147 | |
| plot3DTracks | 0.009 | 0.000 | 0.009 | |
| plotAllTracks | 0.022 | 0.004 | 0.027 | |
| plotSampleTracks | 0.012 | 0.008 | 0.020 | |
| preProcCellMig | 0.003 | 0.004 | 0.006 | |
| rmPreProcessing | 0.116 | 0.064 | 0.181 | |
| runTrackingPermutation | 0.002 | 0.000 | 0.002 | |
| setAnalyticParams | 0.015 | 0.000 | 0.015 | |
| setCellMigSlot | 0.010 | 0.008 | 0.018 | |
| setCellTracks | 0.014 | 0.000 | 0.014 | |
| setCellsMeta | 0.014 | 0.000 | 0.014 | |
| setExpName | 0.014 | 0.004 | 0.018 | |
| setOptimizedParams | 0.049 | 0.008 | 0.057 | |
| setProcessedImages | 0.013 | 0.000 | 0.014 | |
| setProcessingStatus | 0.013 | 0.000 | 0.014 | |
| setTrackedCellsMeta | 0.013 | 0.000 | 0.013 | |
| setTrackedCentroids | 0.013 | 0.000 | 0.013 | |
| setTrackedPositions | 0.009 | 0.004 | 0.013 | |
| setTrackingStats | 0.013 | 0.000 | 0.013 | |
| sinkAway | 0.000 | 0.000 | 0.001 | |
| subNetworkTracking | 0.002 | 0.000 | 0.001 | |
| track | 0.014 | 0.000 | 0.014 | |
| trackHypercubeBuild | 0.001 | 0.000 | 0.001 | |
| trackSlideProcessing | 0.001 | 0.000 | 0.001 | |
| trackSlideWrapUp | 0.000 | 0.000 | 0.001 | |
| trivialBondRaster | 0.002 | 0.000 | 0.002 | |
| trivialBondTracking | 0.001 | 0.000 | 0.000 | |
| visualizeCellTracks | 0.057 | 0.000 | 0.057 | |
| visualizeTrcks | 0.032 | 0.000 | 0.032 | |
| warnMessage | 0 | 0 | 0 | |
| wsaPreProcessing | 0.077 | 0.004 | 0.081 | |