| Back to Multiple platform build/check report for BioC 3.21: simplified long |
|
This page was generated on 2025-04-22 13:15 -0400 (Tue, 22 Apr 2025).
| Hostname | OS | Arch (*) | R version | Installed pkgs |
|---|---|---|---|---|
| nebbiolo1 | Linux (Ubuntu 24.04.1 LTS) | x86_64 | 4.5.0 RC (2025-04-04 r88126) -- "How About a Twenty-Six" | 4831 |
| palomino7 | Windows Server 2022 Datacenter | x64 | 4.5.0 RC (2025-04-04 r88126 ucrt) -- "How About a Twenty-Six" | 4573 |
| lconway | macOS 12.7.1 Monterey | x86_64 | 4.5.0 RC (2025-04-04 r88126) -- "How About a Twenty-Six" | 4599 |
| kjohnson3 | macOS 13.7.1 Ventura | arm64 | 4.5.0 RC (2025-04-04 r88126) -- "How About a Twenty-Six" | 4553 |
| kunpeng2 | Linux (openEuler 24.03 LTS) | aarch64 | R Under development (unstable) (2025-02-19 r87757) -- "Unsuffered Consequences" | 4570 |
| Click on any hostname to see more info about the system (e.g. compilers) (*) as reported by 'uname -p', except on Windows and Mac OS X | ||||
| Package 241/2341 | Hostname | OS / Arch | INSTALL | BUILD | CHECK | BUILD BIN | ||||||||
| breakpointR 1.26.0 (landing page) David Porubsky
| nebbiolo1 | Linux (Ubuntu 24.04.1 LTS) / x86_64 | OK | OK | OK | |||||||||
| palomino7 | Windows Server 2022 Datacenter / x64 | OK | OK | OK | OK | |||||||||
| lconway | macOS 12.7.1 Monterey / x86_64 | OK | OK | OK | OK | |||||||||
| kjohnson3 | macOS 13.7.1 Ventura / arm64 | OK | OK | OK | OK | |||||||||
| kunpeng2 | Linux (openEuler 24.03 LTS) / aarch64 | OK | OK | OK | ||||||||||
|
To the developers/maintainers of the breakpointR package: - Allow up to 24 hours (and sometimes 48 hours) for your latest push to git@git.bioconductor.org:packages/breakpointR.git to reflect on this report. See Troubleshooting Build Report for more information. - Use the following Renviron settings to reproduce errors and warnings. - If 'R CMD check' started to fail recently on the Linux builder(s) over a missing dependency, add the missing dependency to 'Suggests:' in your DESCRIPTION file. See Renviron.bioc for more information. |
| Package: breakpointR |
| Version: 1.26.0 |
| Command: /Library/Frameworks/R.framework/Resources/bin/R CMD check --install=check:breakpointR.install-out.txt --library=/Library/Frameworks/R.framework/Resources/library --no-vignettes --timings breakpointR_1.26.0.tar.gz |
| StartedAt: 2025-04-21 19:28:21 -0400 (Mon, 21 Apr 2025) |
| EndedAt: 2025-04-21 19:33:01 -0400 (Mon, 21 Apr 2025) |
| EllapsedTime: 279.5 seconds |
| RetCode: 0 |
| Status: OK |
| CheckDir: breakpointR.Rcheck |
| Warnings: 0 |
##############################################################################
##############################################################################
###
### Running command:
###
### /Library/Frameworks/R.framework/Resources/bin/R CMD check --install=check:breakpointR.install-out.txt --library=/Library/Frameworks/R.framework/Resources/library --no-vignettes --timings breakpointR_1.26.0.tar.gz
###
##############################################################################
##############################################################################
* using log directory ‘/Users/biocbuild/bbs-3.21-bioc/meat/breakpointR.Rcheck’
* using R version 4.5.0 RC (2025-04-04 r88126)
* using platform: x86_64-apple-darwin20
* R was compiled by
Apple clang version 14.0.0 (clang-1400.0.29.202)
GNU Fortran (GCC) 14.2.0
* running under: macOS Monterey 12.7.6
* using session charset: UTF-8
* using option ‘--no-vignettes’
* checking for file ‘breakpointR/DESCRIPTION’ ... OK
* checking extension type ... Package
* this is package ‘breakpointR’ version ‘1.26.0’
* checking package namespace information ... OK
* checking package dependencies ... OK
* checking if this is a source package ... OK
* checking if there is a namespace ... OK
* checking for hidden files and directories ... OK
* checking for portable file names ... OK
* checking for sufficient/correct file permissions ... OK
* checking whether package ‘breakpointR’ can be installed ... OK
* checking installed package size ... OK
* checking package directory ... OK
* checking ‘build’ directory ... OK
* checking DESCRIPTION meta-information ... OK
* checking top-level files ... OK
* checking for left-over files ... OK
* checking index information ... OK
* checking package subdirectories ... OK
* checking code files for non-ASCII characters ... OK
* checking R files for syntax errors ... OK
* checking whether the package can be loaded ... OK
* checking whether the package can be loaded with stated dependencies ... OK
* checking whether the package can be unloaded cleanly ... OK
* checking whether the namespace can be loaded with stated dependencies ... OK
* checking whether the namespace can be unloaded cleanly ... OK
* checking dependencies in R code ... OK
* checking S3 generic/method consistency ... OK
* checking replacement functions ... OK
* checking foreign function calls ... OK
* checking R code for possible problems ... OK
* checking Rd files ... OK
* checking Rd metadata ... OK
* checking Rd cross-references ... NOTE
Found the following Rd file(s) with Rd \link{} targets missing package
anchors:
BreakPoint.Rd: GRanges-class
breakSeekr.Rd: GRanges-class
breakpointr2UCSC.Rd: GRanges-class
collapseBins.Rd: GRanges-class
confidenceInterval.Rd: GRanges-class
confidenceInterval.binomial.Rd: GRanges-class
createCompositeFile.Rd: GRanges-class
deltaWCalculator.Rd: GRanges-class
deltaWCalculatorVariousWindows.Rd: GRanges-class
genotyping.Rd: GRanges-class
hotspotter.Rd: GRangesList-class, GRanges-class
insertchr.Rd: GRanges-class
loadFromFiles.Rd: GRanges-class
plotHeatmap.Rd: GRanges-class
ranges2UCSC.Rd: GRanges-class
readBamFileAsGRanges.Rd: GRanges-class
removeDoubleSCEs.Rd: GRanges-class
removeReadPileupSpikes.Rd: GRanges-class
runBreakpointr.Rd: GRanges-class
summarizeBreaks.Rd: GRanges-class
synchronizeReadDir.Rd: GRanges-class
transCoord.Rd: GRanges-class
Please provide package anchors for all Rd \link{} targets not in the
package itself and the base packages.
* checking for missing documentation entries ... OK
* checking for code/documentation mismatches ... OK
* checking Rd \usage sections ... OK
* checking Rd contents ... OK
* checking for unstated dependencies in examples ... OK
* checking sizes of PDF files under ‘inst/doc’ ... OK
* checking files in ‘vignettes’ ... OK
* checking examples ... OK
Examples with CPU (user + system) or elapsed time > 5s
user system elapsed
genotyping 10.918 1.071 12.080
hotspotter 6.159 0.271 6.518
synchronizeReadDir 5.352 0.203 5.597
* checking for unstated dependencies in ‘tests’ ... OK
* checking tests ...
Running ‘testthat.R’
OK
* checking for unstated dependencies in vignettes ... OK
* checking package vignettes ... OK
* checking running R code from vignettes ... SKIPPED
* checking re-building of vignette outputs ... SKIPPED
* checking PDF version of manual ... OK
* DONE
Status: 1 NOTE
See
‘/Users/biocbuild/bbs-3.21-bioc/meat/breakpointR.Rcheck/00check.log’
for details.
breakpointR.Rcheck/00install.out
############################################################################## ############################################################################## ### ### Running command: ### ### /Library/Frameworks/R.framework/Resources/bin/R CMD INSTALL breakpointR ### ############################################################################## ############################################################################## * installing to library ‘/Library/Frameworks/R.framework/Versions/4.5-x86_64/Resources/library’ * installing *source* package ‘breakpointR’ ... ** this is package ‘breakpointR’ version ‘1.26.0’ ** using staged installation ** R ** byte-compile and prepare package for lazy loading ** help *** installing help indices ** building package indices ** installing vignettes ** testing if installed package can be loaded from temporary location ** testing if installed package can be loaded from final location ** testing if installed package keeps a record of temporary installation path * DONE (breakpointR)
breakpointR.Rcheck/tests/testthat.Rout
R version 4.5.0 RC (2025-04-04 r88126) -- "How About a Twenty-Six"
Copyright (C) 2025 The R Foundation for Statistical Computing
Platform: x86_64-apple-darwin20
R is free software and comes with ABSOLUTELY NO WARRANTY.
You are welcome to redistribute it under certain conditions.
Type 'license()' or 'licence()' for distribution details.
R is a collaborative project with many contributors.
Type 'contributors()' for more information and
'citation()' on how to cite R or R packages in publications.
Type 'demo()' for some demos, 'help()' for on-line help, or
'help.start()' for an HTML browser interface to help.
Type 'q()' to quit R.
> library(testthat)
> library(breakpointR)
Loading required package: GenomicRanges
Loading required package: stats4
Loading required package: BiocGenerics
Loading required package: generics
Attaching package: 'generics'
The following objects are masked from 'package:base':
as.difftime, as.factor, as.ordered, intersect, is.element, setdiff,
setequal, union
Attaching package: 'BiocGenerics'
The following objects are masked from 'package:stats':
IQR, mad, sd, var, xtabs
The following objects are masked from 'package:base':
Filter, Find, Map, Position, Reduce, anyDuplicated, aperm, append,
as.data.frame, basename, cbind, colnames, dirname, do.call,
duplicated, eval, evalq, get, grep, grepl, is.unsorted, lapply,
mapply, match, mget, order, paste, pmax, pmax.int, pmin, pmin.int,
rank, rbind, rownames, sapply, saveRDS, table, tapply, unique,
unsplit, which.max, which.min
Loading required package: S4Vectors
Attaching package: 'S4Vectors'
The following object is masked from 'package:utils':
findMatches
The following objects are masked from 'package:base':
I, expand.grid, unname
Loading required package: IRanges
Loading required package: GenomeInfoDb
Loading required package: cowplot
Loading required package: breakpointRdata
>
> test_check("breakpointR")
[ FAIL 0 | WARN 0 | SKIP 0 | PASS 5 ]
>
> proc.time()
user system elapsed
18.859 0.800 19.763
breakpointR.Rcheck/breakpointR-Ex.timings
| name | user | system | elapsed | |
| breakSeekr | 1.282 | 0.076 | 1.368 | |
| breakpointr | 0 | 0 | 0 | |
| breakpointr2UCSC | 0.886 | 0.029 | 0.924 | |
| confidenceInterval | 0.000 | 0.000 | 0.001 | |
| confidenceInterval.binomial | 0 | 0 | 0 | |
| deltaWCalculator | 0.396 | 0.012 | 0.417 | |
| exportRegions | 2.162 | 0.098 | 2.268 | |
| genotype.binom | 0.001 | 0.001 | 0.001 | |
| genotype.fisher | 0.007 | 0.000 | 0.007 | |
| genotyping | 10.918 | 1.071 | 12.080 | |
| hotspotter | 6.159 | 0.271 | 6.518 | |
| loadFromFiles | 1.207 | 0.097 | 1.321 | |
| plotBreakpoints | 2.157 | 0.119 | 2.298 | |
| plotBreakpointsPerChr | 2.524 | 0.125 | 2.669 | |
| plotHeatmap | 2.251 | 0.042 | 2.315 | |
| ranges2UCSC | 0.233 | 0.014 | 0.251 | |
| readBamFileAsGRanges | 0.164 | 0.015 | 0.181 | |
| removeReadPileupSpikes | 1.663 | 0.125 | 1.802 | |
| runBreakpointr | 2.517 | 0.099 | 2.630 | |
| summarizeBreaks | 0.190 | 0.006 | 0.198 | |
| synchronizeReadDir | 5.352 | 0.203 | 5.597 | |