| Back to Multiple platform build/check report for BioC 3.22: simplified long |
|
This page was generated on 2025-11-12 11:58 -0500 (Wed, 12 Nov 2025).
| Hostname | OS | Arch (*) | R version | Installed pkgs |
|---|---|---|---|---|
| nebbiolo2 | Linux (Ubuntu 24.04.3 LTS) | x86_64 | 4.5.1 Patched (2025-08-23 r88802) -- "Great Square Root" | 4902 |
| taishan | Linux (openEuler 24.03 LTS) | aarch64 | 4.5.0 (2025-04-11) -- "How About a Twenty-Six" | 4668 |
| Click on any hostname to see more info about the system (e.g. compilers) (*) as reported by 'uname -p', except on Windows and Mac OS X | ||||
| Package 234/2361 | Hostname | OS / Arch | INSTALL | BUILD | CHECK | BUILD BIN | ||||||||
| blase 1.0.0 (landing page) Andrew McCluskey
| nebbiolo2 | Linux (Ubuntu 24.04.3 LTS) / x86_64 | OK | OK | OK | |||||||||
| taishan | Linux (openEuler 24.03 LTS) / aarch64 | OK | OK | OK | ||||||||||
|
To the developers/maintainers of the blase package: - Allow up to 24 hours (and sometimes 48 hours) for your latest push to git@git.bioconductor.org:packages/blase.git to reflect on this report. See Troubleshooting Build Report for more information. - Use the following Renviron settings to reproduce errors and warnings. - If 'R CMD check' started to fail recently on the Linux builder(s) over a missing dependency, add the missing dependency to 'Suggests:' in your DESCRIPTION file. See Renviron.bioc for more information. - See Martin Grigorov's blog post for how to debug Linux ARM64 related issues on a x86_64 host. |
| Package: blase |
| Version: 1.0.0 |
| Command: /home/biocbuild/R/R/bin/R CMD check --install=check:blase.install-out.txt --library=/home/biocbuild/R/R/site-library --no-vignettes --timings blase_1.0.0.tar.gz |
| StartedAt: 2025-11-11 07:38:33 -0000 (Tue, 11 Nov 2025) |
| EndedAt: 2025-11-11 07:49:14 -0000 (Tue, 11 Nov 2025) |
| EllapsedTime: 640.6 seconds |
| RetCode: 0 |
| Status: OK |
| CheckDir: blase.Rcheck |
| Warnings: 0 |
##############################################################################
##############################################################################
###
### Running command:
###
### /home/biocbuild/R/R/bin/R CMD check --install=check:blase.install-out.txt --library=/home/biocbuild/R/R/site-library --no-vignettes --timings blase_1.0.0.tar.gz
###
##############################################################################
##############################################################################
* using log directory ‘/home/biocbuild/bbs-3.22-bioc/meat/blase.Rcheck’
* using R version 4.5.0 (2025-04-11)
* using platform: aarch64-unknown-linux-gnu
* R was compiled by
aarch64-unknown-linux-gnu-gcc (GCC) 14.2.0
GNU Fortran (GCC) 14.2.0
* running under: openEuler 24.03 (LTS)
* using session charset: UTF-8
* using option ‘--no-vignettes’
* checking for file ‘blase/DESCRIPTION’ ... OK
* this is package ‘blase’ version ‘1.0.0’
* package encoding: UTF-8
* checking package namespace information ... OK
* checking package dependencies ... OK
* checking if this is a source package ... OK
* checking if there is a namespace ... OK
* checking for hidden files and directories ... OK
* checking for portable file names ... OK
* checking for sufficient/correct file permissions ... OK
* checking whether package ‘blase’ can be installed ... OK
* checking installed package size ... INFO
installed size is 5.2Mb
sub-directories of 1Mb or more:
data 4.6Mb
* checking package directory ... OK
* checking ‘build’ directory ... OK
* checking DESCRIPTION meta-information ... OK
* checking top-level files ... OK
* checking for left-over files ... OK
* checking index information ... OK
* checking package subdirectories ... OK
* checking code files for non-ASCII characters ... OK
* checking R files for syntax errors ... OK
* checking whether the package can be loaded ... OK
* checking whether the package can be loaded with stated dependencies ... OK
* checking whether the package can be unloaded cleanly ... OK
* checking whether the namespace can be loaded with stated dependencies ... OK
* checking whether the namespace can be unloaded cleanly ... OK
* checking loading without being on the library search path ... OK
* checking dependencies in R code ... OK
* checking S3 generic/method consistency ... OK
* checking replacement functions ... OK
* checking foreign function calls ... OK
* checking R code for possible problems ... OK
* checking Rd files ... OK
* checking Rd metadata ... OK
* checking Rd cross-references ... NOTE
Non-topic package-anchored link(s) in Rd file 'plot_mapping_result.Rd':
‘[scater:plot_reddim]{scater::plotUMAP()}’
See section 'Cross-references' in the 'Writing R Extensions' manual.
* checking for missing documentation entries ... OK
* checking for code/documentation mismatches ... OK
* checking Rd \usage sections ... OK
* checking Rd contents ... OK
* checking for unstated dependencies in examples ... OK
* checking contents of ‘data’ directory ... OK
* checking data for non-ASCII characters ... OK
* checking data for ASCII and uncompressed saves ... OK
* checking files in ‘vignettes’ ... OK
* checking examples ... OK
Examples with CPU (user + system) or elapsed time > 5s
user system elapsed
plot_gene_peakedness 26.307 0.287 26.681
calculate_gene_peakedness 25.990 0.314 26.384
smooth_gene 24.995 0.232 25.310
gene_peakedness_spread_selection 24.943 0.195 25.217
evaluate_parameters 16.570 0.020 16.644
plot_mapping_result 6.771 0.044 6.853
find_best_params 6.227 0.024 6.273
plot_find_best_params_results 6.115 0.068 6.204
* checking for unstated dependencies in ‘tests’ ... OK
* checking tests ...
Running ‘testthat.R’
OK
* checking for unstated dependencies in vignettes ... OK
* checking package vignettes ... OK
* checking running R code from vignettes ... SKIPPED
* checking re-building of vignette outputs ... SKIPPED
* checking PDF version of manual ... OK
* DONE
Status: 1 NOTE
See
‘/home/biocbuild/bbs-3.22-bioc/meat/blase.Rcheck/00check.log’
for details.
blase.Rcheck/00install.out
############################################################################## ############################################################################## ### ### Running command: ### ### /home/biocbuild/R/R/bin/R CMD INSTALL blase ### ############################################################################## ############################################################################## * installing to library ‘/home/biocbuild/R/R-4.5.0/site-library’ * installing *source* package ‘blase’ ... ** this is package ‘blase’ version ‘1.0.0’ ** using staged installation ** R ** data ** inst ** byte-compile and prepare package for lazy loading ** help *** installing help indices *** copying figures ** building package indices ** installing vignettes ** testing if installed package can be loaded from temporary location ** testing if installed package can be loaded from final location ** testing if installed package keeps a record of temporary installation path * DONE (blase)
blase.Rcheck/tests/testthat.Rout
R version 4.5.0 (2025-04-11) -- "How About a Twenty-Six"
Copyright (C) 2025 The R Foundation for Statistical Computing
Platform: aarch64-unknown-linux-gnu
R is free software and comes with ABSOLUTELY NO WARRANTY.
You are welcome to redistribute it under certain conditions.
Type 'license()' or 'licence()' for distribution details.
R is a collaborative project with many contributors.
Type 'contributors()' for more information and
'citation()' on how to cite R or R packages in publications.
Type 'demo()' for some demos, 'help()' for on-line help, or
'help.start()' for an HTML browser interface to help.
Type 'q()' to quit R.
> # This file is part of the standard setup for testthat.
> # It is recommended that you do not modify it.
> #
> # Where should you do additional test configuration?
> # Learn more about the roles of various files in:
> # * https://r-pkgs.org/testing-design.html#sec-tests-files-overview
> # * https://testthat.r-lib.org/articles/special-files.html
>
> library(testthat)
> library(blase)
>
> test_check("blase")
[ FAIL 0 | WARN 1 | SKIP 0 | PASS 124 ]
[ FAIL 0 | WARN 1 | SKIP 0 | PASS 124 ]
>
> proc.time()
user system elapsed
89.255 2.216 91.764
blase.Rcheck/blase-Ex.timings
| name | user | system | elapsed | |
| BlaseData-class | 1.294 | 0.000 | 1.298 | |
| MappingResult | 3.789 | 0.128 | 3.930 | |
| annotate_sce | 2.248 | 0.024 | 2.279 | |
| as.BlaseData | 0.272 | 0.000 | 0.273 | |
| assign_pseudotime_bins | 3.712 | 0.004 | 3.727 | |
| bins-getter | 0.272 | 0.016 | 0.288 | |
| calculate_gene_peakedness | 25.990 | 0.314 | 26.384 | |
| evaluate_parameters | 16.570 | 0.020 | 16.644 | |
| evaluate_top_n_genes | 4.285 | 0.000 | 4.300 | |
| find_best_params | 6.227 | 0.024 | 6.273 | |
| gene_peakedness_spread_selection | 24.943 | 0.195 | 25.217 | |
| genes-getter | 0.285 | 0.000 | 0.286 | |
| genes-setter | 0.289 | 0.000 | 0.290 | |
| get_bins_as_bulk | 2.039 | 0.000 | 2.045 | |
| get_top_n_genes | 0.001 | 0.000 | 0.001 | |
| map_all_best_bins | 3.373 | 0.020 | 3.403 | |
| map_best_bin | 3.363 | 0.036 | 3.410 | |
| mapping-result-best-bin-getter | 3.327 | 0.001 | 3.339 | |
| mapping-result-best-correlation-getter | 3.462 | 0.002 | 3.476 | |
| mapping-result-bootstrap-iterations-getter | 3.454 | 0.008 | 3.474 | |
| mapping-result-bulk-name-getter | 3.518 | 0.004 | 3.532 | |
| mapping-result-confident-mapping-getter | 3.536 | 0.000 | 3.548 | |
| mapping-result-history-getter | 3.402 | 0.000 | 3.413 | |
| mapping-result-top-2-distance-getter | 3.444 | 0.008 | 3.463 | |
| plot_bin_population | 3.441 | 0.000 | 3.453 | |
| plot_find_best_params_results | 6.115 | 0.068 | 6.204 | |
| plot_gene_peakedness | 26.307 | 0.287 | 26.681 | |
| plot_mapping_result | 6.771 | 0.044 | 6.853 | |
| plot_mapping_result_corr | 3.280 | 0.031 | 3.321 | |
| plot_mapping_result_heatmap | 3.268 | 0.008 | 3.287 | |
| pseudobulk-bins-getter | 0.256 | 0.004 | 0.261 | |
| show-MappingResult-method | 3.309 | 0.004 | 3.324 | |
| show_blase_object | 0.270 | 0.000 | 0.271 | |
| smooth_gene | 24.995 | 0.232 | 25.310 | |