Back to Multiple platform build/check report for BioC 3.22:   simplified   long
A[B]CDEFGHIJKLMNOPQRSTUVWXYZ

This page was generated on 2025-11-14 11:57 -0500 (Fri, 14 Nov 2025).

HostnameOSArch (*)R versionInstalled pkgs
nebbiolo2Linux (Ubuntu 24.04.3 LTS)x86_644.5.1 Patched (2025-08-23 r88802) -- "Great Square Root" 4903
taishanLinux (openEuler 24.03 LTS)aarch644.5.0 (2025-04-11) -- "How About a Twenty-Six" 4668
Click on any hostname to see more info about the system (e.g. compilers)      (*) as reported by 'uname -p', except on Windows and Mac OS X

All results for package biomaRt


To the developers/maintainers of the biomaRt package:
- Allow up to 24 hours (and sometimes 48 hours) for your latest push to git@git.bioconductor.org:packages/biomaRt.git to reflect on this report. See Troubleshooting Build Report for more information.
- Use the following Renviron settings to reproduce errors and warnings.
- If 'R CMD check' started to fail recently on the Linux builder(s) over a missing dependency, add the missing dependency to 'Suggests:' in your DESCRIPTION file. See Renviron.bioc for more information.

raw results

Package 217/2361HostnameOS / ArchINSTALLBUILDCHECKBUILD BIN
biomaRt 2.66.0  (landing page)
Hugo Gruson
Snapshot Date: 2025-11-13 13:45 -0500 (Thu, 13 Nov 2025)
git_url: https://git.bioconductor.org/packages/biomaRt
git_branch: RELEASE_3_22
git_last_commit: 6757ed1
git_last_commit_date: 2025-10-29 09:56:01 -0500 (Wed, 29 Oct 2025)
nebbiolo2Linux (Ubuntu 24.04.3 LTS) / x86_64  OK    OK    OK  UNNEEDED, same version is already published
taishanLinux (openEuler 24.03 LTS) / aarch64  OK    OK    OK  



Results for Bioconductor software packages that depend directly on package biomaRt

QUICK STATSOS / ArchINSTALLBUILDCHECKBUILD BIN
nebbiolo2Linux (Ubuntu 24.04.3 LTS) / x86_64
0180
0774
191054
taishanLinux (openEuler 24.03 LTS) / aarch64
0180
0972
39950
Package 1/81HostnameOS / ArchINSTALLBUILDCHECKBUILD BIN
BadRegionFinder 1.38.0  (landing page)
Sarah Sandmann
git_last_commit: 6395c38
git_last_commit_date: 2025-10-29 10:31:21 -0500
nebbiolo2Linux (Ubuntu 24.04.3 LTS) / x86_64  OK    OK    OK  UNNEEDED, same version is already published
taishanLinux (openEuler 24.03 LTS) / aarch64  OK    OK    OK  
Package 2/81HostnameOS / ArchINSTALLBUILDCHECKBUILD BIN
branchpointer 1.36.0  (landing page)
Beth Signal
git_last_commit: 897a60c
git_last_commit_date: 2025-10-29 10:37:20 -0500
nebbiolo2Linux (Ubuntu 24.04.3 LTS) / x86_64  OK    ERROR  skipped
taishanLinux (openEuler 24.03 LTS) / aarch64  OK    ERROR  skipped
Package 3/81HostnameOS / ArchINSTALLBUILDCHECKBUILD BIN
BUSpaRse 1.24.0  (landing page)
Lambda Moses
git_last_commit: 757e3e4
git_last_commit_date: 2025-10-29 10:53:52 -0500
nebbiolo2Linux (Ubuntu 24.04.3 LTS) / x86_64  OK    OK    OK  UNNEEDED, same version is already published
taishanLinux (openEuler 24.03 LTS) / aarch64  OK    OK    OK  
Package 4/81HostnameOS / ArchINSTALLBUILDCHECKBUILD BIN
ChIPpeakAnno 3.44.0  (landing page)
Jianhong Ou
git_last_commit: 2b855fa
git_last_commit_date: 2025-10-29 10:03:18 -0500
nebbiolo2Linux (Ubuntu 24.04.3 LTS) / x86_64  OK    OK    OK  UNNEEDED, same version is already published
taishanLinux (openEuler 24.03 LTS) / aarch64  OK    OK    OK  
Package 5/81HostnameOS / ArchINSTALLBUILDCHECKBUILD BIN
chromPlot 1.38.0  (landing page)
Karen Y. Orostica
git_last_commit: 25372fc
git_last_commit_date: 2025-10-29 10:30:09 -0500
nebbiolo2Linux (Ubuntu 24.04.3 LTS) / x86_64  OK    OK    OK  UNNEEDED, same version is already published
taishanLinux (openEuler 24.03 LTS) / aarch64  OK    OK    OK  
Package 6/81HostnameOS / ArchINSTALLBUILDCHECKBUILD BIN
CHRONOS 1.38.0  (landing page)
Panos Balomenos
git_last_commit: 6ae799a
git_last_commit_date: 2025-10-29 10:32:09 -0500
nebbiolo2Linux (Ubuntu 24.04.3 LTS) / x86_64  OK    OK    OK  UNNEEDED, same version is already published
taishanLinux (openEuler 24.03 LTS) / aarch64  OK    ERROR  skipped
Package 7/81HostnameOS / ArchINSTALLBUILDCHECKBUILD BIN
CoSIA 1.10.1  (landing page)
Anthony B. Crumley
git_last_commit: 98e19f5
git_last_commit_date: 2025-11-05 11:47:19 -0500
nebbiolo2Linux (Ubuntu 24.04.3 LTS) / x86_64  OK    OK    TIMEOUT  
taishanLinux (openEuler 24.03 LTS) / aarch64  OK    OK    TIMEOUT  
Package 8/81HostnameOS / ArchINSTALLBUILDCHECKBUILD BIN
customProDB 1.50.0  (landing page)
Xiaojing Wang
git_last_commit: e4b2f17
git_last_commit_date: 2025-10-29 10:15:09 -0500
nebbiolo2Linux (Ubuntu 24.04.3 LTS) / x86_64  OK    OK    ERROR  
taishanLinux (openEuler 24.03 LTS) / aarch64  OK    OK    ERROR  
Package 9/81HostnameOS / ArchINSTALLBUILDCHECKBUILD BIN
dagLogo 1.48.0  (landing page)
Jianhong Ou
git_last_commit: a5fc0da
git_last_commit_date: 2025-10-29 10:16:42 -0500
nebbiolo2Linux (Ubuntu 24.04.3 LTS) / x86_64  OK    OK    OK  UNNEEDED, same version is already published
taishanLinux (openEuler 24.03 LTS) / aarch64  OK    OK    OK  
Package 10/81HostnameOS / ArchINSTALLBUILDCHECKBUILD BIN
DEXSeq 1.56.0  (landing page)
Alejandro Reyes
git_last_commit: 0f430e0
git_last_commit_date: 2025-10-29 10:07:54 -0500
nebbiolo2Linux (Ubuntu 24.04.3 LTS) / x86_64  OK    OK    OK  UNNEEDED, same version is already published
taishanLinux (openEuler 24.03 LTS) / aarch64  OK    OK    OK  
Package 11/81HostnameOS / ArchINSTALLBUILDCHECKBUILD BIN
DMRcate 3.6.0  (landing page)
Tim Peters
git_last_commit: d522a97
git_last_commit_date: 2025-10-29 10:18:14 -0500
nebbiolo2Linux (Ubuntu 24.04.3 LTS) / x86_64  OK    OK    OK  UNNEEDED, same version is already published
taishanLinux (openEuler 24.03 LTS) / aarch64  OK    OK    ERROR  
Package 12/81HostnameOS / ArchINSTALLBUILDCHECKBUILD BIN
DominoEffect 1.30.0  (landing page)
Marija Buljan , Peter Blattmann
git_last_commit: 6694070
git_last_commit_date: 2025-10-29 10:43:24 -0500
nebbiolo2Linux (Ubuntu 24.04.3 LTS) / x86_64  OK    OK    OK  UNNEEDED, same version is already published
taishanLinux (openEuler 24.03 LTS) / aarch64  OK    OK    OK  
Package 13/81HostnameOS / ArchINSTALLBUILDCHECKBUILD BIN
dominoSignal 1.4.0  (landing page)
Jacob T Mitchell
git_last_commit: 37df5de
git_last_commit_date: 2025-10-29 11:31:35 -0500
nebbiolo2Linux (Ubuntu 24.04.3 LTS) / x86_64  OK    OK    OK  UNNEEDED, same version is already published
taishanLinux (openEuler 24.03 LTS) / aarch64  OK    OK    OK  
Package 14/81HostnameOS / ArchINSTALLBUILDCHECKBUILD BIN
drugTargetInteractions 1.18.0  (landing page)
Thomas Girke
git_last_commit: 06ba39c
git_last_commit_date: 2025-10-29 11:07:31 -0500
nebbiolo2Linux (Ubuntu 24.04.3 LTS) / x86_64  OK    OK    OK  UNNEEDED, same version is already published
taishanLinux (openEuler 24.03 LTS) / aarch64  OK    OK    OK  
Package 15/81HostnameOS / ArchINSTALLBUILDCHECKBUILD BIN
DrugVsDisease 2.52.0  (landing page)
j. Saez-Rodriguez
git_last_commit: 661b563
git_last_commit_date: 2025-10-29 10:13:26 -0500
nebbiolo2Linux (Ubuntu 24.04.3 LTS) / x86_64  OK    OK    OK  UNNEEDED, same version is already published
taishanLinux (openEuler 24.03 LTS) / aarch64  OK    OK    OK  
Package 16/81HostnameOS / ArchINSTALLBUILDCHECKBUILD BIN
easyRNASeq 2.46.0  (landing page)
Nicolas Delhomme
git_last_commit: e268573
git_last_commit_date: 2025-10-29 10:10:00 -0500
nebbiolo2Linux (Ubuntu 24.04.3 LTS) / x86_64  OK    OK    WARNINGS  UNNEEDED, same version is already published
taishanLinux (openEuler 24.03 LTS) / aarch64  OK    OK    WARNINGS  
Package 17/81HostnameOS / ArchINSTALLBUILDCHECKBUILD BIN
EDASeq 2.44.0  (landing page)
Davide Risso
git_last_commit: e7a4a13
git_last_commit_date: 2025-10-29 10:08:53 -0500
nebbiolo2Linux (Ubuntu 24.04.3 LTS) / x86_64  OK    OK    OK  UNNEEDED, same version is already published
taishanLinux (openEuler 24.03 LTS) / aarch64  OK    OK    OK  
Package 18/81HostnameOS / ArchINSTALLBUILDCHECKBUILD BIN
ELMER 2.34.0  (landing page)
Tiago Chedraoui Silva
git_last_commit: 908554d
git_last_commit_date: 2025-10-29 10:26:17 -0500
nebbiolo2Linux (Ubuntu 24.04.3 LTS) / x86_64  OK    ERROR  skipped
taishanLinux (openEuler 24.03 LTS) / aarch64  OK    ERROR  skipped
Package 19/81HostnameOS / ArchINSTALLBUILDCHECKBUILD BIN
EpiMix 1.12.0  (landing page)
Yuanning Zheng
git_last_commit: 36341ff
git_last_commit_date: 2025-10-29 11:17:43 -0500
nebbiolo2Linux (Ubuntu 24.04.3 LTS) / x86_64  OK    OK    OK  UNNEEDED, same version is already published
taishanLinux (openEuler 24.03 LTS) / aarch64  OK    OK    OK  
Package 20/81HostnameOS / ArchINSTALLBUILDCHECKBUILD BIN
epimutacions 1.14.0  (landing page)
Dolors Pelegri-Siso
git_last_commit: b56f6f9
git_last_commit_date: 2025-10-29 11:16:20 -0500
nebbiolo2Linux (Ubuntu 24.04.3 LTS) / x86_64  OK    OK    OK  UNNEEDED, same version is already published
taishanLinux (openEuler 24.03 LTS) / aarch64  OK    OK    OK  
Package 21/81HostnameOS / ArchINSTALLBUILDCHECKBUILD BIN
FRASER 2.6.0  (landing page)
Christian Mertes
git_last_commit: b8faec2
git_last_commit_date: 2025-10-29 10:58:54 -0500
nebbiolo2Linux (Ubuntu 24.04.3 LTS) / x86_64  OK    OK    OK  UNNEEDED, same version is already published
taishanLinux (openEuler 24.03 LTS) / aarch64  OK    OK    TIMEOUT  
Package 22/81HostnameOS / ArchINSTALLBUILDCHECKBUILD BIN
GDCRNATools 1.30.0  (landing page)
Ruidong Li
git_last_commit: 5237ba8
git_last_commit_date: 2025-10-29 10:42:54 -0500
nebbiolo2Linux (Ubuntu 24.04.3 LTS) / x86_64  OK    OK    OK  UNNEEDED, same version is already published
taishanLinux (openEuler 24.03 LTS) / aarch64  OK    OK    OK  
Package 23/81HostnameOS / ArchINSTALLBUILDCHECKBUILD BIN
genefu 2.42.0  (landing page)
Benjamin Haibe-Kains
git_last_commit: 8925b07
git_last_commit_date: 2025-10-29 10:07:12 -0500
nebbiolo2Linux (Ubuntu 24.04.3 LTS) / x86_64  OK    OK    WARNINGS  UNNEEDED, same version is already published
taishanLinux (openEuler 24.03 LTS) / aarch64  OK    OK    WARNINGS  
Package 24/81HostnameOS / ArchINSTALLBUILDCHECKBUILD BIN
GenomicOZone 1.24.0  (landing page)
Hua Zhong, Mingzhou Song
git_last_commit: 0fee919
git_last_commit_date: 2025-10-29 10:53:39 -0500
nebbiolo2Linux (Ubuntu 24.04.3 LTS) / x86_64  OK    OK    OK  UNNEEDED, same version is already published
taishanLinux (openEuler 24.03 LTS) / aarch64  OK    OK    OK  
Package 25/81HostnameOS / ArchINSTALLBUILDCHECKBUILD BIN
GenVisR 1.42.0  (landing page)
Zachary Skidmore
git_last_commit: aa50f04
git_last_commit_date: 2025-10-29 10:29:36 -0500
nebbiolo2Linux (Ubuntu 24.04.3 LTS) / x86_64  OK    OK    ERROR  
taishanLinux (openEuler 24.03 LTS) / aarch64  OK    OK    ERROR  
Package 26/81HostnameOS / ArchINSTALLBUILDCHECKBUILD BIN
gINTomics 1.6.0  (landing page)
Angelo Velle
git_last_commit: d433a6d
git_last_commit_date: 2025-10-29 11:30:01 -0500
nebbiolo2Linux (Ubuntu 24.04.3 LTS) / x86_64  OK    OK    OK  NO, package depends on 'OmnipathR' which is not available
taishanLinux (openEuler 24.03 LTS) / aarch64  OK    OK    OK  
Package 27/81HostnameOS / ArchINSTALLBUILDCHECKBUILD BIN
glmSparseNet 1.28.0  (landing page)
André Veríssimo
git_last_commit: b51637e
git_last_commit_date: 2025-10-29 10:47:42 -0500
nebbiolo2Linux (Ubuntu 24.04.3 LTS) / x86_64  OK    OK    OK  UNNEEDED, same version is already published
taishanLinux (openEuler 24.03 LTS) / aarch64  OK    OK    OK  
Package 28/81HostnameOS / ArchINSTALLBUILDCHECKBUILD BIN
GOexpress 1.44.0  (landing page)
Kevin Rue-Albrecht
git_last_commit: a785251
git_last_commit_date: 2025-10-29 10:21:33 -0500
nebbiolo2Linux (Ubuntu 24.04.3 LTS) / x86_64  OK    OK    OK  UNNEEDED, same version is already published
taishanLinux (openEuler 24.03 LTS) / aarch64  OK    OK    OK  
Package 29/81HostnameOS / ArchINSTALLBUILDCHECKBUILD BIN
goSTAG 1.34.0  (landing page)
Brian D. Bennett
git_last_commit: 805c363
git_last_commit_date: 2025-10-29 10:36:31 -0500
nebbiolo2Linux (Ubuntu 24.04.3 LTS) / x86_64  OK    OK    OK  UNNEEDED, same version is already published
taishanLinux (openEuler 24.03 LTS) / aarch64  OK    OK    OK  
Package 30/81HostnameOS / ArchINSTALLBUILDCHECKBUILD BIN
GRaNIE 1.14.0  (landing page)
Christian Arnold
git_last_commit: 7d55acc
git_last_commit_date: 2025-10-29 11:16:56 -0500
nebbiolo2Linux (Ubuntu 24.04.3 LTS) / x86_64  OK    OK    OK  UNNEEDED, same version is already published
taishanLinux (openEuler 24.03 LTS) / aarch64  OK    OK    OK  
Package 31/81HostnameOS / ArchINSTALLBUILDCHECKBUILD BIN
Gviz 1.54.0  (landing page)
Robert Ivanek
git_last_commit: 05ebfa6
git_last_commit_date: 2025-10-29 10:10:17 -0500
nebbiolo2Linux (Ubuntu 24.04.3 LTS) / x86_64  OK    OK    OK  UNNEEDED, same version is already published
taishanLinux (openEuler 24.03 LTS) / aarch64  OK    OK    OK  
Package 32/81HostnameOS / ArchINSTALLBUILDCHECKBUILD BIN
hermes 1.14.0  (landing page)
Daniel Sabanés Bové
git_last_commit: b415d55
git_last_commit_date: 2025-10-29 11:14:07 -0500
nebbiolo2Linux (Ubuntu 24.04.3 LTS) / x86_64  OK    OK    OK  UNNEEDED, same version is already published
taishanLinux (openEuler 24.03 LTS) / aarch64  OK    OK    OK  
Package 33/81HostnameOS / ArchINSTALLBUILDCHECKBUILD BIN
InterCellar 2.16.0  (landing page)
Marta Interlandi
git_last_commit: 7306a93
git_last_commit_date: 2025-10-29 11:07:02 -0500
nebbiolo2Linux (Ubuntu 24.04.3 LTS) / x86_64  OK    OK    OK  UNNEEDED, same version is already published
taishanLinux (openEuler 24.03 LTS) / aarch64  OK    OK    OK  
Package 34/81HostnameOS / ArchINSTALLBUILDCHECKBUILD BIN
isobar 1.56.0  (landing page)
Florian P Breitwieser
git_last_commit: c9c34f7
git_last_commit_date: 2025-10-29 10:09:30 -0500
nebbiolo2Linux (Ubuntu 24.04.3 LTS) / x86_64  OK    OK    WARNINGS  UNNEEDED, same version is already published
taishanLinux (openEuler 24.03 LTS) / aarch64  OK    OK    WARNINGS  
Package 35/81HostnameOS / ArchINSTALLBUILDCHECKBUILD BIN
LACE 2.14.0  (landing page)
Davide Maspero
git_last_commit: 8399e5f
git_last_commit_date: 2025-10-29 10:59:31 -0500
nebbiolo2Linux (Ubuntu 24.04.3 LTS) / x86_64  OK    OK    OK  UNNEEDED, same version is already published
taishanLinux (openEuler 24.03 LTS) / aarch64  OK    OK    OK  
Package 36/81HostnameOS / ArchINSTALLBUILDCHECKBUILD BIN
mCSEA 1.30.0  (landing page)
Jordi Martorell-Marugán
git_last_commit: 3144485
git_last_commit_date: 2025-10-29 10:42:49 -0500
nebbiolo2Linux (Ubuntu 24.04.3 LTS) / x86_64  OK    ERROR  skipped
taishanLinux (openEuler 24.03 LTS) / aarch64  OK    ERROR  skipped
Package 37/81HostnameOS / ArchINSTALLBUILDCHECKBUILD BIN
MEDIPS 1.62.0  (landing page)
Lukas Chavez
git_last_commit: 8748557
git_last_commit_date: 2025-10-29 10:06:09 -0500
nebbiolo2Linux (Ubuntu 24.04.3 LTS) / x86_64  OK    OK    OK  UNNEEDED, same version is already published
taishanLinux (openEuler 24.03 LTS) / aarch64  OK    OK    OK  
Package 38/81HostnameOS / ArchINSTALLBUILDCHECKBUILD BIN
MetaboSignal 1.40.0  (landing page)
Andrea Rodriguez-Martinez
git_last_commit: 4db76ce
git_last_commit_date: 2025-10-29 10:34:11 -0500
nebbiolo2Linux (Ubuntu 24.04.3 LTS) / x86_64  OK    OK    OK  UNNEEDED, same version is already published
taishanLinux (openEuler 24.03 LTS) / aarch64  OK    OK    OK  
Package 39/81HostnameOS / ArchINSTALLBUILDCHECKBUILD BIN
metaseqR2 1.22.0  (landing page)
Panagiotis Moulos
git_last_commit: e5e7809
git_last_commit_date: 2025-10-29 10:59:18 -0500
nebbiolo2Linux (Ubuntu 24.04.3 LTS) / x86_64  OK    OK    OK  UNNEEDED, same version is already published
taishanLinux (openEuler 24.03 LTS) / aarch64  OK    OK    OK  
Package 40/81HostnameOS / ArchINSTALLBUILDCHECKBUILD BIN
MGFR 1.36.0  (landing page)
Khadija El Amrani
git_last_commit: 65ebe6e
git_last_commit_date: 2025-10-29 10:33:04 -0500
nebbiolo2Linux (Ubuntu 24.04.3 LTS) / x86_64  OK    ERROR  skipped
taishanLinux (openEuler 24.03 LTS) / aarch64  OK    ERROR  skipped
Package 41/81HostnameOS / ArchINSTALLBUILDCHECKBUILD BIN
MineICA 1.50.0  (landing page)
Anne Biton
git_last_commit: dc9c2eb
git_last_commit_date: 2025-10-29 10:13:40 -0500
nebbiolo2Linux (Ubuntu 24.04.3 LTS) / x86_64  OK    OK    ERROR  
taishanLinux (openEuler 24.03 LTS) / aarch64  OK    OK    ERROR  
Package 42/81HostnameOS / ArchINSTALLBUILDCHECKBUILD BIN
motifbreakR 2.24.0  (landing page)
Simon Gert Coetzee
git_last_commit: 79ca231
git_last_commit_date: 2025-10-29 10:27:43 -0500
nebbiolo2Linux (Ubuntu 24.04.3 LTS) / x86_64  OK    OK    WARNINGS  UNNEEDED, same version is already published
taishanLinux (openEuler 24.03 LTS) / aarch64  OK    OK    WARNINGS  
Package 43/81HostnameOS / ArchINSTALLBUILDCHECKBUILD BIN
MouseFM 1.20.0  (landing page)
Matthias Munz
git_last_commit: d76d60a
git_last_commit_date: 2025-10-29 11:13:56 -0500
nebbiolo2Linux (Ubuntu 24.04.3 LTS) / x86_64  OK    OK    OK  UNNEEDED, same version is already published
taishanLinux (openEuler 24.03 LTS) / aarch64  OK    OK    OK  
Package 44/81HostnameOS / ArchINSTALLBUILDCHECKBUILD BIN
NetSAM 1.50.0  (landing page)
Zhiao Shi
git_last_commit: 61a9843
git_last_commit_date: 2025-10-29 10:15:12 -0500
nebbiolo2Linux (Ubuntu 24.04.3 LTS) / x86_64  OK    OK    OK  UNNEEDED, same version is already published
taishanLinux (openEuler 24.03 LTS) / aarch64  OK    OK    OK  
Package 45/81HostnameOS / ArchINSTALLBUILDCHECKBUILD BIN
netZooR 1.14.0  (landing page)
Marouen Ben Guebila
git_last_commit: 5f3b18e
git_last_commit_date: 2025-10-29 11:14:04 -0500
nebbiolo2Linux (Ubuntu 24.04.3 LTS) / x86_64  ERROR    ERROR  skipped
taishanLinux (openEuler 24.03 LTS) / aarch64  ERROR    ERROR  skipped
Package 46/81HostnameOS / ArchINSTALLBUILDCHECKBUILD BIN
NoRCE 1.22.0  (landing page)
Gulden Olgun
git_last_commit: 355a24c
git_last_commit_date: 2025-10-29 10:57:38 -0500
nebbiolo2Linux (Ubuntu 24.04.3 LTS) / x86_64  OK    OK    OK  UNNEEDED, same version is already published
taishanLinux (openEuler 24.03 LTS) / aarch64  OK    OK    OK  
Package 47/81HostnameOS / ArchINSTALLBUILDCHECKBUILD BIN
OncoScore 1.38.0  (landing page)
Luca De Sano
git_last_commit: c34bf8c
git_last_commit_date: 2025-10-29 10:30:59 -0500
nebbiolo2Linux (Ubuntu 24.04.3 LTS) / x86_64  OK    OK    OK  UNNEEDED, same version is already published
taishanLinux (openEuler 24.03 LTS) / aarch64  OK    OK    OK  
Package 48/81HostnameOS / ArchINSTALLBUILDCHECKBUILD BIN
oposSOM 2.28.0  (landing page)
Henry Loeffler-Wirth
git_last_commit: c1a99a8
git_last_commit_date: 2025-10-29 10:20:10 -0500
nebbiolo2Linux (Ubuntu 24.04.3 LTS) / x86_64  OK    OK    WARNINGS  UNNEEDED, same version is already published
taishanLinux (openEuler 24.03 LTS) / aarch64  OK    OK    TIMEOUT  
Package 49/81HostnameOS / ArchINSTALLBUILDCHECKBUILD BIN
ORFik 1.30.0  (landing page)
Haakon Tjeldnes
git_last_commit: b860267
git_last_commit_date: 2025-10-29 10:45:22 -0500
nebbiolo2Linux (Ubuntu 24.04.3 LTS) / x86_64  OK    OK    ERROR  
taishanLinux (openEuler 24.03 LTS) / aarch64  OK    OK    ERROR  
Package 50/81HostnameOS / ArchINSTALLBUILDCHECKBUILD BIN
pcaExplorer 3.4.0  (landing page)
Federico Marini
git_last_commit: 5b76435
git_last_commit_date: 2025-10-29 10:31:39 -0500
nebbiolo2Linux (Ubuntu 24.04.3 LTS) / x86_64  OK    OK    OK  UNNEEDED, same version is already published
taishanLinux (openEuler 24.03 LTS) / aarch64  OK    OK    OK  
Package 51/81HostnameOS / ArchINSTALLBUILDCHECKBUILD BIN
phenoTest 1.58.0  (landing page)
Evarist Planet
git_last_commit: 25bf541
git_last_commit_date: 2025-10-29 10:06:30 -0500
nebbiolo2Linux (Ubuntu 24.04.3 LTS) / x86_64  OK    OK    OK  UNNEEDED, same version is already published
taishanLinux (openEuler 24.03 LTS) / aarch64  OK    OK    OK  
Package 52/81HostnameOS / ArchINSTALLBUILDCHECKBUILD BIN
PPInfer 1.36.0  (landing page)
Dongmin Jung
git_last_commit: d01a2dd
git_last_commit_date: 2025-10-29 10:38:26 -0500
nebbiolo2Linux (Ubuntu 24.04.3 LTS) / x86_64  OK    OK    OK  UNNEEDED, same version is already published
taishanLinux (openEuler 24.03 LTS) / aarch64  OK    OK    OK  
Package 53/81HostnameOS / ArchINSTALLBUILDCHECKBUILD BIN
pRoloc 1.50.0  (landing page)
Lisa Breckels
git_last_commit: 264a1bf
git_last_commit_date: 2025-10-29 10:12:55 -0500
nebbiolo2Linux (Ubuntu 24.04.3 LTS) / x86_64  OK    OK    WARNINGS  UNNEEDED, same version is already published
taishanLinux (openEuler 24.03 LTS) / aarch64  OK    OK    WARNINGS  
Package 54/81HostnameOS / ArchINSTALLBUILDCHECKBUILD BIN
ProteoMM 1.28.0  (landing page)
Yuliya V Karpievitch
git_last_commit: e3b80ca
git_last_commit_date: 2025-10-29 10:48:25 -0500
nebbiolo2Linux (Ubuntu 24.04.3 LTS) / x86_64  OK    OK    OK  UNNEEDED, same version is already published
taishanLinux (openEuler 24.03 LTS) / aarch64  OK    OK    OK  
Package 55/81HostnameOS / ArchINSTALLBUILDCHECKBUILD BIN
R453Plus1Toolbox 1.60.0  (landing page)
Hans-Ulrich Klein
git_last_commit: d4c9421
git_last_commit_date: 2025-10-29 10:06:02 -0500
nebbiolo2Linux (Ubuntu 24.04.3 LTS) / x86_64  OK    ERROR  skipped
taishanLinux (openEuler 24.03 LTS) / aarch64  OK    ERROR  skipped
Package 56/81HostnameOS / ArchINSTALLBUILDCHECKBUILD BIN
ramwas 1.34.0  (landing page)
Andrey A Shabalin
git_last_commit: aedf8f9
git_last_commit_date: 2025-10-29 10:36:00 -0500
nebbiolo2Linux (Ubuntu 24.04.3 LTS) / x86_64  OK    OK    OK  UNNEEDED, same version is already published
taishanLinux (openEuler 24.03 LTS) / aarch64  OK    OK    OK  
Package 57/81HostnameOS / ArchINSTALLBUILDCHECKBUILD BIN
recoup 1.38.0  (landing page)
Panagiotis Moulos
git_last_commit: 7728d2d
git_last_commit_date: 2025-10-29 10:31:02 -0500
nebbiolo2Linux (Ubuntu 24.04.3 LTS) / x86_64  OK    OK    OK  UNNEEDED, same version is already published
taishanLinux (openEuler 24.03 LTS) / aarch64  OK    OK    OK  
Package 58/81HostnameOS / ArchINSTALLBUILDCHECKBUILD BIN
ReducedExperiment 1.2.0  (landing page)
Jack Gisby
git_last_commit: 5622222
git_last_commit_date: 2025-10-29 11:33:37 -0500
nebbiolo2Linux (Ubuntu 24.04.3 LTS) / x86_64  OK    OK    OK  UNNEEDED, same version is already published
taishanLinux (openEuler 24.03 LTS) / aarch64  OK    OK    OK  
Package 59/81HostnameOS / ArchINSTALLBUILDCHECKBUILD BIN
RepViz 1.26.0  (landing page)
Thomas Faux, Asta Laiho
git_last_commit: 6e9a723
git_last_commit_date: 2025-10-29 10:51:36 -0500
nebbiolo2Linux (Ubuntu 24.04.3 LTS) / x86_64  OK    ERROR  skipped
taishanLinux (openEuler 24.03 LTS) / aarch64  OK    ERROR  skipped
Package 60/81HostnameOS / ArchINSTALLBUILDCHECKBUILD BIN
rgsepd 1.42.0  (landing page)
Karl Stamm
git_last_commit: c033fd6
git_last_commit_date: 2025-10-29 10:23:22 -0500
nebbiolo2Linux (Ubuntu 24.04.3 LTS) / x86_64  OK    OK    OK  UNNEEDED, same version is already published
taishanLinux (openEuler 24.03 LTS) / aarch64  OK    OK    OK  
Package 61/81HostnameOS / ArchINSTALLBUILDCHECKBUILD BIN
RnaSeqSampleSize 2.20.0  (landing page)
Shilin Zhao Developer
git_last_commit: 6b8556b
git_last_commit_date: 2025-10-29 11:03:19 -0500
nebbiolo2Linux (Ubuntu 24.04.3 LTS) / x86_64  OK    OK    OK  UNNEEDED, same version is already published
taishanLinux (openEuler 24.03 LTS) / aarch64  OK    OK    OK  
Package 62/81HostnameOS / ArchINSTALLBUILDCHECKBUILD BIN
scafari 1.0.0  (landing page)
Sophie Wind
git_last_commit: 31af230
git_last_commit_date: 2025-10-29 11:36:58 -0500
nebbiolo2Linux (Ubuntu 24.04.3 LTS) / x86_64  OK    OK    OK  UNNEEDED, same version is already published
taishanLinux (openEuler 24.03 LTS) / aarch64  OK    OK    OK  
Package 63/81HostnameOS / ArchINSTALLBUILDCHECKBUILD BIN
scPipe 2.10.0  (landing page)
Shian Su
git_last_commit: c021029
git_last_commit_date: 2025-10-29 10:41:31 -0500
nebbiolo2Linux (Ubuntu 24.04.3 LTS) / x86_64  OK    OK    OK  UNNEEDED, same version is already published
taishanLinux (openEuler 24.03 LTS) / aarch64  OK    OK    OK  
Package 64/81HostnameOS / ArchINSTALLBUILDCHECKBUILD BIN
scQTLtools 1.2.0  (landing page)
Xiaofeng Wu
git_last_commit: 1638397
git_last_commit_date: 2025-10-29 11:34:00 -0500
nebbiolo2Linux (Ubuntu 24.04.3 LTS) / x86_64  OK    OK    ERROR  
taishanLinux (openEuler 24.03 LTS) / aarch64  OK    OK    ERROR  
Package 65/81HostnameOS / ArchINSTALLBUILDCHECKBUILD BIN
seq2pathway 1.42.0  (landing page)
Arjun Kinstlick
git_last_commit: b503af3
git_last_commit_date: 2025-10-29 10:23:43 -0500
nebbiolo2Linux (Ubuntu 24.04.3 LTS) / x86_64  OK    OK    ERROR  
taishanLinux (openEuler 24.03 LTS) / aarch64  OK    OK    ERROR  
Package 66/81HostnameOS / ArchINSTALLBUILDCHECKBUILD BIN
SeqGSEA 1.50.0  (landing page)
Xi Wang
git_last_commit: 03ba6a6
git_last_commit_date: 2025-10-29 10:14:28 -0500
nebbiolo2Linux (Ubuntu 24.04.3 LTS) / x86_64  OK    OK    OK  UNNEEDED, same version is already published
taishanLinux (openEuler 24.03 LTS) / aarch64  OK    OK    OK  
Package 67/81HostnameOS / ArchINSTALLBUILDCHECKBUILD BIN
sitadela 1.18.0  (landing page)
Panagiotis Moulos
git_last_commit: 84fdb44
git_last_commit_date: 2025-10-29 11:07:04 -0500
nebbiolo2Linux (Ubuntu 24.04.3 LTS) / x86_64  OK    OK    OK  UNNEEDED, same version is already published
taishanLinux (openEuler 24.03 LTS) / aarch64  OK    OK    OK  
Package 68/81HostnameOS / ArchINSTALLBUILDCHECKBUILD BIN
SPLINTER 1.36.0  (landing page)
Diana Low
git_last_commit: 00c62ac
git_last_commit_date: 2025-10-29 10:34:37 -0500
nebbiolo2Linux (Ubuntu 24.04.3 LTS) / x86_64  OK    OK    OK  UNNEEDED, same version is already published
taishanLinux (openEuler 24.03 LTS) / aarch64  OK    ERROR  skipped
Package 69/81HostnameOS / ArchINSTALLBUILDCHECKBUILD BIN
SPONGE 1.32.0  (landing page)
Markus List
git_last_commit: f1371d0
git_last_commit_date: 2025-10-29 10:40:24 -0500
nebbiolo2Linux (Ubuntu 24.04.3 LTS) / x86_64  OK    OK    WARNINGS  UNNEEDED, same version is already published
taishanLinux (openEuler 24.03 LTS) / aarch64  OK    OK    WARNINGS  
Package 70/81HostnameOS / ArchINSTALLBUILDCHECKBUILD BIN
surfaltr 1.16.0  (landing page)
Pooja Gangras
git_last_commit: b68ffe3
git_last_commit_date: 2025-10-29 11:12:34 -0500
nebbiolo2Linux (Ubuntu 24.04.3 LTS) / x86_64  OK    OK    OK  UNNEEDED, same version is already published
taishanLinux (openEuler 24.03 LTS) / aarch64  OK    OK    OK  
Package 71/81HostnameOS / ArchINSTALLBUILDCHECKBUILD BIN
SurfR 1.6.0  (landing page)
Aurora Maurizio
git_last_commit: 6bb52a0
git_last_commit_date: 2025-10-29 11:27:44 -0500
nebbiolo2Linux (Ubuntu 24.04.3 LTS) / x86_64  OK    OK    OK  UNNEEDED, same version is already published
taishanLinux (openEuler 24.03 LTS) / aarch64  OK    OK    OK  
Package 72/81HostnameOS / ArchINSTALLBUILDCHECKBUILD BIN
SWATH2stats 1.40.0  (landing page)
Peter Blattmann
git_last_commit: 63159bf
git_last_commit_date: 2025-10-29 10:28:13 -0500
nebbiolo2Linux (Ubuntu 24.04.3 LTS) / x86_64  OK    OK    ERROR  
taishanLinux (openEuler 24.03 LTS) / aarch64  OK    OK    OK  
Package 73/81HostnameOS / ArchINSTALLBUILDCHECKBUILD BIN
TCGAbiolinks 2.38.0  (landing page)
Tiago Chedraoui Silva
git_last_commit: 29c7106
git_last_commit_date: 2025-10-29 10:27:16 -0500
nebbiolo2Linux (Ubuntu 24.04.3 LTS) / x86_64  OK    OK    WARNINGS  UNNEEDED, same version is already published
taishanLinux (openEuler 24.03 LTS) / aarch64  OK    OK    WARNINGS  
Package 74/81HostnameOS / ArchINSTALLBUILDCHECKBUILD BIN
TEKRABber 1.14.0  (landing page)
Yao-Chung Chen
git_last_commit: 3191b35
git_last_commit_date: 2025-10-29 11:14:57 -0500
nebbiolo2Linux (Ubuntu 24.04.3 LTS) / x86_64  OK    OK    ERROR  
taishanLinux (openEuler 24.03 LTS) / aarch64  OK    OK    ERROR  
Package 75/81HostnameOS / ArchINSTALLBUILDCHECKBUILD BIN
terapadog 1.2.0  (landing page)
Gionmattia Carancini
git_last_commit: c641090
git_last_commit_date: 2025-10-29 11:34:51 -0500
nebbiolo2Linux (Ubuntu 24.04.3 LTS) / x86_64  OK    OK    OK  UNNEEDED, same version is already published
taishanLinux (openEuler 24.03 LTS) / aarch64  OK    OK    OK  
Package 76/81HostnameOS / ArchINSTALLBUILDCHECKBUILD BIN
TFEA.ChIP 1.30.0  (landing page)
Yosra Berrouayel
git_last_commit: 228e5ca
git_last_commit_date: 2025-10-29 10:42:32 -0500
nebbiolo2Linux (Ubuntu 24.04.3 LTS) / x86_64  OK    OK    OK  UNNEEDED, same version is already published
taishanLinux (openEuler 24.03 LTS) / aarch64  OK    OK    OK  
Package 77/81HostnameOS / ArchINSTALLBUILDCHECKBUILD BIN
transcriptogramer 1.32.0  (landing page)
Diego Morais
git_last_commit: 148c879
git_last_commit_date: 2025-10-29 10:42:09 -0500
nebbiolo2Linux (Ubuntu 24.04.3 LTS) / x86_64  OK    OK    OK  UNNEEDED, same version is already published
taishanLinux (openEuler 24.03 LTS) / aarch64  OK    OK    OK  
Package 78/81HostnameOS / ArchINSTALLBUILDCHECKBUILD BIN
txdbmaker 1.6.0  (landing page)
H. Pagès
git_last_commit: eed71e0
git_last_commit_date: 2025-10-29 13:57:16 -0500
nebbiolo2Linux (Ubuntu 24.04.3 LTS) / x86_64  OK    OK    ERROR  
taishanLinux (openEuler 24.03 LTS) / aarch64  OK    OK    ERROR  
Package 79/81HostnameOS / ArchINSTALLBUILDCHECKBUILD BIN
VegaMC 3.48.0  (landing page)
Sandro Morganella
git_last_commit: 57a07b6
git_last_commit_date: 2025-10-29 10:10:40 -0500
nebbiolo2Linux (Ubuntu 24.04.3 LTS) / x86_64  OK    OK    WARNINGS  UNNEEDED, same version is already published
taishanLinux (openEuler 24.03 LTS) / aarch64  OK    OK    WARNINGS  
Package 80/81HostnameOS / ArchINSTALLBUILDCHECKBUILD BIN
ViSEAGO 1.24.0  (landing page)
Aurelien Brionne
git_last_commit: 9020dee
git_last_commit_date: 2025-10-29 10:53:03 -0500
nebbiolo2Linux (Ubuntu 24.04.3 LTS) / x86_64  OK    OK    WARNINGS  UNNEEDED, same version is already published
taishanLinux (openEuler 24.03 LTS) / aarch64  OK    OK    WARNINGS  
Package 81/81HostnameOS / ArchINSTALLBUILDCHECKBUILD BIN
yarn 1.36.0  (landing page)
Joseph N Paulson
git_last_commit: ade31dd
git_last_commit_date: 2025-10-29 10:35:35 -0500
nebbiolo2Linux (Ubuntu 24.04.3 LTS) / x86_64  OK    OK    OK  UNNEEDED, same version is already published
taishanLinux (openEuler 24.03 LTS) / aarch64  OK    OK    NA