| Back to Multiple platform build/check report for BioC 3.21: simplified long |
|
This page was generated on 2025-09-29 11:41 -0400 (Mon, 29 Sep 2025).
| Hostname | OS | Arch (*) | R version | Installed pkgs |
|---|---|---|---|---|
| nebbiolo1 | Linux (Ubuntu 24.04.3 LTS) | x86_64 | 4.5.1 (2025-06-13) -- "Great Square Root" | 4827 |
| merida1 | macOS 12.7.5 Monterey | x86_64 | 4.5.1 RC (2025-06-05 r88288) -- "Great Square Root" | 4608 |
| kjohnson1 | macOS 13.6.6 Ventura | arm64 | 4.5.1 Patched (2025-06-14 r88325) -- "Great Square Root" | 4549 |
| kunpeng2 | Linux (openEuler 24.03 LTS) | aarch64 | R Under development (unstable) (2025-02-19 r87757) -- "Unsuffered Consequences" | 4580 |
| Click on any hostname to see more info about the system (e.g. compilers) (*) as reported by 'uname -p', except on Windows and Mac OS X | ||||
| Package 208/2341 | Hostname | OS / Arch | INSTALL | BUILD | CHECK | BUILD BIN | ||||||||
| biodbNcbi 1.12.0 (landing page) Pierrick Roger
| nebbiolo1 | Linux (Ubuntu 24.04.3 LTS) / x86_64 | OK | OK | OK | |||||||||
| merida1 | macOS 12.7.5 Monterey / x86_64 | OK | OK | OK | OK | |||||||||
| kjohnson1 | macOS 13.6.6 Ventura / arm64 | OK | OK | OK | OK | |||||||||
| kunpeng2 | Linux (openEuler 24.03 LTS) / aarch64 | OK | OK | OK | ||||||||||
|
To the developers/maintainers of the biodbNcbi package: - Allow up to 24 hours (and sometimes 48 hours) for your latest push to git@git.bioconductor.org:packages/biodbNcbi.git to reflect on this report. See Troubleshooting Build Report for more information. - Use the following Renviron settings to reproduce errors and warnings. - If 'R CMD check' started to fail recently on the Linux builder(s) over a missing dependency, add the missing dependency to 'Suggests:' in your DESCRIPTION file. See Renviron.bioc for more information. - See Martin Grigorov's blog post for how to debug Linux ARM64 related issues on a x86_64 host. |
| Package: biodbNcbi |
| Version: 1.12.0 |
| Command: /home/biocbuild/R/R/bin/R CMD check --install=check:biodbNcbi.install-out.txt --library=/home/biocbuild/R/R/site-library --no-vignettes --timings biodbNcbi_1.12.0.tar.gz |
| StartedAt: 2025-09-26 08:21:37 -0000 (Fri, 26 Sep 2025) |
| EndedAt: 2025-09-26 08:36:02 -0000 (Fri, 26 Sep 2025) |
| EllapsedTime: 864.9 seconds |
| RetCode: 0 |
| Status: OK |
| CheckDir: biodbNcbi.Rcheck |
| Warnings: 0 |
##############################################################################
##############################################################################
###
### Running command:
###
### /home/biocbuild/R/R/bin/R CMD check --install=check:biodbNcbi.install-out.txt --library=/home/biocbuild/R/R/site-library --no-vignettes --timings biodbNcbi_1.12.0.tar.gz
###
##############################################################################
##############################################################################
* using log directory ‘/home/biocbuild/bbs-3.21-bioc/meat/biodbNcbi.Rcheck’
* using R Under development (unstable) (2025-02-19 r87757)
* using platform: aarch64-unknown-linux-gnu
* R was compiled by
aarch64-unknown-linux-gnu-gcc (GCC) 14.2.0
GNU Fortran (GCC) 14.2.0
* running under: openEuler 24.03 (LTS-SP1)
* using session charset: UTF-8
* using option ‘--no-vignettes’
* checking for file ‘biodbNcbi/DESCRIPTION’ ... OK
* this is package ‘biodbNcbi’ version ‘1.12.0’
* package encoding: UTF-8
* checking package namespace information ... OK
* checking package dependencies ... OK
* checking if this is a source package ... OK
* checking if there is a namespace ... OK
* checking for hidden files and directories ... OK
* checking for portable file names ... OK
* checking for sufficient/correct file permissions ... OK
* checking whether package ‘biodbNcbi’ can be installed ... OK
* checking installed package size ... INFO
installed size is 8.2Mb
sub-directories of 1Mb or more:
testref 7.6Mb
* checking package directory ... OK
* checking DESCRIPTION meta-information ... NOTE
Malformed Title field: should not end in a period.
* checking top-level files ... OK
* checking for left-over files ... OK
* checking index information ... OK
* checking package subdirectories ... OK
* checking code files for non-ASCII characters ... OK
* checking R files for syntax errors ... OK
* checking whether the package can be loaded ... OK
* checking whether the package can be loaded with stated dependencies ... OK
* checking whether the package can be unloaded cleanly ... OK
* checking whether the namespace can be loaded with stated dependencies ... OK
* checking whether the namespace can be unloaded cleanly ... OK
* checking loading without being on the library search path ... OK
* checking dependencies in R code ... OK
* checking S3 generic/method consistency ... OK
* checking replacement functions ... OK
* checking foreign function calls ... OK
* checking R code for possible problems ... OK
* checking Rd files ... OK
* checking Rd metadata ... OK
* checking Rd cross-references ... NOTE
Found the following Rd file(s) with Rd \link{} targets missing package
anchors:
NcbiCcdsConn.Rd: BiodbFactory, BiodbConn
NcbiCcdsEntry.Rd: BiodbHtmlEntry
NcbiEntrezConn.Rd: BiodbConn
Please provide package anchors for all Rd \link{} targets not in the
package itself and the base packages.
* checking for missing documentation entries ... OK
* checking for code/documentation mismatches ... OK
* checking Rd \usage sections ... OK
* checking Rd contents ... OK
* checking for unstated dependencies in examples ... OK
* checking files in ‘vignettes’ ... OK
* checking examples ... OK
* checking for unstated dependencies in ‘tests’ ... OK
* checking tests ...
Running ‘testthat.R’
OK
* checking for unstated dependencies in vignettes ... OK
* checking package vignettes ... OK
* checking running R code from vignettes ... SKIPPED
* checking re-building of vignette outputs ... SKIPPED
* checking PDF version of manual ... OK
* DONE
Status: 2 NOTEs
See
‘/home/biocbuild/bbs-3.21-bioc/meat/biodbNcbi.Rcheck/00check.log’
for details.
biodbNcbi.Rcheck/00install.out
############################################################################## ############################################################################## ### ### Running command: ### ### /home/biocbuild/R/R/bin/R CMD INSTALL biodbNcbi ### ############################################################################## ############################################################################## * installing to library ‘/home/biocbuild/R/R-devel_2025-02-19/site-library’ * installing *source* package ‘biodbNcbi’ ... ** this is package ‘biodbNcbi’ version ‘1.12.0’ ** using staged installation ** R ** inst ** byte-compile and prepare package for lazy loading ** help *** installing help indices ** building package indices ** installing vignettes ** testing if installed package can be loaded from temporary location ** testing if installed package can be loaded from final location ** testing if installed package keeps a record of temporary installation path * DONE (biodbNcbi)
biodbNcbi.Rcheck/tests/testthat.Rout
R Under development (unstable) (2025-02-19 r87757) -- "Unsuffered Consequences"
Copyright (C) 2025 The R Foundation for Statistical Computing
Platform: aarch64-unknown-linux-gnu
R is free software and comes with ABSOLUTELY NO WARRANTY.
You are welcome to redistribute it under certain conditions.
Type 'license()' or 'licence()' for distribution details.
R is a collaborative project with many contributors.
Type 'contributors()' for more information and
'citation()' on how to cite R or R packages in publications.
Type 'demo()' for some demos, 'help()' for on-line help, or
'help.start()' for an HTML browser interface to help.
Type 'q()' to quit R.
> # vi: fdm=marker
> # Script needed to run testthat automatically from ‘R CMD check’. See
> # testthat::test_dir documentation.
> library(testthat)
> library(biodbNcbi)
> Sys.setenv(TESTTHAT_REPORTER = "summary")
> Sys.setenv(BIODB_LOG_DST="console")
> test_check("biodbNcbi")
[ FAIL 0 | WARN 1 | SKIP 0 | PASS 431 ]
[ FAIL 0 | WARN 1 | SKIP 0 | PASS 431 ]
>
> proc.time()
user system elapsed
25.030 1.649 51.784
biodbNcbi.Rcheck/biodbNcbi-Ex.timings
| name | user | system | elapsed | |
| NcbiCcdsConn | 0.836 | 0.026 | 0.868 | |
| NcbiCcdsEntry | 0.248 | 0.002 | 0.251 | |
| NcbiEntrezConn | 0.279 | 0.005 | 0.288 | |
| NcbiGeneConn | 0.276 | 0.002 | 0.281 | |
| NcbiGeneEntry | 0.270 | 0.001 | 0.273 | |
| NcbiPubchemCompConn | 0.301 | 0.002 | 0.308 | |
| NcbiPubchemCompEntry | 0.239 | 0.006 | 0.247 | |
| NcbiPubchemConn | 0.254 | 0.000 | 0.255 | |
| NcbiPubchemEntry | 0.258 | 0.001 | 0.260 | |
| NcbiPubchemSubstConn | 0.228 | 0.000 | 0.231 | |
| NcbiPubchemSubstEntry | 0.226 | 0.001 | 0.229 | |