| Back to Multiple platform build/check report for BioC 3.21: simplified long |
|
This page was generated on 2025-08-18 11:41 -0400 (Mon, 18 Aug 2025).
| Hostname | OS | Arch (*) | R version | Installed pkgs |
|---|---|---|---|---|
| nebbiolo1 | Linux (Ubuntu 24.04.3 LTS) | x86_64 | 4.5.1 (2025-06-13) -- "Great Square Root" | 4824 |
| palomino7 | Windows Server 2022 Datacenter | x64 | 4.5.1 (2025-06-13 ucrt) -- "Great Square Root" | 4566 |
| merida1 | macOS 12.7.5 Monterey | x86_64 | 4.5.1 RC (2025-06-05 r88288) -- "Great Square Root" | 4604 |
| kjohnson1 | macOS 13.6.6 Ventura | arm64 | 4.5.1 Patched (2025-06-14 r88325) -- "Great Square Root" | 4545 |
| kunpeng2 | Linux (openEuler 24.03 LTS) | aarch64 | R Under development (unstable) (2025-02-19 r87757) -- "Unsuffered Consequences" | 4579 |
| Click on any hostname to see more info about the system (e.g. compilers) (*) as reported by 'uname -p', except on Windows and Mac OS X | ||||
| Package 207/2341 | Hostname | OS / Arch | INSTALL | BUILD | CHECK | BUILD BIN | ||||||||
| biodbHmdb 1.14.0 (landing page) Pierrick Roger
| nebbiolo1 | Linux (Ubuntu 24.04.3 LTS) / x86_64 | OK | OK | ERROR | |||||||||
| palomino7 | Windows Server 2022 Datacenter / x64 | OK | OK | WARNINGS | OK | |||||||||
| merida1 | macOS 12.7.5 Monterey / x86_64 | OK | OK | WARNINGS | OK | |||||||||
| kjohnson1 | macOS 13.6.6 Ventura / arm64 | OK | OK | WARNINGS | OK | |||||||||
| kunpeng2 | Linux (openEuler 24.03 LTS) / aarch64 | OK | OK | WARNINGS | ||||||||||
|
To the developers/maintainers of the biodbHmdb package: - Allow up to 24 hours (and sometimes 48 hours) for your latest push to git@git.bioconductor.org:packages/biodbHmdb.git to reflect on this report. See Troubleshooting Build Report for more information. - Use the following Renviron settings to reproduce errors and warnings. - If 'R CMD check' started to fail recently on the Linux builder(s) over a missing dependency, add the missing dependency to 'Suggests:' in your DESCRIPTION file. See Renviron.bioc for more information. |
| Package: biodbHmdb |
| Version: 1.14.0 |
| Command: rm -rf biodbHmdb.buildbin-libdir && mkdir biodbHmdb.buildbin-libdir && E:\biocbuild\bbs-3.21-bioc\R\bin\R.exe CMD INSTALL --build --library=biodbHmdb.buildbin-libdir biodbHmdb_1.14.0.tar.gz |
| StartedAt: 2025-08-15 08:51:54 -0400 (Fri, 15 Aug 2025) |
| EndedAt: 2025-08-15 08:52:48 -0400 (Fri, 15 Aug 2025) |
| EllapsedTime: 53.3 seconds |
| RetCode: 0 |
| Status: OK |
| PackageFile: biodbHmdb_1.14.0.zip |
| PackageFileSize: 991.6 KiB |
##############################################################################
##############################################################################
###
### Running command:
###
### rm -rf biodbHmdb.buildbin-libdir && mkdir biodbHmdb.buildbin-libdir && E:\biocbuild\bbs-3.21-bioc\R\bin\R.exe CMD INSTALL --build --library=biodbHmdb.buildbin-libdir biodbHmdb_1.14.0.tar.gz
###
##############################################################################
##############################################################################
* installing *source* package 'biodbHmdb' ...
** this is package 'biodbHmdb' version '1.14.0'
** using staged installation
** libs
using C++ compiler: 'G__~1.EXE (GCC) 14.2.0'
g++ -std=gnu++17 -I"E:/biocbuild/bbs-3.21-bioc/R/include" -DNDEBUG -I'E:/biocbuild/bbs-3.21-bioc/R/library/Rcpp/include' -I'E:/biocbuild/bbs-3.21-bioc/R/library/testthat/include' -I"C:/rtools45/x86_64-w64-mingw32.static.posix/include" -O2 -Wall -mfpmath=sse -msse2 -mstackrealign -c EntryMaker.cpp -o EntryMaker.o
In file included from EntryMaker.cpp:1:
EntryMaker.hpp: In constructor 'EntryMaker::EntryMaker()':
EntryMaker.hpp:23:21: warning: 'EntryMaker::accession_tag' will be initialized after [-Wreorder]
23 | TagDetector accession_tag;
| ^~~~~~~~~~~~~
EntryMaker.hpp:22:14: warning: 'bool EntryMaker::closed' [-Wreorder]
22 | bool closed;
| ^~~~~~
EntryMaker.cpp:5:1: warning: when initialized here [-Wreorder]
5 | EntryMaker::EntryMaker() :
| ^~~~~~~~~~
g++ -std=gnu++17 -I"E:/biocbuild/bbs-3.21-bioc/R/include" -DNDEBUG -I'E:/biocbuild/bbs-3.21-bioc/R/library/Rcpp/include' -I'E:/biocbuild/bbs-3.21-bioc/R/library/testthat/include' -I"C:/rtools45/x86_64-w64-mingw32.static.posix/include" -O2 -Wall -mfpmath=sse -msse2 -mstackrealign -c FileEntryMaker.cpp -o FileEntryMaker.o
g++ -std=gnu++17 -I"E:/biocbuild/bbs-3.21-bioc/R/include" -DNDEBUG -I'E:/biocbuild/bbs-3.21-bioc/R/library/Rcpp/include' -I'E:/biocbuild/bbs-3.21-bioc/R/library/testthat/include' -I"C:/rtools45/x86_64-w64-mingw32.static.posix/include" -O2 -Wall -mfpmath=sse -msse2 -mstackrealign -c RcppExports.cpp -o RcppExports.o
g++ -std=gnu++17 -I"E:/biocbuild/bbs-3.21-bioc/R/include" -DNDEBUG -I'E:/biocbuild/bbs-3.21-bioc/R/library/Rcpp/include' -I'E:/biocbuild/bbs-3.21-bioc/R/library/testthat/include' -I"C:/rtools45/x86_64-w64-mingw32.static.posix/include" -O2 -Wall -mfpmath=sse -msse2 -mstackrealign -c StringEnrtryMaker.cpp -o StringEnrtryMaker.o
g++ -std=gnu++17 -I"E:/biocbuild/bbs-3.21-bioc/R/include" -DNDEBUG -I'E:/biocbuild/bbs-3.21-bioc/R/library/Rcpp/include' -I'E:/biocbuild/bbs-3.21-bioc/R/library/testthat/include' -I"C:/rtools45/x86_64-w64-mingw32.static.posix/include" -O2 -Wall -mfpmath=sse -msse2 -mstackrealign -c TagDetector.cpp -o TagDetector.o
g++ -std=gnu++17 -I"E:/biocbuild/bbs-3.21-bioc/R/include" -DNDEBUG -I'E:/biocbuild/bbs-3.21-bioc/R/library/Rcpp/include' -I'E:/biocbuild/bbs-3.21-bioc/R/library/testthat/include' -I"C:/rtools45/x86_64-w64-mingw32.static.posix/include" -O2 -Wall -mfpmath=sse -msse2 -mstackrealign -c XmlSplitter.cpp -o XmlSplitter.o
g++ -std=gnu++17 -I"E:/biocbuild/bbs-3.21-bioc/R/include" -DNDEBUG -I'E:/biocbuild/bbs-3.21-bioc/R/library/Rcpp/include' -I'E:/biocbuild/bbs-3.21-bioc/R/library/testthat/include' -I"C:/rtools45/x86_64-w64-mingw32.static.posix/include" -O2 -Wall -mfpmath=sse -msse2 -mstackrealign -c extractXmlEntries.cpp -o extractXmlEntries.o
g++ -std=gnu++17 -I"E:/biocbuild/bbs-3.21-bioc/R/include" -DNDEBUG -I'E:/biocbuild/bbs-3.21-bioc/R/library/Rcpp/include' -I'E:/biocbuild/bbs-3.21-bioc/R/library/testthat/include' -I"C:/rtools45/x86_64-w64-mingw32.static.posix/include" -O2 -Wall -mfpmath=sse -msse2 -mstackrealign -c test-100-TagDetector.cpp -o test-100-TagDetector.o
g++ -std=gnu++17 -I"E:/biocbuild/bbs-3.21-bioc/R/include" -DNDEBUG -I'E:/biocbuild/bbs-3.21-bioc/R/library/Rcpp/include' -I'E:/biocbuild/bbs-3.21-bioc/R/library/testthat/include' -I"C:/rtools45/x86_64-w64-mingw32.static.posix/include" -O2 -Wall -mfpmath=sse -msse2 -mstackrealign -c test-150-StringEntryMaker.cpp -o test-150-StringEntryMaker.o
g++ -std=gnu++17 -I"E:/biocbuild/bbs-3.21-bioc/R/include" -DNDEBUG -I'E:/biocbuild/bbs-3.21-bioc/R/library/Rcpp/include' -I'E:/biocbuild/bbs-3.21-bioc/R/library/testthat/include' -I"C:/rtools45/x86_64-w64-mingw32.static.posix/include" -O2 -Wall -mfpmath=sse -msse2 -mstackrealign -c test-200-XmlSplitter.cpp -o test-200-XmlSplitter.o
g++ -std=gnu++17 -I"E:/biocbuild/bbs-3.21-bioc/R/include" -DNDEBUG -I'E:/biocbuild/bbs-3.21-bioc/R/library/Rcpp/include' -I'E:/biocbuild/bbs-3.21-bioc/R/library/testthat/include' -I"C:/rtools45/x86_64-w64-mingw32.static.posix/include" -O2 -Wall -mfpmath=sse -msse2 -mstackrealign -c test-runner.cpp -o test-runner.o
g++ -std=gnu++17 -shared -s -static-libgcc -o biodbHmdb.dll tmp.def EntryMaker.o FileEntryMaker.o RcppExports.o StringEnrtryMaker.o TagDetector.o XmlSplitter.o extractXmlEntries.o test-100-TagDetector.o test-150-StringEntryMaker.o test-200-XmlSplitter.o test-runner.o -LC:/rtools45/x86_64-w64-mingw32.static.posix/lib/x64 -LC:/rtools45/x86_64-w64-mingw32.static.posix/lib -LE:/biocbuild/bbs-3.21-bioc/R/bin/x64 -lR
installing to E:/biocbuild/bbs-3.21-bioc/meat/biodbHmdb.buildbin-libdir/00LOCK-biodbHmdb/00new/biodbHmdb/libs/x64
** R
** inst
** byte-compile and prepare package for lazy loading
** help
No man pages found in package 'biodbHmdb'
*** installing help indices
** building package indices
** installing vignettes
** testing if installed package can be loaded from temporary location
** testing if installed package can be loaded from final location
** testing if installed package keeps a record of temporary installation path
* MD5 sums
packaged installation of 'biodbHmdb' as biodbHmdb_1.14.0.zip
* DONE (biodbHmdb)