Back to Multiple platform build/check report for BioC 3.21:   simplified   long
A[B]CDEFGHIJKLMNOPQRSTUVWXYZ

This page was generated on 2025-10-16 11:41 -0400 (Thu, 16 Oct 2025).

HostnameOSArch (*)R versionInstalled pkgs
nebbiolo1Linux (Ubuntu 24.04.3 LTS)x86_644.5.1 (2025-06-13) -- "Great Square Root" 4833
merida1macOS 12.7.6 Montereyx86_644.5.1 RC (2025-06-05 r88288) -- "Great Square Root" 4614
kjohnson1macOS 13.7.5 Venturaarm644.5.1 Patched (2025-06-14 r88325) -- "Great Square Root" 4555
kunpeng2Linux (openEuler 24.03 LTS)aarch64R Under development (unstable) (2025-02-19 r87757) -- "Unsuffered Consequences" 4586
Click on any hostname to see more info about the system (e.g. compilers)      (*) as reported by 'uname -p', except on Windows and Mac OS X

Package 160/2341HostnameOS / ArchINSTALLBUILDCHECKBUILD BIN
bedbaser 1.0.4  (landing page)
Andres Wokaty
Snapshot Date: 2025-10-13 13:40 -0400 (Mon, 13 Oct 2025)
git_url: https://git.bioconductor.org/packages/bedbaser
git_branch: RELEASE_3_21
git_last_commit: 1eb42ba
git_last_commit_date: 2025-10-12 15:54:07 -0400 (Sun, 12 Oct 2025)
nebbiolo1Linux (Ubuntu 24.04.3 LTS) / x86_64  OK    OK    OK  YES
merida1macOS 12.7.6 Monterey / x86_64  OK    OK    OK    OK  YES
kjohnson1macOS 13.7.5 Ventura / arm64  OK    OK    OK    OK  YES
kunpeng2Linux (openEuler 24.03 LTS) / aarch64  OK    OK    OK  


CHECK results for bedbaser on kunpeng2

To the developers/maintainers of the bedbaser package:
- Allow up to 24 hours (and sometimes 48 hours) for your latest push to git@git.bioconductor.org:packages/bedbaser.git to reflect on this report. See Troubleshooting Build Report for more information.
- Use the following Renviron settings to reproduce errors and warnings.
- If 'R CMD check' started to fail recently on the Linux builder(s) over a missing dependency, add the missing dependency to 'Suggests:' in your DESCRIPTION file. See Renviron.bioc for more information.
- See Martin Grigorov's blog post for how to debug Linux ARM64 related issues on a x86_64 host.

raw results


Summary

Package: bedbaser
Version: 1.0.4
Command: /home/biocbuild/R/R/bin/R CMD check --install=check:bedbaser.install-out.txt --library=/home/biocbuild/R/R/site-library --no-vignettes --timings bedbaser_1.0.4.tar.gz
StartedAt: 2025-10-14 06:34:31 -0000 (Tue, 14 Oct 2025)
EndedAt: 2025-10-14 06:43:59 -0000 (Tue, 14 Oct 2025)
EllapsedTime: 567.8 seconds
RetCode: 0
Status:   OK  
CheckDir: bedbaser.Rcheck
Warnings: 0

Command output

##############################################################################
##############################################################################
###
### Running command:
###
###   /home/biocbuild/R/R/bin/R CMD check --install=check:bedbaser.install-out.txt --library=/home/biocbuild/R/R/site-library --no-vignettes --timings bedbaser_1.0.4.tar.gz
###
##############################################################################
##############################################################################


* using log directory ‘/home/biocbuild/bbs-3.21-bioc/meat/bedbaser.Rcheck’
* using R Under development (unstable) (2025-02-19 r87757)
* using platform: aarch64-unknown-linux-gnu
* R was compiled by
    aarch64-unknown-linux-gnu-gcc (GCC) 14.2.0
    GNU Fortran (GCC) 14.2.0
* running under: openEuler 24.03 (LTS-SP1)
* using session charset: UTF-8
* using option ‘--no-vignettes’
* checking for file ‘bedbaser/DESCRIPTION’ ... OK
* this is package ‘bedbaser’ version ‘1.0.4’
* package encoding: UTF-8
* checking package namespace information ... OK
* checking package dependencies ... OK
* checking if this is a source package ... OK
* checking if there is a namespace ... OK
* checking for hidden files and directories ... OK
* checking for portable file names ... OK
* checking for sufficient/correct file permissions ... OK
* checking whether package ‘bedbaser’ can be installed ... OK
* checking installed package size ... OK
* checking package directory ... OK
* checking ‘build’ directory ... OK
* checking DESCRIPTION meta-information ... OK
* checking top-level files ... OK
* checking for left-over files ... OK
* checking index information ... OK
* checking package subdirectories ... OK
* checking code files for non-ASCII characters ... OK
* checking R files for syntax errors ... OK
* checking whether the package can be loaded ... OK
* checking whether the package can be loaded with stated dependencies ... OK
* checking whether the package can be unloaded cleanly ... OK
* checking whether the namespace can be loaded with stated dependencies ... OK
* checking whether the namespace can be unloaded cleanly ... OK
* checking loading without being on the library search path ... OK
* checking dependencies in R code ... OK
* checking S3 generic/method consistency ... OK
* checking replacement functions ... OK
* checking foreign function calls ... OK
* checking R code for possible problems ... NOTE
.get_url: no visible binding for global variable ‘access_methods’
.get_url: no visible binding for global variable ‘access_url’
.get_url: no visible binding for global variable ‘name’
.get_url: no visible binding for global variable ‘access_id’
bb_list_bedsets: no visible binding for global variable ‘bed_ids’
bb_list_bedsets: no visible binding for global variable ‘id’
bb_list_bedsets: no visible binding for global variable ‘name’
bb_list_bedsets: no visible binding for global variable ‘md5sum’
bb_list_bedsets: no visible binding for global variable
  ‘submission_date’
bb_list_bedsets: no visible binding for global variable
  ‘last_update_date’
bb_list_bedsets: no visible binding for global variable ‘description’
bb_list_bedsets: no visible binding for global variable ‘author’
Undefined global functions or variables:
  access_id access_methods access_url author bed_ids description id
  last_update_date md5sum name submission_date
* checking Rd files ... OK
* checking Rd metadata ... OK
* checking Rd cross-references ... OK
* checking for missing documentation entries ... OK
* checking for code/documentation mismatches ... OK
* checking Rd \usage sections ... OK
* checking Rd contents ... OK
* checking for unstated dependencies in examples ... OK
* checking files in ‘vignettes’ ... OK
* checking examples ... OK
Examples with CPU (user + system) or elapsed time > 5s
                    user system elapsed
bb_to_grangeslist 20.463  2.422 132.336
bb_to_granges     15.693  0.629  27.989
bb_list_bedsets    0.481  0.000   8.357
bb_save            0.241  0.025  12.063
* checking for unstated dependencies in ‘tests’ ... OK
* checking tests ...
  Running ‘testthat.R’
 OK
* checking for unstated dependencies in vignettes ... OK
* checking package vignettes ... OK
* checking running R code from vignettes ... SKIPPED
* checking re-building of vignette outputs ... SKIPPED
* checking PDF version of manual ... OK
* DONE

Status: 1 NOTE
See
  ‘/home/biocbuild/bbs-3.21-bioc/meat/bedbaser.Rcheck/00check.log’
for details.


Installation output

bedbaser.Rcheck/00install.out

##############################################################################
##############################################################################
###
### Running command:
###
###   /home/biocbuild/R/R/bin/R CMD INSTALL bedbaser
###
##############################################################################
##############################################################################


* installing to library ‘/home/biocbuild/R/R-devel_2025-02-19/site-library’
* installing *source* package ‘bedbaser’ ...
** this is package ‘bedbaser’ version ‘1.0.4’
** using staged installation
** R
** inst
** byte-compile and prepare package for lazy loading
Creating a generic function for ‘tags’ from package ‘AnVIL’ in package ‘bedbaser’
** help
*** installing help indices
** building package indices
** installing vignettes
** testing if installed package can be loaded from temporary location
** testing if installed package can be loaded from final location
** testing if installed package keeps a record of temporary installation path
* DONE (bedbaser)

Tests output

bedbaser.Rcheck/tests/testthat.Rout


R Under development (unstable) (2025-02-19 r87757) -- "Unsuffered Consequences"
Copyright (C) 2025 The R Foundation for Statistical Computing
Platform: aarch64-unknown-linux-gnu

R is free software and comes with ABSOLUTELY NO WARRANTY.
You are welcome to redistribute it under certain conditions.
Type 'license()' or 'licence()' for distribution details.

R is a collaborative project with many contributors.
Type 'contributors()' for more information and
'citation()' on how to cite R or R packages in publications.

Type 'demo()' for some demos, 'help()' for on-line help, or
'help.start()' for an HTML browser interface to help.
Type 'q()' to quit R.

> # This file is part of the standard setup for testthat.
> # It is recommended that you do not modify it.
> #
> # Where should you do additional test configuration?
> # Learn more about the roles of various files in:
> # * https://r-pkgs.org/testing-design.html#sec-tests-files-overview
> # * https://testthat.r-lib.org/articles/special-files.html
> 
> library(testthat)
> library(bedbaser)
> 
> test_check("bedbaser")
trying URL 'https://api.bedbase.org/v1/files/files/1/a/1a07153b9192559bea9d245ac13a1951.bed.gz'
Content type 'binary/octet-stream' length 1817860 bytes (1.7 MB)
==================================================
downloaded 1.7 MB

trying URL 'https://api.bedbase.org/v1/files/files/6/9/69111ab7315f91b503c08671fb551394.bed.gz'
Content type 'binary/octet-stream' length 3526213 bytes (3.4 MB)
==================================================
downloaded 3.4 MB

trying URL 'https://api.bedbase.org/v1/files/files/0/d/0d92a164908981273746518a617cc65b.bed.gz'
Content type 'binary/octet-stream' length 8977625 bytes (8.6 MB)
==================================================
downloaded 8.6 MB

trying URL 'https://api.bedbase.org/v1/files/files/9/6/9696e3e114f5f11b1fad8e4772c7c756.bed.gz'
Content type 'binary/octet-stream' length 541254 bytes (528 KB)
==================================================
downloaded 528 KB

trying URL 'https://api.bedbase.org/v1/files/files/b/b/bbad85f21962bb8d972444f7f9a3a932.bed.gz'
Content type 'binary/octet-stream' length 641053 bytes (626 KB)
==================================================
downloaded 626 KB

trying URL 'https://api.bedbase.org/v1/files/files/3/e/3eb2165c950ae3231e5d69d3786938d7.bed.gz'
Content type 'binary/octet-stream' length 58142 bytes (56 KB)
==================================================
downloaded 56 KB

trying URL 'https://api.bedbase.org/v1/files/files/3/0/3053b7b8be8ca1502b46946dde0e4ced.bed.gz'
Content type 'binary/octet-stream' length 3871087 bytes (3.7 MB)
==================================================
downloaded 3.7 MB

[ FAIL 0 | WARN 0 | SKIP 0 | PASS 51 ]
> 
> proc.time()
   user  system elapsed 
 54.480   4.774 295.395 

Example timings

bedbaser.Rcheck/bedbaser-Ex.timings

nameusersystemelapsed
BEDbase1.1390.0363.941
bb_bed_text_search0.2430.0092.837
bb_beds_in_bedset0.2030.0402.152
bb_example0.2190.0131.943
bb_list_beds0.3850.0114.152
bb_list_bedsets0.4810.0008.357
bb_metadata0.2480.0292.816
bb_save 0.241 0.02512.063
bb_stats0.1390.0041.827
bb_to_granges15.693 0.62927.989
bb_to_grangeslist 20.463 2.422132.336
getCache-BEDbase-method0.2030.0081.774
operations-BEDbase-method0.1320.0041.059
schemas-BEDbase-method0.1210.0000.780
setCache-BEDbase-method0.1670.0080.841
tags-BEDbase-method0.1640.0230.854