| Back to Multiple platform build/check report for BioC 3.21: simplified long | 
 | 
This page was generated on 2025-10-13 11:41 -0400 (Mon, 13 Oct 2025).
| Hostname | OS | Arch (*) | R version | Installed pkgs | 
|---|---|---|---|---|
| nebbiolo1 | Linux (Ubuntu 24.04.3 LTS) | x86_64 | 4.5.1 (2025-06-13) -- "Great Square Root" | 4833 | 
| merida1 | macOS 12.7.5 Monterey | x86_64 | 4.5.1 RC (2025-06-05 r88288) -- "Great Square Root" | 4614 | 
| kjohnson1 | macOS 13.6.6 Ventura | arm64 | 4.5.1 Patched (2025-06-14 r88325) -- "Great Square Root" | 4555 | 
| kunpeng2 | Linux (openEuler 24.03 LTS) | aarch64 | R Under development (unstable) (2025-02-19 r87757) -- "Unsuffered Consequences" | 4586 | 
| Click on any hostname to see more info about the system (e.g. compilers) (*) as reported by 'uname -p', except on Windows and Mac OS X | ||||
| Package 126/2341 | Hostname | OS / Arch | INSTALL | BUILD | CHECK | BUILD BIN | ||||||||
| bambu 3.10.1  (landing page) Ying Chen 
 | nebbiolo1 | Linux (Ubuntu 24.04.3 LTS) / x86_64 | OK | OK | OK |  | ||||||||
| merida1 | macOS 12.7.5 Monterey / x86_64 | OK | OK | OK | OK |  | ||||||||
| kjohnson1 | macOS 13.6.6 Ventura / arm64 | OK | OK | OK | OK |  | ||||||||
| kunpeng2 | Linux (openEuler 24.03 LTS) / aarch64 | OK | OK | ERROR | ||||||||||
| To the developers/maintainers of the bambu package: - Allow up to 24 hours (and sometimes 48 hours) for your latest push to git@git.bioconductor.org:packages/bambu.git to reflect on this report. See Troubleshooting Build Report for more information. - Use the following Renviron settings to reproduce errors and warnings. - If 'R CMD check' started to fail recently on the Linux builder(s) over a missing dependency, add the missing dependency to 'Suggests:' in your DESCRIPTION file. See Renviron.bioc for more information. - See Martin Grigorov's blog post for how to debug Linux ARM64 related issues on a x86_64 host. | 
| Package: bambu | 
| Version: 3.10.1 | 
| Command: /home/biocbuild/R/R/bin/R CMD check --install=check:bambu.install-out.txt --library=/home/biocbuild/R/R/site-library --no-vignettes --timings bambu_3.10.1.tar.gz | 
| StartedAt: 2025-10-10 06:17:13 -0000 (Fri, 10 Oct 2025) | 
| EndedAt: 2025-10-10 06:27:50 -0000 (Fri, 10 Oct 2025) | 
| EllapsedTime: 637.6 seconds | 
| RetCode: 1 | 
| Status: ERROR | 
| CheckDir: bambu.Rcheck | 
| Warnings: NA | 
##############################################################################
##############################################################################
###
### Running command:
###
###   /home/biocbuild/R/R/bin/R CMD check --install=check:bambu.install-out.txt --library=/home/biocbuild/R/R/site-library --no-vignettes --timings bambu_3.10.1.tar.gz
###
##############################################################################
##############################################################################
* using log directory ‘/home/biocbuild/bbs-3.21-bioc/meat/bambu.Rcheck’
* using R Under development (unstable) (2025-02-19 r87757)
* using platform: aarch64-unknown-linux-gnu
* R was compiled by
    aarch64-unknown-linux-gnu-gcc (GCC) 14.2.0
    GNU Fortran (GCC) 14.2.0
* running under: openEuler 24.03 (LTS-SP1)
* using session charset: UTF-8
* using option ‘--no-vignettes’
* checking for file ‘bambu/DESCRIPTION’ ... OK
* checking extension type ... Package
* this is package ‘bambu’ version ‘3.10.1’
* package encoding: UTF-8
* checking package namespace information ... OK
* checking package dependencies ... OK
* checking if this is a source package ... OK
* checking if there is a namespace ... OK
* checking for hidden files and directories ... NOTE
Found the following hidden files and directories:
  tests/testthat/fixtures/.gitkeep
These were most likely included in error. See section ‘Package
structure’ in the ‘Writing R Extensions’ manual.
* checking for portable file names ... OK
* checking for sufficient/correct file permissions ... OK
* checking whether package ‘bambu’ can be installed ... OK
* used C++ compiler: ‘aarch64-unknown-linux-gnu-g++ (GCC) 14.2.0’
* checking installed package size ... INFO
  installed size is  6.0Mb
  sub-directories of 1Mb or more:
    extdata   2.9Mb
    libs      2.3Mb
* checking package directory ... OK
* checking ‘build’ directory ... OK
* checking DESCRIPTION meta-information ... OK
* checking top-level files ... OK
* checking for left-over files ... OK
* checking index information ... OK
* checking package subdirectories ... OK
* checking code files for non-ASCII characters ... OK
* checking R files for syntax errors ... OK
* checking whether the package can be loaded ... OK
* checking whether the package can be loaded with stated dependencies ... OK
* checking whether the package can be unloaded cleanly ... OK
* checking whether the namespace can be loaded with stated dependencies ... OK
* checking whether the namespace can be unloaded cleanly ... OK
* checking loading without being on the library search path ... OK
* checking dependencies in R code ... NOTE
Unexported objects imported by ':::' calls:
  'GenomicAlignments:::.result' 'xgboost:::predict.xgb.Booster'
  See the note in ?`:::` about the use of this operator.
* checking S3 generic/method consistency ... OK
* checking replacement functions ... OK
* checking foreign function calls ... OK
* checking R code for possible problems ... NOTE
readCountWeightedMedian: no visible binding for global variable
  ‘..valuevar’
readCountWeightedMedian: no visible binding for global variable
  ‘..timesvar’
updateStartEndReadCount: no visible binding for global variable ‘x’
updateStartEndReadCount: no visible binding for global variable ‘y’
updateStartEndReadCount: no visible binding for global variable ‘z’
Undefined global functions or variables:
  ..timesvar ..valuevar x y z
* checking Rd files ... NOTE
checkRd: (-1) bambu.Rd:73: Lost braces
    73 |     \item{defaultModels}{A model object obtained by code{\link{trainBambu}}
       |                                                         ^
* checking Rd metadata ... OK
* checking Rd cross-references ... NOTE
Found the following Rd file(s) with Rd \link{} targets missing package
anchors:
  writeBambuOutput.Rd: SummarizedExperiment
Please provide package anchors for all Rd \link{} targets not in the
package itself and the base packages.
* checking for missing documentation entries ... OK
* checking for code/documentation mismatches ... OK
* checking Rd \usage sections ... OK
* checking Rd contents ... OK
* checking for unstated dependencies in examples ... OK
* checking R/sysdata.rda ... OK
* checking line endings in C/C++/Fortran sources/headers ... OK
* checking line endings in Makefiles ... OK
* checking compilation flags in Makevars ... OK
* checking for GNU extensions in Makefiles ... OK
* checking for portable use of $(BLAS_LIBS) and $(LAPACK_LIBS) ... OK
* checking use of PKG_*FLAGS in Makefiles ... OK
* checking compiled code ... NOTE
Note: information on .o files is not available
* checking files in ‘vignettes’ ... OK
* checking examples ... OK
Examples with CPU (user + system) or elapsed time > 5s
                     user system elapsed
bambu              19.937  0.678  22.844
prepareAnnotations 15.023  0.172  15.254
* checking for unstated dependencies in ‘tests’ ... OK
* checking tests ...
  Running ‘testthat.R’
 ERROR
Running the tests in ‘tests/testthat.R’ failed.
Last 13 lines of output:
  Attributes: < Component 2: Modes: character, numeric >
  Attributes: < Component 2: Lengths: 3, 34 >
  Attributes: < Component 2: target is character, current is numeric >
  ── Failure ('test_isore.R:72:5'): isore.combineTranscriptCandidates completes successfully ──
  `seIsoReCombined` not equal to `seIsoReCombinedExpected`.
  Attributes: < Names: 2 string mismatches >
  Attributes: < Length mismatch: comparison on first 2 components >
  Attributes: < Component 1: target is externalptr, current is character >
  Attributes: < Component 2: Modes: character, numeric >
  Attributes: < Component 2: Lengths: 3, 34 >
  Attributes: < Component 2: target is character, current is numeric >
  
  [ FAIL 2 | WARN 9 | SKIP 0 | PASS 132 ]
  Error: Test failures
  Execution halted
* checking for unstated dependencies in vignettes ... OK
* checking package vignettes ... OK
* checking running R code from vignettes ... SKIPPED
* checking re-building of vignette outputs ... SKIPPED
* checking PDF version of manual ... OK
* DONE
Status: 1 ERROR, 6 NOTEs
See
  ‘/home/biocbuild/bbs-3.21-bioc/meat/bambu.Rcheck/00check.log’
for details.
bambu.Rcheck/00install.out
############################################################################## ############################################################################## ### ### Running command: ### ### /home/biocbuild/R/R/bin/R CMD INSTALL bambu ### ############################################################################## ############################################################################## * installing to library ‘/home/biocbuild/R/R-devel_2025-02-19/site-library’ * installing *source* package ‘bambu’ ... ** this is package ‘bambu’ version ‘3.10.1’ ** using staged installation ** libs using C++ compiler: ‘aarch64-unknown-linux-gnu-g++ (GCC) 14.2.0’ /opt/ohpc/pub/compiler/gcc/14.2.0/bin/aarch64-unknown-linux-gnu-g++ -std=gnu++17 -I"/home/biocbuild/R/R/include" -DNDEBUG -I'/home/biocbuild/R/R-devel_2025-02-19/site-library/Rcpp/include' -I'/home/biocbuild/R/R-devel_2025-02-19/site-library/RcppArmadillo/include' -I/usr/local/include -fopenmp -fPIC -g -O2 -Wall -Werror=format-security -c RcppExports.cpp -o RcppExports.o /opt/ohpc/pub/compiler/gcc/14.2.0/bin/aarch64-unknown-linux-gnu-g++ -std=gnu++17 -I"/home/biocbuild/R/R/include" -DNDEBUG -I'/home/biocbuild/R/R-devel_2025-02-19/site-library/Rcpp/include' -I'/home/biocbuild/R/R-devel_2025-02-19/site-library/RcppArmadillo/include' -I/usr/local/include -fopenmp -fPIC -g -O2 -Wall -Werror=format-security -c em.cpp -o em.o /opt/ohpc/pub/compiler/gcc/14.2.0/bin/aarch64-unknown-linux-gnu-g++ -std=gnu++17 -shared -L/home/biocbuild/R/R/lib -L/usr/local/lib -o bambu.so RcppExports.o em.o -L/home/biocbuild/R/R/lib -lRlapack -L/home/biocbuild/R/R/lib -lRblas -lgfortran -lm -fopenmp -L/home/biocbuild/R/R/lib -lR installing to /home/biocbuild/R/R-devel_2025-02-19/site-library/00LOCK-bambu/00new/bambu/libs ** R ** inst ** byte-compile and prepare package for lazy loading ** help *** installing help indices ** building package indices ** installing vignettes ** testing if installed package can be loaded from temporary location ** checking absolute paths in shared objects and dynamic libraries ** testing if installed package can be loaded from final location ** testing if installed package keeps a record of temporary installation path * DONE (bambu)
bambu.Rcheck/tests/testthat.Rout.fail
R Under development (unstable) (2025-02-19 r87757) -- "Unsuffered Consequences"
Copyright (C) 2025 The R Foundation for Statistical Computing
Platform: aarch64-unknown-linux-gnu
R is free software and comes with ABSOLUTELY NO WARRANTY.
You are welcome to redistribute it under certain conditions.
Type 'license()' or 'licence()' for distribution details.
R is a collaborative project with many contributors.
Type 'contributors()' for more information and
'citation()' on how to cite R or R packages in publications.
Type 'demo()' for some demos, 'help()' for on-line help, or
'help.start()' for an HTML browser interface to help.
Type 'q()' to quit R.
> Sys.setenv("R_TESTS" = "")
> 
> library(testthat)
> library(bambu)
Loading required package: SummarizedExperiment
Loading required package: MatrixGenerics
Loading required package: matrixStats
Attaching package: 'MatrixGenerics'
The following objects are masked from 'package:matrixStats':
    colAlls, colAnyNAs, colAnys, colAvgsPerRowSet, colCollapse,
    colCounts, colCummaxs, colCummins, colCumprods, colCumsums,
    colDiffs, colIQRDiffs, colIQRs, colLogSumExps, colMadDiffs,
    colMads, colMaxs, colMeans2, colMedians, colMins, colOrderStats,
    colProds, colQuantiles, colRanges, colRanks, colSdDiffs, colSds,
    colSums2, colTabulates, colVarDiffs, colVars, colWeightedMads,
    colWeightedMeans, colWeightedMedians, colWeightedSds,
    colWeightedVars, rowAlls, rowAnyNAs, rowAnys, rowAvgsPerColSet,
    rowCollapse, rowCounts, rowCummaxs, rowCummins, rowCumprods,
    rowCumsums, rowDiffs, rowIQRDiffs, rowIQRs, rowLogSumExps,
    rowMadDiffs, rowMads, rowMaxs, rowMeans2, rowMedians, rowMins,
    rowOrderStats, rowProds, rowQuantiles, rowRanges, rowRanks,
    rowSdDiffs, rowSds, rowSums2, rowTabulates, rowVarDiffs, rowVars,
    rowWeightedMads, rowWeightedMeans, rowWeightedMedians,
    rowWeightedSds, rowWeightedVars
Loading required package: GenomicRanges
Loading required package: stats4
Loading required package: BiocGenerics
Loading required package: generics
Attaching package: 'generics'
The following objects are masked from 'package:base':
    as.difftime, as.factor, as.ordered, intersect, is.element, setdiff,
    setequal, union
Attaching package: 'BiocGenerics'
The following objects are masked from 'package:stats':
    IQR, mad, sd, var, xtabs
The following objects are masked from 'package:base':
    Filter, Find, Map, Position, Reduce, anyDuplicated, aperm, append,
    as.data.frame, basename, cbind, colnames, dirname, do.call,
    duplicated, eval, evalq, get, grep, grepl, is.unsorted, lapply,
    mapply, match, mget, order, paste, pmax, pmax.int, pmin, pmin.int,
    rank, rbind, rownames, sapply, saveRDS, table, tapply, unique,
    unsplit, which.max, which.min
Loading required package: S4Vectors
Attaching package: 'S4Vectors'
The following object is masked from 'package:utils':
    findMatches
The following objects are masked from 'package:base':
    I, expand.grid, unname
Loading required package: IRanges
Loading required package: GenomeInfoDb
Loading required package: Biobase
Welcome to Bioconductor
    Vignettes contain introductory material; view with
    'browseVignettes()'. To cite Bioconductor, see
    'citation("Biobase")', and for packages 'citation("pkgname")'.
Attaching package: 'Biobase'
The following object is masked from 'package:MatrixGenerics':
    rowMedians
The following objects are masked from 'package:matrixStats':
    anyMissing, rowMedians
Loading required package: BSgenome
Loading required package: Biostrings
Loading required package: XVector
Attaching package: 'Biostrings'
The following object is masked from 'package:base':
    strsplit
Loading required package: BiocIO
Loading required package: rtracklayer
> 
> test_check("bambu")
[06:24:11] WARNING: src/learner.cc:553: 
  If you are loading a serialized model (like pickle in Python, RDS in R) generated by
  older XGBoost, please export the model by calling `Booster.save_model` from that version
  first, then load it back in current version. See:
    https://xgboost.readthedocs.io/en/latest/tutorials/saving_model.html
  for more details about differences between saving model and serializing.
[06:24:11] WARNING: src/learner.cc:553: 
  If you are loading a serialized model (like pickle in Python, RDS in R) generated by
  older XGBoost, please export the model by calling `Booster.save_model` from that version
  first, then load it back in current version. See:
    https://xgboost.readthedocs.io/en/latest/tutorials/saving_model.html
  for more details about differences between saving model and serializing.
[06:24:11] WARNING: src/learner.cc:553: 
  If you are loading a serialized model (like pickle in Python, RDS in R) generated by
  older XGBoost, please export the model by calling `Booster.save_model` from that version
  first, then load it back in current version. See:
    https://xgboost.readthedocs.io/en/latest/tutorials/saving_model.html
  for more details about differences between saving model and serializing.
[06:24:11] WARNING: src/learner.cc:553: 
  If you are loading a serialized model (like pickle in Python, RDS in R) generated by
  older XGBoost, please export the model by calling `Booster.save_model` from that version
  first, then load it back in current version. See:
    https://xgboost.readthedocs.io/en/latest/tutorials/saving_model.html
  for more details about differences between saving model and serializing.
[06:24:17] WARNING: src/learner.cc:553: 
  If you are loading a serialized model (like pickle in Python, RDS in R) generated by
  older XGBoost, please export the model by calling `Booster.save_model` from that version
  first, then load it back in current version. See:
    https://xgboost.readthedocs.io/en/latest/tutorials/saving_model.html
  for more details about differences between saving model and serializing.
[06:24:17] WARNING: src/learner.cc:553: 
  If you are loading a serialized model (like pickle in Python, RDS in R) generated by
  older XGBoost, please export the model by calling `Booster.save_model` from that version
  first, then load it back in current version. See:
    https://xgboost.readthedocs.io/en/latest/tutorials/saving_model.html
  for more details about differences between saving model and serializing.
  |                                                                            
  |                                                                      |   0%
  |                                                                            
  |===================================                                   |  50%
  |                                                                            
  |======================================================================| 100%
  |                                                                            
  |                                                                      |   0%
  |                                                                            
  |===================================                                   |  50%
  |                                                                            
  |======================================================================| 100%
  |                                                                            
  |                                                                      |   0%
  |                                                                            
  |===================================                                   |  50%
  |                                                                            
  |======================================================================| 100%
  |                                                                            
  |                                                                      |   0%
  |                                                                            
  |===================================                                   |  50%
  |                                                                            
  |======================================================================| 100%
[ FAIL 2 | WARN 9 | SKIP 0 | PASS 132 ]
══ Failed tests ════════════════════════════════════════════════════════════════
── Failure ('test_isore.R:58:5'): isore.combineTranscriptCandidates completes successfully ──
`seIsoReRef` not equal to `seIsoReRefExpected`.
Attributes: < Names: 2 string mismatches >
Attributes: < Length mismatch: comparison on first 2 components >
Attributes: < Component 1: target is externalptr, current is character >
Attributes: < Component 2: Modes: character, numeric >
Attributes: < Component 2: Lengths: 3, 34 >
Attributes: < Component 2: target is character, current is numeric >
── Failure ('test_isore.R:72:5'): isore.combineTranscriptCandidates completes successfully ──
`seIsoReCombined` not equal to `seIsoReCombinedExpected`.
Attributes: < Names: 2 string mismatches >
Attributes: < Length mismatch: comparison on first 2 components >
Attributes: < Component 1: target is externalptr, current is character >
Attributes: < Component 2: Modes: character, numeric >
Attributes: < Component 2: Lengths: 3, 34 >
Attributes: < Component 2: target is character, current is numeric >
[ FAIL 2 | WARN 9 | SKIP 0 | PASS 132 ]
Error: Test failures
Execution halted
bambu.Rcheck/bambu-Ex.timings
| name | user | system | elapsed | |
| bambu | 19.937 | 0.678 | 22.844 | |
| compareTranscripts | 0.398 | 0.004 | 0.404 | |
| plotBambu | 0.021 | 0.000 | 0.021 | |
| prepareAnnotations | 15.023 | 0.172 | 15.254 | |
| readFromGTF | 0.236 | 0.004 | 0.241 | |
| transcriptToGeneExpression | 0.222 | 0.004 | 0.227 | |
| writeBambuOutput | 0.545 | 0.000 | 0.546 | |
| writeToGTF | 0.161 | 0.004 | 0.165 | |