Back to Multiple platform build/check report for BioC 3.22:   simplified   long
A[B]CDEFGHIJKLMNOPQRSTUVWXYZ

This page was generated on 2025-11-20 12:03 -0500 (Thu, 20 Nov 2025).

HostnameOSArch (*)R versionInstalled pkgs
nebbiolo2Linux (Ubuntu 24.04.3 LTS)x86_644.5.2 (2025-10-31) -- "[Not] Part in a Rumble" 4615
merida1macOS 12.7.6 Montereyx86_644.5.2 Patched (2025-11-05 r88990) -- "[Not] Part in a Rumble" 4610
kjohnson1macOS 13.7.5 Venturaarm644.5.2 Patched (2025-11-04 r88984) -- "[Not] Part in a Rumble" 4598
taishanLinux (openEuler 24.03 LTS)aarch644.5.0 (2025-04-11) -- "How About a Twenty-Six" 4668
Click on any hostname to see more info about the system (e.g. compilers)      (*) as reported by 'uname -p', except on Windows and Mac OS X

Package 128/2361HostnameOS / ArchINSTALLBUILDCHECKBUILD BIN
ballgown 2.42.0  (landing page)
Jack Fu
Snapshot Date: 2025-11-17 13:45 -0500 (Mon, 17 Nov 2025)
git_url: https://git.bioconductor.org/packages/ballgown
git_branch: RELEASE_3_22
git_last_commit: f1b4171
git_last_commit_date: 2025-10-29 10:20:34 -0500 (Wed, 29 Oct 2025)
nebbiolo2Linux (Ubuntu 24.04.3 LTS) / x86_64  OK    OK    ERROR  
merida1macOS 12.7.6 Monterey / x86_64  OK    OK    ERROR    OK  
kjohnson1macOS 13.7.5 Ventura / arm64  OK    OK    ERROR    OK  
taishanLinux (openEuler 24.03 LTS) / aarch64  OK    OK    OK  


CHECK results for ballgown on nebbiolo2

To the developers/maintainers of the ballgown package:
- Allow up to 24 hours (and sometimes 48 hours) for your latest push to git@git.bioconductor.org:packages/ballgown.git to reflect on this report. See Troubleshooting Build Report for more information.
- Use the following Renviron settings to reproduce errors and warnings.
- If 'R CMD check' started to fail recently on the Linux builder(s) over a missing dependency, add the missing dependency to 'Suggests:' in your DESCRIPTION file. See Renviron.bioc for more information.

raw results


Summary

Package: ballgown
Version: 2.42.0
Command: /home/biocbuild/bbs-3.22-bioc/R/bin/R CMD check --install=check:ballgown.install-out.txt --library=/home/biocbuild/bbs-3.22-bioc/R/site-library --timings ballgown_2.42.0.tar.gz
StartedAt: 2025-11-18 00:41:37 -0500 (Tue, 18 Nov 2025)
EndedAt: 2025-11-18 00:49:04 -0500 (Tue, 18 Nov 2025)
EllapsedTime: 447.0 seconds
RetCode: 1
Status:   ERROR  
CheckDir: ballgown.Rcheck
Warnings: NA

Command output

##############################################################################
##############################################################################
###
### Running command:
###
###   /home/biocbuild/bbs-3.22-bioc/R/bin/R CMD check --install=check:ballgown.install-out.txt --library=/home/biocbuild/bbs-3.22-bioc/R/site-library --timings ballgown_2.42.0.tar.gz
###
##############################################################################
##############################################################################


* using log directory ‘/home/biocbuild/bbs-3.22-bioc/meat/ballgown.Rcheck’
* using R version 4.5.2 (2025-10-31)
* using platform: x86_64-pc-linux-gnu
* R was compiled by
    gcc (Ubuntu 13.3.0-6ubuntu2~24.04) 13.3.0
    GNU Fortran (Ubuntu 13.3.0-6ubuntu2~24.04) 13.3.0
* running under: Ubuntu 24.04.3 LTS
* using session charset: UTF-8
* checking for file ‘ballgown/DESCRIPTION’ ... OK
* this is package ‘ballgown’ version ‘2.42.0’
* checking package namespace information ... OK
* checking package dependencies ... OK
* checking if this is a source package ... OK
* checking if there is a namespace ... OK
* checking for hidden files and directories ... OK
* checking for portable file names ... OK
* checking for sufficient/correct file permissions ... OK
* checking whether package ‘ballgown’ can be installed ... OK
* checking installed package size ... OK
* checking package directory ... OK
* checking ‘build’ directory ... OK
* checking DESCRIPTION meta-information ... OK
* checking top-level files ... OK
* checking for left-over files ... OK
* checking index information ... OK
* checking package subdirectories ... NOTE
Problems with news in ‘NEWS’:
  Cannot process chunk/lines:
    Version 1.99.6 released in Bioconductor 3.1 as Version 2.1.0.
  Cannot process chunk/lines:
    Version 0.99.1 was released on Bioconductor on 28 July 2014
* checking code files for non-ASCII characters ... OK
* checking R files for syntax errors ... OK
* checking whether the package can be loaded ... OK
* checking whether the package can be loaded with stated dependencies ... OK
* checking whether the package can be unloaded cleanly ... OK
* checking whether the namespace can be loaded with stated dependencies ... OK
* checking whether the namespace can be unloaded cleanly ... OK
* checking loading without being on the library search path ... OK
* checking dependencies in R code ... OK
* checking S3 generic/method consistency ... OK
* checking replacement functions ... OK
* checking foreign function calls ... OK
* checking R code for possible problems ... NOTE
.readExon: no visible global function definition for ‘read.table’
.readIntron: no visible global function definition for ‘read.table’
.readTranscript: no visible global function definition for ‘read.table’
assessSim: no visible global function definition for ‘read.table’
assessSim: no visible global function definition for ‘lines’
assessSim: no visible global function definition for ‘legend’
ballgown: no visible global function definition for ‘read.table’
ballgownrsem: no visible global function definition for ‘read.table’
ballgownrsem : <anonymous>: no visible global function definition for
  ‘read.table’
checkAssembledTx: no visible global function definition for ‘par’
checkAssembledTx: no visible global function definition for ‘polygon’
checkAssembledTx: no visible global function definition for ‘lines’
checkAssembledTx: no visible global function definition for ‘abline’
checkAssembledTx: no visible global function definition for ‘title’
checkAssembledTx: no visible global function definition for ‘axis’
closestColor: no visible global function definition for ‘heat.colors’
clusterTranscripts: no visible global function definition for ‘cutree’
clusterTranscripts: no visible global function definition for ‘hclust’
clusterTranscripts: no visible global function definition for ‘as.dist’
clusterTranscripts: no visible global function definition for ‘kmeans’
gffRead: no visible global function definition for ‘read.table’
plotMeans: no visible global function definition for ‘par’
plotMeans: no visible global function definition for ‘polygon’
plotMeans: no visible global function definition for ‘lines’
plotMeans: no visible global function definition for ‘heat.colors’
plotMeans: no visible global function definition for ‘text’
plotMeans: no visible global function definition for ‘axis’
plotTranscripts: no visible global function definition for ‘par’
plotTranscripts: no visible global function definition for ‘title’
plotTranscripts: no visible global function definition for ‘polygon’
plotTranscripts: no visible global function definition for ‘lines’
plotTranscripts: no visible global function definition for
  ‘heat.colors’
plotTranscripts: no visible global function definition for ‘text’
plotTranscripts: no visible global function definition for ‘axis’
stattest: no visible global function definition for ‘model.matrix’
stattest: no visible global function definition for ‘p.adjust’
writeFiles: no visible global function definition for ‘write.table’
subset,ballgown: no visible binding for global variable ‘i_id’
subset,ballgown: no visible binding for global variable ‘e_id’
subset,ballgown: no visible binding for global variable ‘t_id’
Undefined global functions or variables:
  abline as.dist axis cutree e_id hclust heat.colors i_id kmeans legend
  lines model.matrix p.adjust par polygon read.table t_id text title
  write.table
Consider adding
  importFrom("grDevices", "heat.colors")
  importFrom("graphics", "abline", "axis", "legend", "lines", "par",
             "polygon", "text", "title")
  importFrom("stats", "as.dist", "cutree", "hclust", "kmeans",
             "model.matrix", "p.adjust")
  importFrom("utils", "read.table", "write.table")
to your NAMESPACE file.
* checking Rd files ... OK
* checking Rd metadata ... OK
* checking Rd cross-references ... OK
* checking for missing documentation entries ... OK
* checking for code/documentation mismatches ... OK
* checking Rd \usage sections ... OK
* checking Rd contents ... OK
* checking for unstated dependencies in examples ... OK
* checking contents of ‘data’ directory ... OK
* checking data for non-ASCII characters ... OK
* checking data for ASCII and uncompressed saves ... OK
* checking files in ‘vignettes’ ... OK
* checking examples ... OK
Examples with CPU (user + system) or elapsed time > 5s
                    user system elapsed
annotate_assembly 24.369  0.974  25.354
contains          11.910  0.863  12.774
* checking for unstated dependencies in ‘tests’ ... OK
* checking tests ...
  Running ‘test-all.R’
 ERROR
Running the tests in ‘tests/test-all.R’ failed.
Last 13 lines of output:
  
  Saving _problems/test-annotation-42.R
  [ FAIL 1 | WARN 32 | SKIP 0 | PASS 127 ]
  
  ══ Failed tests ════════════════════════════════════════════════════════════════
  ── Error ('test-annotation.R:41:5'): splitting attribute fields works ──────────
  Error in `is_true()`: could not find function "is_true"
  Backtrace:
      ▆
   1. └─testthat::expect_that(...) at test-annotation.R:41:5
  
  [ FAIL 1 | WARN 32 | SKIP 0 | PASS 127 ]
  Error:
  ! Test failures.
  Execution halted
* checking for unstated dependencies in vignettes ... OK
* checking package vignettes ... OK
* checking re-building of vignette outputs ... OK
* checking PDF version of manual ... OK
* DONE

Status: 1 ERROR, 2 NOTEs
See
  ‘/home/biocbuild/bbs-3.22-bioc/meat/ballgown.Rcheck/00check.log’
for details.


Installation output

ballgown.Rcheck/00install.out

##############################################################################
##############################################################################
###
### Running command:
###
###   /home/biocbuild/bbs-3.22-bioc/R/bin/R CMD INSTALL ballgown
###
##############################################################################
##############################################################################


* installing to library ‘/home/biocbuild/bbs-3.22-bioc/R/site-library’
* installing *source* package ‘ballgown’ ...
** this is package ‘ballgown’ version ‘2.42.0’
** using staged installation
** R
** data
** inst
** byte-compile and prepare package for lazy loading
Creating a new generic function for ‘structure’ in package ‘ballgown’
** help
*** installing help indices
** building package indices
** installing vignettes
** testing if installed package can be loaded from temporary location
** testing if installed package can be loaded from final location
** testing if installed package keeps a record of temporary installation path
* DONE (ballgown)

Tests output

ballgown.Rcheck/tests/test-all.Rout.fail


R version 4.5.2 (2025-10-31) -- "[Not] Part in a Rumble"
Copyright (C) 2025 The R Foundation for Statistical Computing
Platform: x86_64-pc-linux-gnu

R is free software and comes with ABSOLUTELY NO WARRANTY.
You are welcome to redistribute it under certain conditions.
Type 'license()' or 'licence()' for distribution details.

R is a collaborative project with many contributors.
Type 'contributors()' for more information and
'citation()' on how to cite R or R packages in publications.

Type 'demo()' for some demos, 'help()' for on-line help, or
'help.start()' for an HTML browser interface to help.
Type 'q()' to quit R.

> library(testthat)
> test_check('ballgown')
Loading required package: ballgown

Attaching package: 'ballgown'

The following object is masked from 'package:base':

    structure

Saving _problems/test-annotation-42.R
[ FAIL 1 | WARN 32 | SKIP 0 | PASS 127 ]

══ Failed tests ════════════════════════════════════════════════════════════════
── Error ('test-annotation.R:41:5'): splitting attribute fields works ──────────
Error in `is_true()`: could not find function "is_true"
Backtrace:
    ▆
 1. └─testthat::expect_that(...) at test-annotation.R:41:5

[ FAIL 1 | WARN 32 | SKIP 0 | PASS 127 ]
Error:
! Test failures.
Execution halted

Example timings

ballgown.Rcheck/ballgown-Ex.timings

nameusersystemelapsed
annotate_assembly24.369 0.97425.354
ballgown-class0.0620.0070.070
ballgown-constructor0.1870.0150.201
ballgownrsem1.5070.1601.668
bg0.0270.0030.031
checkAssembledTx000
clusterTranscripts0.3370.0300.367
collapseTranscripts0.4140.0200.434
contains11.910 0.86312.774
dirs0.0240.0060.030
eexpr0.0300.0040.034
expr-replace0.0300.0040.034
expr0.0280.0020.030
exprfilter0.0620.0010.063
geneIDs0.030.000.03
geneNames0.3110.0170.328
getAttributeField0.7570.0470.804
getGenes0.2820.0270.309
gexpr0.1080.0140.122
gffRead0.0910.0010.092
gffReadGR0.3100.0610.371
iexpr0.0310.0020.033
indexes-replace0.0290.0010.030
indexes0.0310.0010.032
last0.0010.0000.001
mergedDate0.030.000.03
pData-replace0.0300.0010.032
pData0.0280.0020.031
pctOverlap0.2480.0190.267
plotLatentTranscripts000
plotMeans000
plotTranscripts000
sampleNames0.0280.0010.029
seqnames0.0280.0020.030
stattest1.1950.7331.928
structure0.0400.0010.041
subset0.1480.0000.149
tGene0.0340.0000.034
texpr0.030.000.03
transcriptIDs0.0280.0010.029
transcriptNames0.0290.0010.030
writeFiles000