| Back to Multiple platform build/check report for BioC 3.21: simplified long |
|
This page was generated on 2025-10-09 11:41 -0400 (Thu, 09 Oct 2025).
| Hostname | OS | Arch (*) | R version | Installed pkgs |
|---|---|---|---|---|
| nebbiolo1 | Linux (Ubuntu 24.04.3 LTS) | x86_64 | 4.5.1 (2025-06-13) -- "Great Square Root" | 4832 |
| merida1 | macOS 12.7.5 Monterey | x86_64 | 4.5.1 RC (2025-06-05 r88288) -- "Great Square Root" | 4613 |
| kjohnson1 | macOS 13.6.6 Ventura | arm64 | 4.5.1 Patched (2025-06-14 r88325) -- "Great Square Root" | 4554 |
| kunpeng2 | Linux (openEuler 24.03 LTS) | aarch64 | R Under development (unstable) (2025-02-19 r87757) -- "Unsuffered Consequences" | 4585 |
| Click on any hostname to see more info about the system (e.g. compilers) (*) as reported by 'uname -p', except on Windows and Mac OS X | ||||
| Package 68/2341 | Hostname | OS / Arch | INSTALL | BUILD | CHECK | BUILD BIN | ||||||||
| animalcules 1.24.0 (landing page) Jessica McClintock
| nebbiolo1 | Linux (Ubuntu 24.04.3 LTS) / x86_64 | OK | OK | OK | |||||||||
| merida1 | macOS 12.7.5 Monterey / x86_64 | OK | OK | OK | OK | |||||||||
| kjohnson1 | macOS 13.6.6 Ventura / arm64 | OK | OK | OK | OK | |||||||||
| kunpeng2 | Linux (openEuler 24.03 LTS) / aarch64 | OK | OK | OK | ||||||||||
|
To the developers/maintainers of the animalcules package: - Allow up to 24 hours (and sometimes 48 hours) for your latest push to git@git.bioconductor.org:packages/animalcules.git to reflect on this report. See Troubleshooting Build Report for more information. - Use the following Renviron settings to reproduce errors and warnings. - If 'R CMD check' started to fail recently on the Linux builder(s) over a missing dependency, add the missing dependency to 'Suggests:' in your DESCRIPTION file. See Renviron.bioc for more information. - See Martin Grigorov's blog post for how to debug Linux ARM64 related issues on a x86_64 host. |
| Package: animalcules |
| Version: 1.24.0 |
| Command: /home/biocbuild/R/R/bin/R CMD check --install=check:animalcules.install-out.txt --library=/home/biocbuild/R/R/site-library --no-vignettes --timings animalcules_1.24.0.tar.gz |
| StartedAt: 2025-10-07 06:22:20 -0000 (Tue, 07 Oct 2025) |
| EndedAt: 2025-10-07 06:28:24 -0000 (Tue, 07 Oct 2025) |
| EllapsedTime: 363.6 seconds |
| RetCode: 0 |
| Status: OK |
| CheckDir: animalcules.Rcheck |
| Warnings: 0 |
##############################################################################
##############################################################################
###
### Running command:
###
### /home/biocbuild/R/R/bin/R CMD check --install=check:animalcules.install-out.txt --library=/home/biocbuild/R/R/site-library --no-vignettes --timings animalcules_1.24.0.tar.gz
###
##############################################################################
##############################################################################
* using log directory ‘/home/biocbuild/bbs-3.21-bioc/meat/animalcules.Rcheck’
* using R Under development (unstable) (2025-02-19 r87757)
* using platform: aarch64-unknown-linux-gnu
* R was compiled by
aarch64-unknown-linux-gnu-gcc (GCC) 14.2.0
GNU Fortran (GCC) 14.2.0
* running under: openEuler 24.03 (LTS-SP1)
* using session charset: UTF-8
* using option ‘--no-vignettes’
* checking for file ‘animalcules/DESCRIPTION’ ... OK
* this is package ‘animalcules’ version ‘1.24.0’
* package encoding: UTF-8
* checking package namespace information ... OK
* checking package dependencies ... INFO
Imports includes 31 non-default packages.
Importing from so many packages makes the package vulnerable to any of
them becoming unavailable. Move as many as possible to Suggests and
use conditionally.
* checking if this is a source package ... OK
* checking if there is a namespace ... OK
* checking for hidden files and directories ... OK
* checking for portable file names ... OK
* checking for sufficient/correct file permissions ... OK
* checking whether package ‘animalcules’ can be installed ... OK
* checking installed package size ... OK
* checking package directory ... OK
* checking ‘build’ directory ... OK
* checking DESCRIPTION meta-information ... OK
* checking top-level files ... OK
* checking for left-over files ... OK
* checking index information ... OK
* checking package subdirectories ... OK
* checking code files for non-ASCII characters ... OK
* checking R files for syntax errors ... OK
* checking whether the package can be loaded ... OK
* checking whether the package can be loaded with stated dependencies ... OK
* checking whether the package can be unloaded cleanly ... OK
* checking whether the namespace can be loaded with stated dependencies ... OK
* checking whether the namespace can be unloaded cleanly ... OK
* checking loading without being on the library search path ... OK
* checking dependencies in R code ... OK
* checking S3 generic/method consistency ... OK
* checking replacement functions ... OK
* checking foreign function calls ... OK
* checking R code for possible problems ... OK
* checking Rd files ... OK
* checking Rd metadata ... OK
* checking Rd cross-references ... OK
* checking for missing documentation entries ... OK
* checking for code/documentation mismatches ... OK
* checking Rd \usage sections ... OK
* checking Rd contents ... OK
* checking for unstated dependencies in examples ... OK
* checking files in ‘vignettes’ ... OK
* checking examples ... OK
Examples with CPU (user + system) or elapsed time > 5s
user system elapsed
dimred_tsne 8.839 0.012 8.876
find_biomarker 5.707 0.069 5.922
differential_abundance 5.607 0.044 5.668
* checking for unstated dependencies in ‘tests’ ... OK
* checking tests ...
Running ‘testthat.R’
OK
* checking for unstated dependencies in vignettes ... OK
* checking package vignettes ... OK
* checking running R code from vignettes ... SKIPPED
* checking re-building of vignette outputs ... SKIPPED
* checking PDF version of manual ... OK
* DONE
Status: OK
animalcules.Rcheck/00install.out
############################################################################## ############################################################################## ### ### Running command: ### ### /home/biocbuild/R/R/bin/R CMD INSTALL animalcules ### ############################################################################## ############################################################################## * installing to library ‘/home/biocbuild/R/R-devel_2025-02-19/site-library’ * installing *source* package ‘animalcules’ ... ** this is package ‘animalcules’ version ‘1.24.0’ ** using staged installation ** R ** inst ** byte-compile and prepare package for lazy loading ** help *** installing help indices ** building package indices ** installing vignettes ** testing if installed package can be loaded from temporary location ** testing if installed package can be loaded from final location ** testing if installed package keeps a record of temporary installation path * DONE (animalcules)
animalcules.Rcheck/tests/testthat.Rout
R Under development (unstable) (2025-02-19 r87757) -- "Unsuffered Consequences"
Copyright (C) 2025 The R Foundation for Statistical Computing
Platform: aarch64-unknown-linux-gnu
R is free software and comes with ABSOLUTELY NO WARRANTY.
You are welcome to redistribute it under certain conditions.
Type 'license()' or 'licence()' for distribution details.
R is a collaborative project with many contributors.
Type 'contributors()' for more information and
'citation()' on how to cite R or R packages in publications.
Type 'demo()' for some demos, 'help()' for on-line help, or
'help.start()' for an HTML browser interface to help.
Type 'q()' to quit R.
> library(testthat)
> library(animalcules)
>
> test_check("animalcules")
[ FAIL 0 | WARN 0 | SKIP 0 | PASS 38 ]
>
> proc.time()
user system elapsed
38.329 1.468 43.703
animalcules.Rcheck/animalcules-Ex.timings
| name | user | system | elapsed | |
| alpha_div_boxplot | 0.717 | 0.084 | 0.817 | |
| alpha_div_test | 0.004 | 0.000 | 0.004 | |
| counts_to_logcpm | 0.001 | 0.000 | 0.001 | |
| counts_to_relabu | 0.000 | 0.002 | 0.003 | |
| df_char_to_factor | 0.000 | 0.000 | 0.001 | |
| differential_abundance | 5.607 | 0.044 | 5.668 | |
| dimred_pca | 0.213 | 0.008 | 0.223 | |
| dimred_pcoa | 0.283 | 0.004 | 0.288 | |
| dimred_tsne | 8.839 | 0.012 | 8.876 | |
| dimred_umap | 0.551 | 0.004 | 0.556 | |
| diversities | 0.001 | 0.000 | 0.001 | |
| diversities_help | 0.001 | 0.000 | 0.000 | |
| diversity_beta_boxplot | 0.294 | 0.000 | 0.294 | |
| diversity_beta_heatmap | 0.260 | 0.008 | 0.269 | |
| diversity_beta_test | 0.253 | 0.000 | 0.253 | |
| do_alpha_div_test | 0.060 | 0.004 | 0.063 | |
| filter_categorize | 0.385 | 0.024 | 0.410 | |
| filter_summary_bar_density | 0.354 | 0.024 | 0.380 | |
| filter_summary_pie_box | 0.303 | 0.004 | 0.307 | |
| find_biomarker | 5.707 | 0.069 | 5.922 | |
| find_taxon_mat | 0.235 | 0.036 | 3.324 | |
| find_taxonomy | 0.034 | 0.003 | 0.737 | |
| find_taxonomy_300 | 0.030 | 0.008 | 0.771 | |
| gini_simpson | 0.001 | 0.000 | 0.000 | |
| grep_tid | 0.001 | 0.000 | 0.000 | |
| inverse_simpson | 0 | 0 | 0 | |
| is_categorical | 0 | 0 | 0 | |
| is_integer0 | 0 | 0 | 0 | |
| is_integer1 | 0 | 0 | 0 | |
| mae_pick_organisms | 0.141 | 0.008 | 0.150 | |
| mae_pick_samples | 0.185 | 0.004 | 0.190 | |
| pct2str | 0 | 0 | 0 | |
| percent | 0 | 0 | 0 | |
| relabu_barplot | 1.600 | 0.060 | 1.663 | |
| relabu_boxplot | 0.165 | 0.024 | 0.190 | |
| relabu_heatmap | 0.171 | 0.004 | 0.175 | |
| run_animalcules | 0 | 0 | 0 | |
| shannon | 0 | 0 | 0 | |
| simpson_index | 0 | 0 | 0 | |
| upsample_counts | 0.017 | 0.000 | 0.017 | |