| Back to Multiple platform build/check report for BioC 3.21: simplified long | 
 | 
This page was generated on 2025-08-18 11:41 -0400 (Mon, 18 Aug 2025).
| Hostname | OS | Arch (*) | R version | Installed pkgs | 
|---|---|---|---|---|
| nebbiolo1 | Linux (Ubuntu 24.04.3 LTS) | x86_64 | 4.5.1 (2025-06-13) -- "Great Square Root" | 4824 | 
| palomino7 | Windows Server 2022 Datacenter | x64 | 4.5.1 (2025-06-13 ucrt) -- "Great Square Root" | 4566 | 
| merida1 | macOS 12.7.5 Monterey | x86_64 | 4.5.1 RC (2025-06-05 r88288) -- "Great Square Root" | 4604 | 
| kjohnson1 | macOS 13.6.6 Ventura | arm64 | 4.5.1 Patched (2025-06-14 r88325) -- "Great Square Root" | 4545 | 
| kunpeng2 | Linux (openEuler 24.03 LTS) | aarch64 | R Under development (unstable) (2025-02-19 r87757) -- "Unsuffered Consequences" | 4579 | 
| Click on any hostname to see more info about the system (e.g. compilers) (*) as reported by 'uname -p', except on Windows and Mac OS X | ||||
| Package 24/2341 | Hostname | OS / Arch | INSTALL | BUILD | CHECK | BUILD BIN | ||||||||
| affy 1.86.0  (landing page) Robert D. Shear 
 | nebbiolo1 | Linux (Ubuntu 24.04.3 LTS) / x86_64 | OK | OK | WARNINGS |  | ||||||||
| palomino7 | Windows Server 2022 Datacenter / x64 | OK | OK | WARNINGS | OK |  | ||||||||
| merida1 | macOS 12.7.5 Monterey / x86_64 | OK | OK | WARNINGS | OK |  | ||||||||
| kjohnson1 | macOS 13.6.6 Ventura / arm64 | OK | OK | WARNINGS | OK |  | ||||||||
| kunpeng2 | Linux (openEuler 24.03 LTS) / aarch64 | OK | OK | WARNINGS | ||||||||||
| To the developers/maintainers of the affy package: - Allow up to 24 hours (and sometimes 48 hours) for your latest push to git@git.bioconductor.org:packages/affy.git to reflect on this report. See Troubleshooting Build Report for more information. - Use the following Renviron settings to reproduce errors and warnings. - If 'R CMD check' started to fail recently on the Linux builder(s) over a missing dependency, add the missing dependency to 'Suggests:' in your DESCRIPTION file. See Renviron.bioc for more information. | 
| Package: affy | 
| Version: 1.86.0 | 
| Command: rm -rf affy.buildbin-libdir && mkdir affy.buildbin-libdir && E:\biocbuild\bbs-3.21-bioc\R\bin\R.exe CMD INSTALL --build --library=affy.buildbin-libdir affy_1.86.0.tar.gz | 
| StartedAt: 2025-08-15 08:43:01 -0400 (Fri, 15 Aug 2025) | 
| EndedAt: 2025-08-15 08:44:09 -0400 (Fri, 15 Aug 2025) | 
| EllapsedTime: 67.5 seconds | 
| RetCode: 0 | 
| Status: OK | 
| PackageFile: affy_1.86.0.zip | 
| PackageFileSize: 1.491 MiB | 
##############################################################################
##############################################################################
###
### Running command:
###
###   rm -rf affy.buildbin-libdir && mkdir affy.buildbin-libdir && E:\biocbuild\bbs-3.21-bioc\R\bin\R.exe CMD INSTALL --build --library=affy.buildbin-libdir affy_1.86.0.tar.gz
###
##############################################################################
##############################################################################
* installing *source* package 'affy' ...
** this is package 'affy' version '1.86.0'
** using staged installation
   **********************************************
   WARNING: this package has a configure script
         It probably needs manual configuration
   **********************************************
** libs
using C compiler: 'gcc.exe (GCC) 14.2.0'
gcc   -I"E:/biocbuild/bbs-3.21-bioc/R/include" -DNDEBUG -DHAVE_ZLIB -I'E:/biocbuild/bbs-3.21-bioc/R/library/preprocessCore/include'   -I"C:/rtools45/x86_64-w64-mingw32.static.posix/include"      -O2 -Wall -std=gnu2x  -mfpmath=sse -msse2 -mstackrealign   -c chipbackground.c -o chipbackground.o
gcc   -I"E:/biocbuild/bbs-3.21-bioc/R/include" -DNDEBUG -DHAVE_ZLIB -I'E:/biocbuild/bbs-3.21-bioc/R/library/preprocessCore/include'   -I"C:/rtools45/x86_64-w64-mingw32.static.posix/include"      -O2 -Wall -std=gnu2x  -mfpmath=sse -msse2 -mstackrealign   -c getall_locations.c -o getall_locations.o
gcc   -I"E:/biocbuild/bbs-3.21-bioc/R/include" -DNDEBUG -DHAVE_ZLIB -I'E:/biocbuild/bbs-3.21-bioc/R/library/preprocessCore/include'   -I"C:/rtools45/x86_64-w64-mingw32.static.posix/include"      -O2 -Wall -std=gnu2x  -mfpmath=sse -msse2 -mstackrealign   -c mas5calls.c -o mas5calls.o
gcc   -I"E:/biocbuild/bbs-3.21-bioc/R/include" -DNDEBUG -DHAVE_ZLIB -I'E:/biocbuild/bbs-3.21-bioc/R/library/preprocessCore/include'   -I"C:/rtools45/x86_64-w64-mingw32.static.posix/include"      -O2 -Wall -std=gnu2x  -mfpmath=sse -msse2 -mstackrealign   -c rma2.c -o rma2.o
gcc   -I"E:/biocbuild/bbs-3.21-bioc/R/include" -DNDEBUG -DHAVE_ZLIB -I'E:/biocbuild/bbs-3.21-bioc/R/library/preprocessCore/include'   -I"C:/rtools45/x86_64-w64-mingw32.static.posix/include"      -O2 -Wall -std=gnu2x  -mfpmath=sse -msse2 -mstackrealign   -c rma_common.c -o rma_common.o
gcc -shared -s -static-libgcc -o affy.dll tmp.def chipbackground.o getall_locations.o mas5calls.o rma2.o rma_common.o -lz -LC:/rtools45/x86_64-w64-mingw32.static.posix/lib/x64 -LC:/rtools45/x86_64-w64-mingw32.static.posix/lib -LE:/biocbuild/bbs-3.21-bioc/R/bin/x64 -lR
installing to E:/biocbuild/bbs-3.21-bioc/meat/affy.buildbin-libdir/00LOCK-affy/00new/affy/libs/x64
** R
** data
** demo
** inst
** byte-compile and prepare package for lazy loading
** help
*** installing help indices
** building package indices
** installing vignettes
** testing if installed package can be loaded from temporary location
** testing if installed package can be loaded from final location
** testing if installed package keeps a record of temporary installation path
* MD5 sums
packaged installation of 'affy' as affy_1.86.0.zip
* DONE (affy)