Back to Multiple platform build/check report for BioC 3.22:   simplified   long
ABCDEFGHIJKLMNOPQRSTUVW[X]YZ

This page was generated on 2025-11-12 11:57 -0500 (Wed, 12 Nov 2025).

HostnameOSArch (*)R versionInstalled pkgs
nebbiolo2Linux (Ubuntu 24.04.3 LTS)x86_644.5.1 Patched (2025-08-23 r88802) -- "Great Square Root" 4902
taishanLinux (openEuler 24.03 LTS)aarch644.5.0 (2025-04-11) -- "How About a Twenty-Six" 4668
Click on any hostname to see more info about the system (e.g. compilers)      (*) as reported by 'uname -p', except on Windows and Mac OS X

All results for package XVector


To the developers/maintainers of the XVector package:
- Allow up to 24 hours (and sometimes 48 hours) for your latest push to git@git.bioconductor.org:packages/XVector.git to reflect on this report. See Troubleshooting Build Report for more information.
- Use the following Renviron settings to reproduce errors and warnings.
- If 'R CMD check' started to fail recently on the Linux builder(s) over a missing dependency, add the missing dependency to 'Suggests:' in your DESCRIPTION file. See Renviron.bioc for more information.

raw results

Package 2352/2361HostnameOS / ArchINSTALLBUILDCHECKBUILD BIN
XVector 0.50.0  (landing page)
Hervé Pagès
Snapshot Date: 2025-11-11 13:45 -0500 (Tue, 11 Nov 2025)
git_url: https://git.bioconductor.org/packages/XVector
git_branch: RELEASE_3_22
git_last_commit: 6b7e2a1
git_last_commit_date: 2025-10-29 10:14:52 -0500 (Wed, 29 Oct 2025)
nebbiolo2Linux (Ubuntu 24.04.3 LTS) / x86_64  OK    OK    WARNINGS  UNNEEDED, same version is already published
taishanLinux (openEuler 24.03 LTS) / aarch64  OK    OK    WARNINGS  



Results for Bioconductor software packages that depend directly on package XVector

QUICK STATSOS / ArchINSTALLBUILDCHECKBUILD BIN
nebbiolo2Linux (Ubuntu 24.04.3 LTS) / x86_64
0037
0136
001224
taishanLinux (openEuler 24.03 LTS) / aarch64
0136
0334
111022
Package 1/37HostnameOS / ArchINSTALLBUILDCHECKBUILD BIN
Bioc.gff 1.0.0  (landing page)
Bioconductor Package Maintainer
git_last_commit: 5bbebde
git_last_commit_date: 2025-10-29 11:37:35 -0500
nebbiolo2Linux (Ubuntu 24.04.3 LTS) / x86_64  OK    OK    OK  UNNEEDED, same version is already published
taishanLinux (openEuler 24.03 LTS) / aarch64  OK    OK    OK  
Package 2/37HostnameOS / ArchINSTALLBUILDCHECKBUILD BIN
Biostrings 2.78.0  (landing page)
Hervé Pagès
git_last_commit: eda5d66
git_last_commit_date: 2025-10-29 13:43:31 -0500
nebbiolo2Linux (Ubuntu 24.04.3 LTS) / x86_64  OK    OK    WARNINGS  UNNEEDED, same version is already published
taishanLinux (openEuler 24.03 LTS) / aarch64  OK    OK    WARNINGS  
Package 3/37HostnameOS / ArchINSTALLBUILDCHECKBUILD BIN
BSgenome 1.78.0  (landing page)
Hervé Pagès
git_last_commit: 8f40a31
git_last_commit_date: 2025-10-29 14:19:23 -0500
nebbiolo2Linux (Ubuntu 24.04.3 LTS) / x86_64  OK    OK    WARNINGS  UNNEEDED, same version is already published
taishanLinux (openEuler 24.03 LTS) / aarch64  OK    OK    WARNINGS  
Package 4/37HostnameOS / ArchINSTALLBUILDCHECKBUILD BIN
ChIPsim 1.64.0  (landing page)
Peter Humburg
git_last_commit: 4288ced
git_last_commit_date: 2025-10-29 10:03:24 -0500
nebbiolo2Linux (Ubuntu 24.04.3 LTS) / x86_64  OK    OK    OK  UNNEEDED, same version is already published
taishanLinux (openEuler 24.03 LTS) / aarch64  OK    OK    OK  
Package 5/37HostnameOS / ArchINSTALLBUILDCHECKBUILD BIN
CNEr 1.46.0  (landing page)
Boris Lenhard Damir Baranasic
git_last_commit: a5d64f4
git_last_commit_date: 2025-10-29 10:18:00 -0500
nebbiolo2Linux (Ubuntu 24.04.3 LTS) / x86_64  OK    OK    WARNINGS  UNNEEDED, same version is already published
taishanLinux (openEuler 24.03 LTS) / aarch64  OK    OK    WARNINGS  
Package 6/37HostnameOS / ArchINSTALLBUILDCHECKBUILD BIN
compEpiTools 1.44.0  (landing page)
Mattia Furlan
git_last_commit: 75ae4a8
git_last_commit_date: 2025-10-29 10:20:59 -0500
nebbiolo2Linux (Ubuntu 24.04.3 LTS) / x86_64  OK    OK    OK  UNNEEDED, same version is already published
taishanLinux (openEuler 24.03 LTS) / aarch64  OK    OK    OK  
Package 7/37HostnameOS / ArchINSTALLBUILDCHECKBUILD BIN
crisprScore 1.14.0  (landing page)
Jean-Philippe Fortin
git_last_commit: 86c5f68
git_last_commit_date: 2025-10-29 11:14:23 -0500
nebbiolo2Linux (Ubuntu 24.04.3 LTS) / x86_64  OK    OK    OK  UNNEEDED, same version is already published
taishanLinux (openEuler 24.03 LTS) / aarch64  OK    OK    OK  
Package 8/37HostnameOS / ArchINSTALLBUILDCHECKBUILD BIN
CRISPRseek 1.50.0  (landing page)
Lihua Julie Zhu
git_last_commit: fd2babc
git_last_commit_date: 2025-10-29 10:17:22 -0500
nebbiolo2Linux (Ubuntu 24.04.3 LTS) / x86_64  OK    OK    OK  UNNEEDED, same version is already published
taishanLinux (openEuler 24.03 LTS) / aarch64  OK    OK    OK  
Package 9/37HostnameOS / ArchINSTALLBUILDCHECKBUILD BIN
dada2 1.38.0  (landing page)
Benjamin Callahan
git_last_commit: 60234dd
git_last_commit_date: 2025-10-29 10:30:17 -0500
nebbiolo2Linux (Ubuntu 24.04.3 LTS) / x86_64  OK    OK    WARNINGS  UNNEEDED, same version is already published
taishanLinux (openEuler 24.03 LTS) / aarch64  OK    ERROR  skipped
Package 10/37HostnameOS / ArchINSTALLBUILDCHECKBUILD BIN
DECIPHER 3.6.0  (landing page)
Erik Wright
git_last_commit: e807f36
git_last_commit_date: 2025-10-29 10:09:13 -0500
nebbiolo2Linux (Ubuntu 24.04.3 LTS) / x86_64  OK    OK    OK  UNNEEDED, same version is already published
taishanLinux (openEuler 24.03 LTS) / aarch64  OK    OK    OK  
Package 11/37HostnameOS / ArchINSTALLBUILDCHECKBUILD BIN
gcrma 2.82.0  (landing page)
Z. Wu
git_last_commit: 3e3e0ce
git_last_commit_date: 2025-10-29 09:53:32 -0500
nebbiolo2Linux (Ubuntu 24.04.3 LTS) / x86_64  OK    OK    OK  UNNEEDED, same version is already published
taishanLinux (openEuler 24.03 LTS) / aarch64  OK    OK    OK  
Package 12/37HostnameOS / ArchINSTALLBUILDCHECKBUILD BIN
GenomAutomorphism 1.12.0  (landing page)
Robersy Sanchez
git_last_commit: bb13ab8
git_last_commit_date: 2025-10-29 11:17:59 -0500
nebbiolo2Linux (Ubuntu 24.04.3 LTS) / x86_64  OK    OK    OK  UNNEEDED, same version is already published
taishanLinux (openEuler 24.03 LTS) / aarch64  OK    OK    OK  
Package 13/37HostnameOS / ArchINSTALLBUILDCHECKBUILD BIN
GenomicFeatures 1.62.0  (landing page)
H. Pagès
git_last_commit: f4dfd41
git_last_commit_date: 2025-10-29 14:16:45 -0500
nebbiolo2Linux (Ubuntu 24.04.3 LTS) / x86_64  OK    OK    OK  UNNEEDED, same version is already published
taishanLinux (openEuler 24.03 LTS) / aarch64  OK    OK    OK  
Package 14/37HostnameOS / ArchINSTALLBUILDCHECKBUILD BIN
Gviz 1.54.0  (landing page)
Robert Ivanek
git_last_commit: 05ebfa6
git_last_commit_date: 2025-10-29 10:10:17 -0500
nebbiolo2Linux (Ubuntu 24.04.3 LTS) / x86_64  OK    OK    OK  UNNEEDED, same version is already published
taishanLinux (openEuler 24.03 LTS) / aarch64  OK    OK    OK  
Package 15/37HostnameOS / ArchINSTALLBUILDCHECKBUILD BIN
HiLDA 1.24.0  (landing page)
Zhi Yang
git_last_commit: 6a179d6
git_last_commit_date: 2025-10-29 10:53:14 -0500
nebbiolo2Linux (Ubuntu 24.04.3 LTS) / x86_64  OK    OK    OK  UNNEEDED, same version is already published
taishanLinux (openEuler 24.03 LTS) / aarch64  ERROR    ERROR  skipped
Package 16/37HostnameOS / ArchINSTALLBUILDCHECKBUILD BIN
IONiseR 2.34.0  (landing page)
Mike Smith
git_last_commit: 25723cd
git_last_commit_date: 2025-10-29 10:26:28 -0500
nebbiolo2Linux (Ubuntu 24.04.3 LTS) / x86_64  OK    OK    OK  UNNEEDED, same version is already published
taishanLinux (openEuler 24.03 LTS) / aarch64  OK    OK    OK  
Package 17/37HostnameOS / ArchINSTALLBUILDCHECKBUILD BIN
IsoformSwitchAnalyzeR 2.10.0  (landing page)
Kristoffer Vitting-Seerup
git_last_commit: 34e7c83
git_last_commit_date: 2025-10-29 10:38:58 -0500
nebbiolo2Linux (Ubuntu 24.04.3 LTS) / x86_64  OK    OK    OK  UNNEEDED, same version is already published
taishanLinux (openEuler 24.03 LTS) / aarch64  OK    OK    OK  
Package 18/37HostnameOS / ArchINSTALLBUILDCHECKBUILD BIN
kebabs 1.44.0  (landing page)
Ulrich Bodenhofer
git_last_commit: db39eb7
git_last_commit_date: 2025-10-29 10:22:35 -0500
nebbiolo2Linux (Ubuntu 24.04.3 LTS) / x86_64  OK    OK    OK  UNNEEDED, same version is already published
taishanLinux (openEuler 24.03 LTS) / aarch64  OK    OK    WARNINGS  
Package 19/37HostnameOS / ArchINSTALLBUILDCHECKBUILD BIN
MatrixRider 1.42.0  (landing page)
Elena Grassi
git_last_commit: a79a3cc
git_last_commit_date: 2025-10-29 10:24:34 -0500
nebbiolo2Linux (Ubuntu 24.04.3 LTS) / x86_64  OK    OK    WARNINGS  UNNEEDED, same version is already published
taishanLinux (openEuler 24.03 LTS) / aarch64  OK    OK    WARNINGS  
Package 20/37HostnameOS / ArchINSTALLBUILDCHECKBUILD BIN
Modstrings 1.26.0  (landing page)
Felix G.M. Ernst
git_last_commit: a4e48ba
git_last_commit_date: 2025-10-29 10:50:29 -0500
nebbiolo2Linux (Ubuntu 24.04.3 LTS) / x86_64  OK    OK    OK  UNNEEDED, same version is already published
taishanLinux (openEuler 24.03 LTS) / aarch64  OK    OK    OK  
Package 21/37HostnameOS / ArchINSTALLBUILDCHECKBUILD BIN
monaLisa 1.16.0  (landing page)
Michael Stadler
git_last_commit: fb7bf5b
git_last_commit_date: 2025-10-29 11:12:31 -0500
nebbiolo2Linux (Ubuntu 24.04.3 LTS) / x86_64  OK    OK    OK  UNNEEDED, same version is already published
taishanLinux (openEuler 24.03 LTS) / aarch64  OK    OK    OK  
Package 22/37HostnameOS / ArchINSTALLBUILDCHECKBUILD BIN
ProteoDisco 1.16.0  (landing page)
Job van Riet
git_last_commit: d4be16c
git_last_commit_date: 2025-10-29 11:11:51 -0500
nebbiolo2Linux (Ubuntu 24.04.3 LTS) / x86_64  OK    OK    WARNINGS  UNNEEDED, same version is already published
taishanLinux (openEuler 24.03 LTS) / aarch64  OK    OK    TIMEOUT  
Package 23/37HostnameOS / ArchINSTALLBUILDCHECKBUILD BIN
pwalign 1.6.0  (landing page)
Hervé Pagès
git_last_commit: fe44e6d
git_last_commit_date: 2025-10-29 14:26:00 -0500
nebbiolo2Linux (Ubuntu 24.04.3 LTS) / x86_64  OK    OK    OK  UNNEEDED, same version is already published
taishanLinux (openEuler 24.03 LTS) / aarch64  OK    OK    OK  
Package 24/37HostnameOS / ArchINSTALLBUILDCHECKBUILD BIN
R453Plus1Toolbox 1.60.0  (landing page)
Hans-Ulrich Klein
git_last_commit: d4c9421
git_last_commit_date: 2025-10-29 10:06:02 -0500
nebbiolo2Linux (Ubuntu 24.04.3 LTS) / x86_64  OK    ERROR  skipped
taishanLinux (openEuler 24.03 LTS) / aarch64  OK    ERROR  skipped
Package 25/37HostnameOS / ArchINSTALLBUILDCHECKBUILD BIN
ribosomeProfilingQC 1.22.0  (landing page)
Jianhong Ou
git_last_commit: d8ce3bd
git_last_commit_date: 2025-10-29 10:57:03 -0500
nebbiolo2Linux (Ubuntu 24.04.3 LTS) / x86_64  OK    OK    OK  UNNEEDED, same version is already published
taishanLinux (openEuler 24.03 LTS) / aarch64  OK    OK    OK  
Package 26/37HostnameOS / ArchINSTALLBUILDCHECKBUILD BIN
Rsamtools 2.26.0  (landing page)
Bioconductor Package Maintainer
git_last_commit: ea99fb0
git_last_commit_date: 2025-10-29 10:04:41 -0500
nebbiolo2Linux (Ubuntu 24.04.3 LTS) / x86_64  OK    OK    WARNINGS  UNNEEDED, same version is already published
taishanLinux (openEuler 24.03 LTS) / aarch64  OK    OK    WARNINGS  
Package 27/37HostnameOS / ArchINSTALLBUILDCHECKBUILD BIN
rtracklayer 1.70.0  (landing page)
Michael Lawrence
git_last_commit: b6dc2ec
git_last_commit_date: 2025-10-29 10:00:29 -0500
nebbiolo2Linux (Ubuntu 24.04.3 LTS) / x86_64  OK    OK    WARNINGS  UNNEEDED, same version is already published
taishanLinux (openEuler 24.03 LTS) / aarch64  OK    OK    WARNINGS  
Package 28/37HostnameOS / ArchINSTALLBUILDCHECKBUILD BIN
ShortRead 1.68.0  (landing page)
Bioconductor Package Maintainer
git_last_commit: df90c87
git_last_commit_date: 2025-10-29 10:00:34 -0500
nebbiolo2Linux (Ubuntu 24.04.3 LTS) / x86_64  OK    OK    WARNINGS  UNNEEDED, same version is already published
taishanLinux (openEuler 24.03 LTS) / aarch64  OK    OK    ERROR  
Package 29/37HostnameOS / ArchINSTALLBUILDCHECKBUILD BIN
SparseArray 1.10.1  (landing page)
Hervé Pagès
git_last_commit: b457b3d
git_last_commit_date: 2025-10-31 00:21:39 -0500
nebbiolo2Linux (Ubuntu 24.04.3 LTS) / x86_64  OK    OK    OK  UNNEEDED, same version is already published
taishanLinux (openEuler 24.03 LTS) / aarch64  OK    OK    OK  
Package 30/37HostnameOS / ArchINSTALLBUILDCHECKBUILD BIN
Structstrings 1.26.0  (landing page)
Felix G.M. Ernst
git_last_commit: bb58b12
git_last_commit_date: 2025-10-29 10:50:44 -0500
nebbiolo2Linux (Ubuntu 24.04.3 LTS) / x86_64  OK    OK    OK  UNNEEDED, same version is already published
taishanLinux (openEuler 24.03 LTS) / aarch64  OK    OK    OK  
Package 31/37HostnameOS / ArchINSTALLBUILDCHECKBUILD BIN
TFBSTools 1.48.0  (landing page)
Ge Tan
git_last_commit: 77e9a0e
git_last_commit_date: 2025-10-29 10:16:59 -0500
nebbiolo2Linux (Ubuntu 24.04.3 LTS) / x86_64  OK    OK    OK  UNNEEDED, same version is already published
taishanLinux (openEuler 24.03 LTS) / aarch64  OK    OK    OK  
Package 32/37HostnameOS / ArchINSTALLBUILDCHECKBUILD BIN
tracktables 1.44.0  (landing page)
Tom Carroll
git_last_commit: a3c4c40
git_last_commit_date: 2025-10-29 10:22:38 -0500
nebbiolo2Linux (Ubuntu 24.04.3 LTS) / x86_64  OK    OK    WARNINGS  UNNEEDED, same version is already published
taishanLinux (openEuler 24.03 LTS) / aarch64  OK    OK    WARNINGS  
Package 33/37HostnameOS / ArchINSTALLBUILDCHECKBUILD BIN
triplex 1.50.0  (landing page)
Jiri Hon
git_last_commit: 29318c0
git_last_commit_date: 2025-10-29 10:14:42 -0500
nebbiolo2Linux (Ubuntu 24.04.3 LTS) / x86_64  OK    OK    WARNINGS  UNNEEDED, same version is already published
taishanLinux (openEuler 24.03 LTS) / aarch64  OK    OK    WARNINGS  
Package 34/37HostnameOS / ArchINSTALLBUILDCHECKBUILD BIN
tRNA 1.28.0  (landing page)
Felix GM Ernst
git_last_commit: 3266a22
git_last_commit_date: 2025-10-29 10:48:20 -0500
nebbiolo2Linux (Ubuntu 24.04.3 LTS) / x86_64  OK    OK    OK  UNNEEDED, same version is already published
taishanLinux (openEuler 24.03 LTS) / aarch64  OK    OK    OK  
Package 35/37HostnameOS / ArchINSTALLBUILDCHECKBUILD BIN
tRNAscanImport 1.30.0  (landing page)
Felix G.M. Ernst
git_last_commit: ac13675
git_last_commit_date: 2025-10-29 10:43:40 -0500
nebbiolo2Linux (Ubuntu 24.04.3 LTS) / x86_64  OK    OK    OK  UNNEEDED, same version is already published
taishanLinux (openEuler 24.03 LTS) / aarch64  OK    OK    OK  
Package 36/37HostnameOS / ArchINSTALLBUILDCHECKBUILD BIN
VariantAnnotation 1.56.0  (landing page)
Bioconductor Package Maintainer
git_last_commit: dc8ecd1
git_last_commit_date: 2025-10-29 10:08:24 -0500
nebbiolo2Linux (Ubuntu 24.04.3 LTS) / x86_64  OK    OK    WARNINGS  UNNEEDED, same version is already published
taishanLinux (openEuler 24.03 LTS) / aarch64  OK    OK    WARNINGS  
Package 37/37HostnameOS / ArchINSTALLBUILDCHECKBUILD BIN
VariantFiltering 1.46.0  (landing page)
Robert Castelo
git_last_commit: 958023b
git_last_commit_date: 2025-10-29 10:19:08 -0500
nebbiolo2Linux (Ubuntu 24.04.3 LTS) / x86_64  OK    OK    OK  UNNEEDED, same version is already published
taishanLinux (openEuler 24.03 LTS) / aarch64  OK    OK    OK