Back to Multiple platform build/check report for BioC 3.21: simplified long |
|
This page was generated on 2025-10-16 11:39 -0400 (Thu, 16 Oct 2025).
Hostname | OS | Arch (*) | R version | Installed pkgs |
---|---|---|---|---|
nebbiolo1 | Linux (Ubuntu 24.04.3 LTS) | x86_64 | 4.5.1 (2025-06-13) -- "Great Square Root" | 4833 |
merida1 | macOS 12.7.6 Monterey | x86_64 | 4.5.1 RC (2025-06-05 r88288) -- "Great Square Root" | 4614 |
kjohnson1 | macOS 13.7.5 Ventura | arm64 | 4.5.1 Patched (2025-06-14 r88325) -- "Great Square Root" | 4555 |
kunpeng2 | Linux (openEuler 24.03 LTS) | aarch64 | R Under development (unstable) (2025-02-19 r87757) -- "Unsuffered Consequences" | 4586 |
Click on any hostname to see more info about the system (e.g. compilers) (*) as reported by 'uname -p', except on Windows and Mac OS X |
Package 2328/2341 | Hostname | OS / Arch | INSTALL | BUILD | CHECK | BUILD BIN | ||||||||
XINA 1.26.0 (landing page) Lang Ho Lee
| nebbiolo1 | Linux (Ubuntu 24.04.3 LTS) / x86_64 | OK | OK | OK | ![]() | ||||||||
merida1 | macOS 12.7.6 Monterey / x86_64 | OK | OK | OK | OK | ![]() | ||||||||
kjohnson1 | macOS 13.7.5 Ventura / arm64 | OK | OK | OK | OK | ![]() | ||||||||
kunpeng2 | Linux (openEuler 24.03 LTS) / aarch64 | OK | OK | NA | ||||||||||
To the developers/maintainers of the XINA package: - Allow up to 24 hours (and sometimes 48 hours) for your latest push to git@git.bioconductor.org:packages/XINA.git to reflect on this report. See Troubleshooting Build Report for more information. - Use the following Renviron settings to reproduce errors and warnings. - If 'R CMD check' started to fail recently on the Linux builder(s) over a missing dependency, add the missing dependency to 'Suggests:' in your DESCRIPTION file. See Renviron.bioc for more information. |
Package: XINA |
Version: 1.26.0 |
Command: /Library/Frameworks/R.framework/Resources/bin/R CMD check --install=check:XINA.install-out.txt --library=/Library/Frameworks/R.framework/Resources/library --no-vignettes --timings XINA_1.26.0.tar.gz |
StartedAt: 2025-10-14 12:20:18 -0400 (Tue, 14 Oct 2025) |
EndedAt: 2025-10-14 12:25:20 -0400 (Tue, 14 Oct 2025) |
EllapsedTime: 302.0 seconds |
RetCode: 0 |
Status: OK |
CheckDir: XINA.Rcheck |
Warnings: 0 |
############################################################################## ############################################################################## ### ### Running command: ### ### /Library/Frameworks/R.framework/Resources/bin/R CMD check --install=check:XINA.install-out.txt --library=/Library/Frameworks/R.framework/Resources/library --no-vignettes --timings XINA_1.26.0.tar.gz ### ############################################################################## ############################################################################## * using log directory ‘/Users/biocbuild/bbs-3.21-bioc/meat/XINA.Rcheck’ * using R version 4.5.1 RC (2025-06-05 r88288) * using platform: x86_64-apple-darwin20 * R was compiled by Apple clang version 14.0.0 (clang-1400.0.29.202) GNU Fortran (GCC) 14.2.0 * running under: macOS Monterey 12.7.6 * using session charset: UTF-8 * using option ‘--no-vignettes’ * checking for file ‘XINA/DESCRIPTION’ ... OK * checking extension type ... Package * this is package ‘XINA’ version ‘1.26.0’ * package encoding: UTF-8 * checking package namespace information ... OK * checking package dependencies ... OK * checking if this is a source package ... OK * checking if there is a namespace ... OK * checking for hidden files and directories ... OK * checking for portable file names ... OK * checking for sufficient/correct file permissions ... OK * checking whether package ‘XINA’ can be installed ... OK * checking installed package size ... OK * checking package directory ... OK * checking ‘build’ directory ... OK * checking DESCRIPTION meta-information ... OK * checking top-level files ... OK * checking for left-over files ... OK * checking index information ... OK * checking package subdirectories ... OK * checking code files for non-ASCII characters ... OK * checking R files for syntax errors ... OK * checking whether the package can be loaded ... OK * checking whether the package can be loaded with stated dependencies ... OK * checking whether the package can be unloaded cleanly ... OK * checking whether the namespace can be loaded with stated dependencies ... OK * checking whether the namespace can be unloaded cleanly ... OK * checking dependencies in R code ... OK * checking S3 generic/method consistency ... OK * checking replacement functions ... OK * checking foreign function calls ... OK * checking R code for possible problems ... OK * checking Rd files ... OK * checking Rd metadata ... OK * checking Rd cross-references ... NOTE Non-topic package-anchored link(s) in Rd file 'xina_enrichment.Rd': ‘[STRINGdb]{get_enrichment}’ Non-topic package-anchored link(s) in Rd file 'xina_plot_single.Rd': ‘[base]{Round}’ See section 'Cross-references' in the 'Writing R Extensions' manual. * checking for missing documentation entries ... OK * checking for code/documentation mismatches ... OK * checking Rd \usage sections ... OK * checking Rd contents ... OK * checking for unstated dependencies in examples ... OK * checking contents of ‘data’ directory ... OK * checking data for non-ASCII characters ... OK * checking data for ASCII and uncompressed saves ... OK * checking files in ‘vignettes’ ... OK * checking examples ... OK Examples with CPU (user + system) or elapsed time > 5s user system elapsed xina_clustering 44.251 0.386 47.660 plot_condition_compositions 43.314 0.396 50.249 plot_clusters 26.063 0.179 27.539 mutate_colors 25.186 0.218 26.115 get_condition_biased_comigrations 14.846 0.058 14.968 xina_plot_all 8.936 0.374 9.418 alluvial_enriched 5.237 0.159 5.464 plot_clusters_all 4.830 0.064 5.051 * checking for unstated dependencies in vignettes ... OK * checking package vignettes ... OK * checking running R code from vignettes ... SKIPPED * checking re-building of vignette outputs ... SKIPPED * checking PDF version of manual ... OK * DONE Status: 1 NOTE See ‘/Users/biocbuild/bbs-3.21-bioc/meat/XINA.Rcheck/00check.log’ for details.
XINA.Rcheck/00install.out
############################################################################## ############################################################################## ### ### Running command: ### ### /Library/Frameworks/R.framework/Resources/bin/R CMD INSTALL XINA ### ############################################################################## ############################################################################## * installing to library ‘/Library/Frameworks/R.framework/Versions/4.5-x86_64/Resources/library’ * installing *source* package ‘XINA’ ... ** this is package ‘XINA’ version ‘1.26.0’ ** using staged installation ** R ** data ** inst ** byte-compile and prepare package for lazy loading ** help *** installing help indices ** building package indices ** installing vignettes ** testing if installed package can be loaded from temporary location ** testing if installed package can be loaded from final location ** testing if installed package keeps a record of temporary installation path * DONE (XINA)
XINA.Rcheck/XINA-Ex.timings
name | user | system | elapsed | |
alluvial_enriched | 5.237 | 0.159 | 5.464 | |
draw_alluvial_plot | 0.095 | 0.018 | 0.114 | |
get_comigrations_by_name | 0.060 | 0.007 | 0.068 | |
get_condition_biased_comigrations | 14.846 | 0.058 | 14.968 | |
get_unknown_ppi_nodes | 0.194 | 0.015 | 0.210 | |
load_previous_results | 2.748 | 0.065 | 2.862 | |
make_random_xina_data | 0.321 | 0.033 | 0.355 | |
mutate_colors | 25.186 | 0.218 | 26.115 | |
plot_clusters | 26.063 | 0.179 | 27.539 | |
plot_clusters_all | 4.830 | 0.064 | 5.051 | |
plot_condition_compositions | 43.314 | 0.396 | 50.249 | |
plot_enrichment_results | 0.000 | 0.001 | 0.002 | |
xina_analysis | 0.001 | 0.001 | 0.001 | |
xina_clustering | 44.251 | 0.386 | 47.660 | |
xina_enrichment | 0.001 | 0.001 | 0.002 | |
xina_plot_all | 8.936 | 0.374 | 9.418 | |
xina_plot_bycluster | 0.410 | 0.019 | 0.431 | |
xina_plot_single | 0.267 | 0.014 | 0.283 | |