| Back to Multiple platform build/check report for BioC 3.22: simplified long |
|
This page was generated on 2025-10-21 12:08 -0400 (Tue, 21 Oct 2025).
| Hostname | OS | Arch (*) | R version | Installed pkgs |
|---|---|---|---|---|
| nebbiolo2 | Linux (Ubuntu 24.04.3 LTS) | x86_64 | 4.5.1 Patched (2025-08-23 r88802) -- "Great Square Root" | 4887 |
| lconway | macOS 12.7.6 Monterey | x86_64 | 4.5.1 Patched (2025-09-10 r88807) -- "Great Square Root" | 4677 |
| kjohnson3 | macOS 13.7.7 Ventura | arm64 | 4.5.1 Patched (2025-09-10 r88807) -- "Great Square Root" | 4622 |
| taishan | Linux (openEuler 24.03 LTS) | aarch64 | 4.5.0 (2025-04-11) -- "How About a Twenty-Six" | 4642 |
| Click on any hostname to see more info about the system (e.g. compilers) (*) as reported by 'uname -p', except on Windows and Mac OS X | ||||
| Package 2303/2353 | Hostname | OS / Arch | INSTALL | BUILD | CHECK | BUILD BIN | ||||||||
| VDJdive 1.11.0 (landing page) Kelly Street
| nebbiolo2 | Linux (Ubuntu 24.04.3 LTS) / x86_64 | OK | OK | OK | |||||||||
| lconway | macOS 12.7.6 Monterey / x86_64 | OK | OK | OK | OK | |||||||||
| kjohnson3 | macOS 13.7.7 Ventura / arm64 | OK | OK | OK | OK | |||||||||
| taishan | Linux (openEuler 24.03 LTS) / aarch64 | OK | OK | OK | ||||||||||
|
To the developers/maintainers of the VDJdive package: - Allow up to 24 hours (and sometimes 48 hours) for your latest push to git@git.bioconductor.org:packages/VDJdive.git to reflect on this report. See Troubleshooting Build Report for more information. - Use the following Renviron settings to reproduce errors and warnings. - If 'R CMD check' started to fail recently on the Linux builder(s) over a missing dependency, add the missing dependency to 'Suggests:' in your DESCRIPTION file. See Renviron.bioc for more information. - See Martin Grigorov's blog post for how to debug Linux ARM64 related issues on a x86_64 host. |
| Package: VDJdive |
| Version: 1.11.0 |
| Command: /home/biocbuild/R/R/bin/R CMD check --install=check:VDJdive.install-out.txt --library=/home/biocbuild/R/R/site-library --no-vignettes --timings VDJdive_1.11.0.tar.gz |
| StartedAt: 2025-10-17 14:50:28 -0000 (Fri, 17 Oct 2025) |
| EndedAt: 2025-10-17 14:55:08 -0000 (Fri, 17 Oct 2025) |
| EllapsedTime: 280.3 seconds |
| RetCode: 0 |
| Status: OK |
| CheckDir: VDJdive.Rcheck |
| Warnings: 0 |
##############################################################################
##############################################################################
###
### Running command:
###
### /home/biocbuild/R/R/bin/R CMD check --install=check:VDJdive.install-out.txt --library=/home/biocbuild/R/R/site-library --no-vignettes --timings VDJdive_1.11.0.tar.gz
###
##############################################################################
##############################################################################
* using log directory ‘/home/biocbuild/bbs-3.22-bioc/meat/VDJdive.Rcheck’
* using R version 4.5.0 (2025-04-11)
* using platform: aarch64-unknown-linux-gnu
* R was compiled by
aarch64-unknown-linux-gnu-gcc (GCC) 14.2.0
GNU Fortran (GCC) 14.2.0
* running under: openEuler 24.03 (LTS)
* using session charset: UTF-8
* using option ‘--no-vignettes’
* checking for file ‘VDJdive/DESCRIPTION’ ... OK
* this is package ‘VDJdive’ version ‘1.11.0’
* package encoding: UTF-8
* checking package namespace information ... OK
* checking package dependencies ... OK
* checking if this is a source package ... OK
* checking if there is a namespace ... OK
* checking for hidden files and directories ... OK
* checking for portable file names ... OK
* checking for sufficient/correct file permissions ... OK
* checking whether package ‘VDJdive’ can be installed ... NOTE
Found the following notes/warnings:
Non-staged installation was used
See ‘/home/biocbuild/bbs-3.22-bioc/meat/VDJdive.Rcheck/00install.out’ for details.
* used C++ compiler: ‘aarch64-unknown-linux-gnu-g++ (GCC) 14.2.0’
* checking installed package size ... OK
* checking package directory ... OK
* checking ‘build’ directory ... OK
* checking DESCRIPTION meta-information ... OK
* checking top-level files ... OK
* checking for left-over files ... OK
* checking index information ... OK
* checking package subdirectories ... OK
* checking code files for non-ASCII characters ... OK
* checking R files for syntax errors ... OK
* checking whether the package can be loaded ... OK
* checking whether the package can be loaded with stated dependencies ... OK
* checking whether the package can be unloaded cleanly ... OK
* checking whether the namespace can be loaded with stated dependencies ... OK
* checking whether the namespace can be unloaded cleanly ... OK
* checking loading without being on the library search path ... OK
* checking dependencies in R code ... OK
* checking S3 generic/method consistency ... OK
* checking replacement functions ... OK
* checking foreign function calls ... OK
* checking R code for possible problems ... NOTE
abundanceVDJ,clonoStats: no visible binding for global variable ‘count’
abundanceVDJ,clonoStats: no visible binding for global variable ‘y’
barVDJ,Matrix: no visible binding for global variable ‘count’
boxVDJ,matrix: no visible binding for global variable ‘group’
boxVDJ,matrix: no visible binding for global variable ‘Diversity’
pieVDJ,Matrix: no visible binding for global variable ‘count’
scatterVDJ,matrix: no visible binding for global variable ‘clono’
scatterVDJ,matrix: no visible binding for global variable ‘normentropy’
scatterVDJ,matrix: no visible binding for global variable ‘sampleType’
Undefined global functions or variables:
Diversity clono count group normentropy sampleType y
* checking Rd files ... NOTE
checkRd: (-1) clonoStats.Rd:98-102: Lost braces in \itemize; meant \describe ?
checkRd: (-1) clonoStats.Rd:103-105: Lost braces in \itemize; meant \describe ?
checkRd: (-1) clonoStats.Rd:106-107: Lost braces in \itemize; meant \describe ?
checkRd: (-1) clonoStats.Rd:108-111: Lost braces in \itemize; meant \describe ?
checkRd: (-1) clonoStats.Rd:112-114: Lost braces in \itemize; meant \describe ?
* checking Rd metadata ... OK
* checking Rd cross-references ... NOTE
Found the following Rd file(s) with Rd \link{} targets missing package
anchors:
clonoStats.Rd: BiocParallelParam-class
summarizeClonotypes.Rd: BiocParallelParam-class
Please provide package anchors for all Rd \link{} targets not in the
package itself and the base packages.
* checking for missing documentation entries ... OK
* checking for code/documentation mismatches ... OK
* checking Rd \usage sections ... OK
* checking Rd contents ... OK
* checking for unstated dependencies in examples ... OK
* checking contents of ‘data’ directory ... OK
* checking data for non-ASCII characters ... OK
* checking data for ASCII and uncompressed saves ... OK
* checking line endings in C/C++/Fortran sources/headers ... OK
* checking compiled code ... NOTE
Note: information on .o files is not available
* checking files in ‘vignettes’ ... OK
* checking examples ... OK
* checking for unstated dependencies in ‘tests’ ... OK
* checking tests ...
Running ‘testthat.R’
OK
* checking for unstated dependencies in vignettes ... OK
* checking package vignettes ... OK
* checking running R code from vignettes ... SKIPPED
* checking re-building of vignette outputs ... SKIPPED
* checking PDF version of manual ... OK
* DONE
Status: 5 NOTEs
See
‘/home/biocbuild/bbs-3.22-bioc/meat/VDJdive.Rcheck/00check.log’
for details.
VDJdive.Rcheck/00install.out
############################################################################## ############################################################################## ### ### Running command: ### ### /home/biocbuild/R/R/bin/R CMD INSTALL VDJdive ### ############################################################################## ############################################################################## * installing to library ‘/home/biocbuild/R/R-4.5.0/site-library’ * installing *source* package ‘VDJdive’ ... ** this is package ‘VDJdive’ version ‘1.11.0’ ** using non-staged installation via StagedInstall field ** libs using C++ compiler: ‘aarch64-unknown-linux-gnu-g++ (GCC) 14.2.0’ /opt/ohpc/pub/compiler/gcc/14.2.0/bin/aarch64-unknown-linux-gnu-g++ -std=gnu++17 -I"/home/biocbuild/R/R-4.5.0/include" -DNDEBUG -I'/home/biocbuild/R/R-4.5.0/site-library/Rcpp/include' -I/usr/local/include -fPIC -g -O2 -Wall -Werror=format-security -c RcppExports.cpp -o RcppExports.o /opt/ohpc/pub/compiler/gcc/14.2.0/bin/aarch64-unknown-linux-gnu-g++ -std=gnu++17 -I"/home/biocbuild/R/R-4.5.0/include" -DNDEBUG -I'/home/biocbuild/R/R-4.5.0/site-library/Rcpp/include' -I/usr/local/include -fPIC -g -O2 -Wall -Werror=format-security -c TCR_EM.cpp -o TCR_EM.o /opt/ohpc/pub/compiler/gcc/14.2.0/bin/aarch64-unknown-linux-gnu-g++ -std=gnu++17 -shared -L/home/biocbuild/R/R-4.5.0/lib -L/usr/local/lib -o VDJdive.so RcppExports.o TCR_EM.o -L/home/biocbuild/R/R-4.5.0/lib -lR installing to /home/biocbuild/R/R-4.5.0/site-library/VDJdive/libs ** R ** data ** inst ** byte-compile and prepare package for lazy loading ** help *** installing help indices *** copying figures ** building package indices ** installing vignettes ** testing if installed package can be loaded * DONE (VDJdive)
VDJdive.Rcheck/tests/testthat.Rout
R version 4.5.0 (2025-04-11) -- "How About a Twenty-Six"
Copyright (C) 2025 The R Foundation for Statistical Computing
Platform: aarch64-unknown-linux-gnu
R is free software and comes with ABSOLUTELY NO WARRANTY.
You are welcome to redistribute it under certain conditions.
Type 'license()' or 'licence()' for distribution details.
R is a collaborative project with many contributors.
Type 'contributors()' for more information and
'citation()' on how to cite R or R packages in publications.
Type 'demo()' for some demos, 'help()' for on-line help, or
'help.start()' for an HTML browser interface to help.
Type 'q()' to quit R.
> library(testthat)
> library(VDJdive)
>
> test_check("VDJdive")
An object of class "clonoStats"
clonotypes: 7
cells: 24
groups(2): sample1 sample2
has assignment: FALSEAn object of class "clonoStats"
clonotypes: 7
cells: 24
groups(2): sample1 sample2
has assignment: TRUE[ FAIL 0 | WARN 0 | SKIP 0 | PASS 125 ]
>
> proc.time()
user system elapsed
40.827 0.996 41.920
VDJdive.Rcheck/VDJdive-Ex.timings
| name | user | system | elapsed | |
| abundanceVDJ | 2.594 | 0.136 | 2.739 | |
| addVDJtoSCE | 0.270 | 0.008 | 0.278 | |
| barVDJ | 1.178 | 0.072 | 1.254 | |
| boxVDJ | 1.239 | 0.004 | 1.247 | |
| calculateDiversity | 0.763 | 0.008 | 0.774 | |
| clonoStats-class | 0.731 | 0.032 | 0.765 | |
| clonoStats | 0.731 | 0.004 | 0.738 | |
| contigs | 0.712 | 0.047 | 0.762 | |
| pieVDJ | 1.503 | 0.024 | 1.532 | |
| readVDJcontigs | 0.071 | 0.000 | 0.072 | |
| runBreakaway | 3.039 | 0.080 | 3.163 | |
| runVDJPCA | 1.709 | 0.120 | 1.834 | |
| scatterVDJ | 0.910 | 0.028 | 0.941 | |
| splitClonotypes | 0.887 | 0.119 | 1.009 | |
| summarizeClonotypes | 0.859 | 0.004 | 0.866 | |
| writeVDJcontigs | 0.043 | 0.008 | 0.051 | |