| Back to Multiple platform build/check report for BioC 3.21: simplified long |
|
This page was generated on 2025-10-16 11:39 -0400 (Thu, 16 Oct 2025).
| Hostname | OS | Arch (*) | R version | Installed pkgs |
|---|---|---|---|---|
| nebbiolo1 | Linux (Ubuntu 24.04.3 LTS) | x86_64 | 4.5.1 (2025-06-13) -- "Great Square Root" | 4833 |
| merida1 | macOS 12.7.6 Monterey | x86_64 | 4.5.1 RC (2025-06-05 r88288) -- "Great Square Root" | 4614 |
| kjohnson1 | macOS 13.7.5 Ventura | arm64 | 4.5.1 Patched (2025-06-14 r88325) -- "Great Square Root" | 4555 |
| kunpeng2 | Linux (openEuler 24.03 LTS) | aarch64 | R Under development (unstable) (2025-02-19 r87757) -- "Unsuffered Consequences" | 4586 |
| Click on any hostname to see more info about the system (e.g. compilers) (*) as reported by 'uname -p', except on Windows and Mac OS X | ||||
| Package 2252/2341 | Hostname | OS / Arch | INSTALL | BUILD | CHECK | BUILD BIN | ||||||||
| TSAR 1.6.0 (landing page) Xinlin Gao
| nebbiolo1 | Linux (Ubuntu 24.04.3 LTS) / x86_64 | OK | OK | OK | |||||||||
| merida1 | macOS 12.7.6 Monterey / x86_64 | OK | OK | OK | OK | |||||||||
| kjohnson1 | macOS 13.7.5 Ventura / arm64 | OK | OK | OK | OK | |||||||||
| kunpeng2 | Linux (openEuler 24.03 LTS) / aarch64 | OK | OK | NA | ||||||||||
|
To the developers/maintainers of the TSAR package: - Allow up to 24 hours (and sometimes 48 hours) for your latest push to git@git.bioconductor.org:packages/TSAR.git to reflect on this report. See Troubleshooting Build Report for more information. - Use the following Renviron settings to reproduce errors and warnings. - If 'R CMD check' started to fail recently on the Linux builder(s) over a missing dependency, add the missing dependency to 'Suggests:' in your DESCRIPTION file. See Renviron.bioc for more information. |
| Package: TSAR |
| Version: 1.6.0 |
| Command: /Library/Frameworks/R.framework/Resources/bin/R CMD check --install=check:TSAR.install-out.txt --library=/Library/Frameworks/R.framework/Resources/library --no-vignettes --timings TSAR_1.6.0.tar.gz |
| StartedAt: 2025-10-14 11:58:58 -0400 (Tue, 14 Oct 2025) |
| EndedAt: 2025-10-14 12:04:28 -0400 (Tue, 14 Oct 2025) |
| EllapsedTime: 329.4 seconds |
| RetCode: 0 |
| Status: OK |
| CheckDir: TSAR.Rcheck |
| Warnings: 0 |
##############################################################################
##############################################################################
###
### Running command:
###
### /Library/Frameworks/R.framework/Resources/bin/R CMD check --install=check:TSAR.install-out.txt --library=/Library/Frameworks/R.framework/Resources/library --no-vignettes --timings TSAR_1.6.0.tar.gz
###
##############################################################################
##############################################################################
* using log directory ‘/Users/biocbuild/bbs-3.21-bioc/meat/TSAR.Rcheck’
* using R version 4.5.1 RC (2025-06-05 r88288)
* using platform: x86_64-apple-darwin20
* R was compiled by
Apple clang version 14.0.0 (clang-1400.0.29.202)
GNU Fortran (GCC) 14.2.0
* running under: macOS Monterey 12.7.6
* using session charset: UTF-8
* using option ‘--no-vignettes’
* checking for file ‘TSAR/DESCRIPTION’ ... OK
* checking extension type ... Package
* this is package ‘TSAR’ version ‘1.6.0’
* package encoding: UTF-8
* checking package namespace information ... OK
* checking package dependencies ... OK
* checking if this is a source package ... OK
* checking if there is a namespace ... OK
* checking for hidden files and directories ... OK
* checking for portable file names ... OK
* checking for sufficient/correct file permissions ... OK
* checking whether package ‘TSAR’ can be installed ... OK
* checking installed package size ... OK
* checking package directory ... OK
* checking ‘build’ directory ... OK
* checking DESCRIPTION meta-information ... OK
* checking top-level files ... OK
* checking for left-over files ... OK
* checking index information ... OK
* checking package subdirectories ... NOTE
Found the following CITATION file in a non-standard place:
CITATION
Most likely ‘inst/CITATION’ should be used instead.
* checking code files for non-ASCII characters ... OK
* checking R files for syntax errors ... OK
* checking whether the package can be loaded ... OK
* checking whether the package can be loaded with stated dependencies ... OK
* checking whether the package can be unloaded cleanly ... OK
* checking whether the namespace can be loaded with stated dependencies ... OK
* checking whether the namespace can be unloaded cleanly ... OK
* checking dependencies in R code ... OK
* checking S3 generic/method consistency ... OK
* checking replacement functions ... OK
* checking foreign function calls ... OK
* checking R code for possible problems ... NOTE
TSA_Tms : <anonymous>: no visible binding for global variable ‘well_ID’
TSA_Tms : <anonymous>: no visible binding for global variable ‘Tm’
TSA_Tms : <anonymous>: no visible global function definition for ‘sd’
TSA_Tms: no visible binding for global variable ‘well_ID’
TSA_Tms: no visible binding for global variable ‘Tm’
TSA_Tms: no visible binding for global variable ‘condition_ID’
TSA_Tms: no visible binding for global variable ‘Protein’
TSA_Tms: no visible binding for global variable ‘Ligand’
TSA_average: no visible binding for global variable ‘Temperature’
TSA_average: no visible binding for global variable ‘Fluorescence’
TSA_average: no visible global function definition for ‘sd’
TSA_average: no visible binding for global variable ‘Normalized’
TSA_average: no visible global function definition for ‘predict’
TSA_boxplot: no visible binding for global variable ‘condition_ID’
TSA_boxplot: no visible binding for global variable ‘Tm’
TSA_boxplot: no visible binding for global variable ‘Ligand’
TSA_boxplot: no visible binding for global variable ‘well_ID’
TSA_boxplot: no visible binding for global variable ‘Protein’
TSA_compare_plot: no visible binding for global variable ‘Temperature’
TSA_compare_plot: no visible binding for global variable ‘avg_smooth’
TSA_compare_plot: no visible binding for global variable
‘sd_min_smooth’
TSA_compare_plot: no visible binding for global variable
‘sd_max_smooth’
TSA_compare_plot: no visible global function definition for
‘colorRampPalette’
TSA_wells_plot: no visible binding for global variable ‘Temperature’
TSA_wells_plot: no visible binding for global variable ‘Fluorescence’
TSA_wells_plot: no visible binding for global variable ‘Normalized’
TSA_wells_plot: no visible binding for global variable ‘well_ID’
TSA_wells_plot: no visible binding for global variable ‘sd_min_smooth’
TSA_wells_plot: no visible binding for global variable ‘sd_max_smooth’
TSA_wells_plot: no visible binding for global variable ‘avg_smooth’
TSA_wells_plot: no visible binding for global variable ‘sd_min’
TSA_wells_plot: no visible binding for global variable ‘sd_max’
TSA_wells_plot: no visible binding for global variable ‘average’
build_curves: no visible binding for global variable ‘condition_ID’
build_table: no visible global function definition for ‘head’
build_well: no visible global function definition for ‘head’
dummy_plot: no visible binding for global variable ‘x’
dummy_plot: no visible binding for global variable ‘y’
gam_analysis : process_well: no visible binding for global variable
‘Well.Position’
gam_analysis : process_well: no visible global function definition for
‘all_of’
join_well_info: no visible binding for global variable ‘Col’
join_well_info: no visible binding for global variable ‘pos’
join_well_info: no visible binding for global variable ‘Well’
join_well_info: no visible binding for global variable ‘Protein’
join_well_info: no visible binding for global variable ‘Ligand’
join_well_info: no visible global function definition for ‘na.omit’
merge_norm : <anonymous>: no visible global function definition for
‘read.csv’
merge_norm : <anonymous>: no visible binding for global variable
‘Well.Position’
merge_norm : <anonymous>: no visible binding for global variable
‘Protein’
merge_norm : <anonymous>: no visible binding for global variable
‘Ligand’
merge_norm: no visible binding for global variable ‘tm’
merge_norm: no visible binding for global variable ‘Well.Position’
merge_update: no visible global function definition for ‘na.omit’
model_boltzmann: no visible binding for global variable ‘Temperature’
normalize: no visible global function definition for ‘all_of’
preview_condition: no visible global function definition for ‘head’
preview_model: no visible binding for global variable ‘Well.Position’
read_analysis: no visible global function definition for ‘read.delim’
read_analysis: no visible global function definition for ‘read.csv’
read_raw_data: no visible global function definition for ‘read.delim’
read_raw_data: no visible global function definition for ‘read.csv’
remove_raw: no visible binding for global variable ‘Well.Position’
remove_raw: no visible binding for global variable ‘Well’
remove_selected_graph: no visible binding for global variable
‘condition_ID’
remove_selected_graph: no visible binding for global variable ‘well_ID’
screen: no visible binding for global variable ‘Well.Position’
screen: no visible binding for global variable ‘Well’
screen : normalize_by_well: no visible binding for global variable
‘Well.Position’
screen: no visible binding for global variable ‘Temperature’
screen: no visible binding for global variable ‘Fluorescence’
view_deriv: no visible binding for global variable ‘Temperature’
view_deriv: no visible binding for global variable ‘norm_deriv’
view_deriv: no visible binding for global variable ‘well_ID’
view_deriv: no visible binding for global variable ‘Tm’
view_model: no visible binding for global variable ‘Temperature’
view_model: no visible binding for global variable ‘Normalized’
view_model: no visible binding for global variable ‘fitted’
view_model: no visible global function definition for ‘na.omit’
view_model: no visible binding for global variable ‘norm_deriv’
view_model: no visible binding for global variable ‘Well.Position’
Undefined global functions or variables:
Col Fluorescence Ligand Normalized Protein Temperature Tm Well
Well.Position all_of average avg_smooth colorRampPalette condition_ID
fitted head na.omit norm_deriv pos predict read.csv read.delim sd
sd_max sd_max_smooth sd_min sd_min_smooth tm well_ID x y
Consider adding
importFrom("grDevices", "colorRampPalette")
importFrom("stats", "fitted", "na.omit", "predict", "sd")
importFrom("utils", "head", "read.csv", "read.delim")
to your NAMESPACE file.
* checking Rd files ... OK
* checking Rd metadata ... OK
* checking Rd cross-references ... NOTE
Found the following Rd file(s) with Rd \link{} targets missing package
anchors:
model_gam.Rd: gam
Please provide package anchors for all Rd \link{} targets not in the
package itself and the base packages.
* checking for missing documentation entries ... OK
* checking for code/documentation mismatches ... OK
* checking Rd \usage sections ... OK
* checking Rd contents ... OK
* checking for unstated dependencies in examples ... OK
* checking contents of ‘data’ directory ... OK
* checking data for non-ASCII characters ... OK
* checking data for ASCII and uncompressed saves ... OK
* checking files in ‘vignettes’ ... OK
* checking examples ... OK
Examples with CPU (user + system) or elapsed time > 5s
user system elapsed
TSA_wells_plot 48.962 0.550 53.306
gam_analysis 14.422 1.785 18.187
view_deriv 8.696 0.697 10.239
tsa_compare_plot 7.148 0.144 8.025
* checking for unstated dependencies in ‘tests’ ... OK
* checking tests ...
Running ‘testthat.R’
OK
* checking for unstated dependencies in vignettes ... OK
* checking package vignettes ... OK
* checking running R code from vignettes ... SKIPPED
* checking re-building of vignette outputs ... SKIPPED
* checking PDF version of manual ... OK
* DONE
Status: 3 NOTEs
See
‘/Users/biocbuild/bbs-3.21-bioc/meat/TSAR.Rcheck/00check.log’
for details.
TSAR.Rcheck/00install.out
############################################################################## ############################################################################## ### ### Running command: ### ### /Library/Frameworks/R.framework/Resources/bin/R CMD INSTALL TSAR ### ############################################################################## ############################################################################## * installing to library ‘/Library/Frameworks/R.framework/Versions/4.5-x86_64/Resources/library’ * installing *source* package ‘TSAR’ ... ** this is package ‘TSAR’ version ‘1.6.0’ ** using staged installation ** R ** data ** inst ** byte-compile and prepare package for lazy loading ** help *** installing help indices ** building package indices ** installing vignettes ** testing if installed package can be loaded from temporary location ** testing if installed package can be loaded from final location ** testing if installed package keeps a record of temporary installation path * DONE (TSAR)
TSAR.Rcheck/tests/testthat.Rout
R version 4.5.1 RC (2025-06-05 r88288) -- "Great Square Root"
Copyright (C) 2025 The R Foundation for Statistical Computing
Platform: x86_64-apple-darwin20
R is free software and comes with ABSOLUTELY NO WARRANTY.
You are welcome to redistribute it under certain conditions.
Type 'license()' or 'licence()' for distribution details.
R is a collaborative project with many contributors.
Type 'contributors()' for more information and
'citation()' on how to cite R or R packages in publications.
Type 'demo()' for some demos, 'help()' for on-line help, or
'help.start()' for an HTML browser interface to help.
Type 'q()' to quit R.
> # This file is part of the standard setup for testthat.
> # It is recommended that you do not modify it.
> #
> # Where should you do additional test configuration?
> # Learn more about the roles of various files in:
> # * https://r-pkgs.org/testing-design.html#sec-tests-files-overview
> # * https://testthat.r-lib.org/articles/special-files.html
>
> library(testthat)
> library(TSAR)
Attaching package: 'TSAR'
The following object is masked from 'package:graphics':
screen
>
> test_check("TSAR")
[ FAIL 0 | WARN 0 | SKIP 0 | PASS 16 ]
>
> proc.time()
user system elapsed
19.519 0.970 22.481
TSAR.Rcheck/TSAR-Ex.timings
| name | user | system | elapsed | |
| TSA_Tms | 0.432 | 0.019 | 0.460 | |
| TSA_boxplot | 2.097 | 0.053 | 2.165 | |
| TSA_ligands | 0.374 | 0.013 | 0.392 | |
| TSA_proteins | 0.381 | 0.013 | 0.433 | |
| TSA_wells_plot | 48.962 | 0.550 | 53.306 | |
| Tm_difference | 0.415 | 0.014 | 0.454 | |
| Tm_est | 2.867 | 0.068 | 3.163 | |
| analyze_norm | 0.000 | 0.001 | 0.001 | |
| condition_IDs | 0.378 | 0.011 | 0.509 | |
| gam_analysis | 14.422 | 1.785 | 18.187 | |
| get_legend | 1.720 | 0.038 | 1.922 | |
| graph_tsar | 0.001 | 0.000 | 0.001 | |
| join_well_info | 1.946 | 2.146 | 4.907 | |
| merge_norm | 1.995 | 0.042 | 2.272 | |
| merge_tsa | 0.001 | 0.001 | 0.000 | |
| model_boltzmann | 0.139 | 0.008 | 0.157 | |
| model_fit | 2.152 | 0.055 | 2.332 | |
| model_gam | 2.178 | 0.051 | 2.393 | |
| normalize | 0.117 | 0.005 | 0.131 | |
| normalize_fluorescence | 0.000 | 0.001 | 0.001 | |
| read_analysis | 0.000 | 0.000 | 0.001 | |
| read_raw_data | 0 | 0 | 0 | |
| read_tsar | 0.997 | 0.025 | 1.177 | |
| remove_raw | 0.915 | 1.623 | 2.811 | |
| rescale | 0.001 | 0.000 | 0.000 | |
| run_boltzmann | 0.137 | 0.005 | 0.156 | |
| screen | 1.843 | 0.031 | 2.032 | |
| tsa_average | 0.813 | 0.029 | 0.881 | |
| tsa_compare_plot | 7.148 | 0.144 | 8.025 | |
| view_deriv | 8.696 | 0.697 | 10.239 | |
| view_model | 3.522 | 0.090 | 3.851 | |
| weed_raw | 0.096 | 0.005 | 0.108 | |
| well_IDs | 0.373 | 0.009 | 0.409 | |
| write_tsar | 0.915 | 0.022 | 1.025 | |