Back to Multiple platform build/check report for BioC 3.21:   simplified   long
ABCDEFGHIJKLMNOPQRS[T]UVWXYZ

This page was generated on 2025-10-13 11:42 -0400 (Mon, 13 Oct 2025).

HostnameOSArch (*)R versionInstalled pkgs
nebbiolo1Linux (Ubuntu 24.04.3 LTS)x86_644.5.1 (2025-06-13) -- "Great Square Root" 4833
merida1macOS 12.7.5 Montereyx86_644.5.1 RC (2025-06-05 r88288) -- "Great Square Root" 4614
kjohnson1macOS 13.6.6 Venturaarm644.5.1 Patched (2025-06-14 r88325) -- "Great Square Root" 4555
kunpeng2Linux (openEuler 24.03 LTS)aarch64R Under development (unstable) (2025-02-19 r87757) -- "Unsuffered Consequences" 4586
Click on any hostname to see more info about the system (e.g. compilers)      (*) as reported by 'uname -p', except on Windows and Mac OS X

Package 2251/2341HostnameOS / ArchINSTALLBUILDCHECKBUILD BIN
TRONCO 2.40.1  (landing page)
Luca De Sano
Snapshot Date: 2025-10-09 13:40 -0400 (Thu, 09 Oct 2025)
git_url: https://git.bioconductor.org/packages/TRONCO
git_branch: RELEASE_3_21
git_last_commit: 9c44f65
git_last_commit_date: 2025-09-11 16:52:23 -0400 (Thu, 11 Sep 2025)
nebbiolo1Linux (Ubuntu 24.04.3 LTS) / x86_64  OK    OK    OK  UNNEEDED, same version is already published
merida1macOS 12.7.5 Monterey / x86_64  OK    OK    OK    OK  UNNEEDED, same version is already published
kjohnson1macOS 13.6.6 Ventura / arm64  OK    OK    OK    OK  UNNEEDED, same version is already published
kunpeng2Linux (openEuler 24.03 LTS) / aarch64  OK    OK    OK  


CHECK results for TRONCO on kunpeng2

To the developers/maintainers of the TRONCO package:
- Allow up to 24 hours (and sometimes 48 hours) for your latest push to git@git.bioconductor.org:packages/TRONCO.git to reflect on this report. See Troubleshooting Build Report for more information.
- Use the following Renviron settings to reproduce errors and warnings.
- If 'R CMD check' started to fail recently on the Linux builder(s) over a missing dependency, add the missing dependency to 'Suggests:' in your DESCRIPTION file. See Renviron.bioc for more information.
- See Martin Grigorov's blog post for how to debug Linux ARM64 related issues on a x86_64 host.

raw results


Summary

Package: TRONCO
Version: 2.40.1
Command: /home/biocbuild/R/R/bin/R CMD check --install=check:TRONCO.install-out.txt --library=/home/biocbuild/R/R/site-library --no-vignettes --timings TRONCO_2.40.1.tar.gz
StartedAt: 2025-10-10 15:05:32 -0000 (Fri, 10 Oct 2025)
EndedAt: 2025-10-10 15:09:37 -0000 (Fri, 10 Oct 2025)
EllapsedTime: 244.3 seconds
RetCode: 0
Status:   OK  
CheckDir: TRONCO.Rcheck
Warnings: 0

Command output

##############################################################################
##############################################################################
###
### Running command:
###
###   /home/biocbuild/R/R/bin/R CMD check --install=check:TRONCO.install-out.txt --library=/home/biocbuild/R/R/site-library --no-vignettes --timings TRONCO_2.40.1.tar.gz
###
##############################################################################
##############################################################################


* using log directory ‘/home/biocbuild/bbs-3.21-bioc/meat/TRONCO.Rcheck’
* using R Under development (unstable) (2025-02-19 r87757)
* using platform: aarch64-unknown-linux-gnu
* R was compiled by
    aarch64-unknown-linux-gnu-gcc (GCC) 14.2.0
    GNU Fortran (GCC) 14.2.0
* running under: openEuler 24.03 (LTS-SP1)
* using session charset: UTF-8
* using option ‘--no-vignettes’
* checking for file ‘TRONCO/DESCRIPTION’ ... OK
* this is package ‘TRONCO’ version ‘2.40.1’
* package encoding: UTF-8
* checking package namespace information ... OK
* checking package dependencies ... OK
* checking if this is a source package ... OK
* checking if there is a namespace ... OK
* checking for hidden files and directories ... OK
* checking for portable file names ... OK
* checking for sufficient/correct file permissions ... OK
* checking whether package ‘TRONCO’ can be installed ... OK
* checking installed package size ... OK
* checking package directory ... OK
* checking ‘build’ directory ... OK
* checking DESCRIPTION meta-information ... OK
* checking top-level files ... OK
* checking for left-over files ... OK
* checking index information ... OK
* checking package subdirectories ... OK
* checking code files for non-ASCII characters ... OK
* checking R files for syntax errors ... OK
* checking whether the package can be loaded ... OK
* checking whether the package can be loaded with stated dependencies ... OK
* checking whether the package can be unloaded cleanly ... OK
* checking whether the namespace can be loaded with stated dependencies ... OK
* checking whether the namespace can be unloaded cleanly ... OK
* checking loading without being on the library search path ... OK
* checking whether startup messages can be suppressed ... OK
* checking dependencies in R code ... OK
* checking S3 generic/method consistency ... OK
* checking replacement functions ... OK
* checking foreign function calls ... OK
* checking R code for possible problems ... OK
* checking Rd files ... OK
* checking Rd metadata ... OK
* checking Rd cross-references ... OK
* checking for missing documentation entries ... OK
* checking for code/documentation mismatches ... OK
* checking Rd \usage sections ... OK
* checking Rd contents ... OK
* checking for unstated dependencies in examples ... OK
* checking contents of ‘data’ directory ... OK
* checking data for non-ASCII characters ... OK
* checking data for ASCII and uncompressed saves ... OK
* checking files in ‘vignettes’ ... OK
* checking examples ... OK
Examples with CPU (user + system) or elapsed time > 5s
                  user system elapsed
tronco.bootstrap 0.126  0.001  12.088
* checking for unstated dependencies in ‘tests’ ... OK
* checking tests ...
  Running ‘testthat.R’
 OK
* checking for unstated dependencies in vignettes ... OK
* checking package vignettes ... OK
* checking running R code from vignettes ... SKIPPED
* checking re-building of vignette outputs ... SKIPPED
* checking PDF version of manual ... OK
* DONE

Status: OK


Installation output

TRONCO.Rcheck/00install.out

##############################################################################
##############################################################################
###
### Running command:
###
###   /home/biocbuild/R/R/bin/R CMD INSTALL TRONCO
###
##############################################################################
##############################################################################


* installing to library ‘/home/biocbuild/R/R-devel_2025-02-19/site-library’
* installing *source* package ‘TRONCO’ ...
** this is package ‘TRONCO’ version ‘2.40.1’
** using staged installation
** R
** data
** inst
** byte-compile and prepare package for lazy loading
** help
*** installing help indices
** building package indices
** installing vignettes
** testing if installed package can be loaded from temporary location
** testing if installed package can be loaded from final location
** testing if installed package keeps a record of temporary installation path
* DONE (TRONCO)

Tests output

TRONCO.Rcheck/tests/testthat.Rout


R Under development (unstable) (2025-02-19 r87757) -- "Unsuffered Consequences"
Copyright (C) 2025 The R Foundation for Statistical Computing
Platform: aarch64-unknown-linux-gnu

R is free software and comes with ABSOLUTELY NO WARRANTY.
You are welcome to redistribute it under certain conditions.
Type 'license()' or 'licence()' for distribution details.

R is a collaborative project with many contributors.
Type 'contributors()' for more information and
'citation()' on how to cite R or R packages in publications.

Type 'demo()' for some demos, 'help()' for on-line help, or
'help.start()' for an HTML browser interface to help.
Type 'q()' to quit R.

> Sys.setenv("R_TESTS" = "")
> 
> library(testthat)
> library(TRONCO)
> 
> test_check("TRONCO")
*** Checking input events.
*** Inferring a progression model with the following settings.
	Dataset size: n = 40, m = 30.
	Algorithm: CAPRESE with shrinkage coefficient: 0.5.
*** Evaluating LogLik informations.
The reconstruction has been successfully completed in 00h:00m:00s 
*** Checking input events.
*** Inferring a progression model with the following settings.
	Dataset size: n = 40, m = 30.
	Algorithm: Edmonds with "no_reg" regularization	Random seed: NULL.
	Bootstrap iterations (Wilcoxon): 1.
		exhaustive bootstrap: TRUE.
		p-value: 0.05.
		minimum bootstrapped scores: 3.
*** Bootstraping selective advantage scores (prima facie).
	......
	Evaluating "temporal priority" (Wilcoxon, p-value 0.05)
	Evaluating "probability raising" (Wilcoxon, p-value 0.05)
*** Loop detection found loops to break.
	Removed 7 edges out of 50 (14%)
*** Performing likelihood-fit with regularization: no_reg and score: pmi .
*** Evaluating BIC / AIC / LogLik informations.
The reconstruction has been successfully completed in 00h:00m:02s 
*** Checking input events.
*** Inferring a progression model with the following settings.
	Dataset size: n = 40, m = 30.
	Algorithm: Gabow with "no_reg" regularization	Random seed: NULL.
	Bootstrap iterations (Wilcoxon): 1.
		exhaustive bootstrap: TRUE.
		p-value: 0.05.
		minimum bootstrapped scores: 3.
*** Bootstraping selective advantage scores (prima facie).
	........
	Evaluating "temporal priority" (Wilcoxon, p-value 0.05)
	Evaluating "probability raising" (Wilcoxon, p-value 0.05)
*** Loop detection found loops to break.
	Removed 6 edges out of 45 (13%)
*** Performing likelihood-fit with regularization: no_reg .
*** Evaluating BIC / AIC / LogLik informations.
The reconstruction has been successfully completed in 00h:00m:02s 
*** Checking input events.
*** Inferring a progression model with the following settings.
	Dataset size: n = 40, m = 30.
	Algorithm: Chow Liu with "bic, aic" regularization	Random seed: NULL.
	Bootstrap iterations (Wilcoxon): 1.
		exhaustive bootstrap: TRUE.
		p-value: 0.05.
		minimum bootstrapped scores: 3.
*** Bootstraping selective advantage scores (prima facie).
	............
	Evaluating "temporal priority" (Wilcoxon, p-value 0.05)
	Evaluating "probability raising" (Wilcoxon, p-value 0.05)
*** Loop detection found loops to break.
	Removed 8 edges out of 55 (15%)
*** Performing likelihood-fit with regularization bic .
*** Performing likelihood-fit with regularization aic .
*** Evaluating BIC / AIC / LogLik informations.
The reconstruction has been successfully completed in 00h:00m:02s 
*** Checking input events.
*** Inferring a progression model with the following settings.
	Dataset size: n = 40, m = 30.
	Algorithm: Prim with "no_reg" regularization	Random seed: NULL.
	Bootstrap iterations (Wilcoxon): 1.
		exhaustive bootstrap: TRUE.
		p-value: 0.05.
		minimum bootstrapped scores: 3.
*** Bootstraping selective advantage scores (prima facie).
	............
	Evaluating "temporal priority" (Wilcoxon, p-value 0.05)
	Evaluating "probability raising" (Wilcoxon, p-value 0.05)
*** Loop detection found loops to break.
	Removed 7 edges out of 53 (13%)
*** Performing likelihood-fit with regularization: no_reg .
*** Evaluating BIC / AIC / LogLik informations.
The reconstruction has been successfully completed in 00h:00m:02s 
[ FAIL 0 | WARN 23 | SKIP 0 | PASS 225 ]

[ FAIL 0 | WARN 23 | SKIP 0 | PASS 225 ]
> 
> proc.time()
   user  system elapsed 
 56.248   1.541 125.624 

Example timings

TRONCO.Rcheck/TRONCO-Ex.timings

nameusersystemelapsed
TCGA.multiple.samples0.0170.0040.021
TCGA.remove.multiple.samples0.0150.0000.016
TCGA.shorten.barcodes0.0070.0040.011
annotate.description0.010.000.01
annotate.stages0.0080.0000.009
as.adj.matrix0.0040.0040.008
as.alterations0.0030.0000.004
as.bootstrap.scores0.1720.0000.173
as.colors0.0020.0000.002
as.confidence0.010.000.01
as.description0.0010.0000.001
as.events0.0010.0000.001
as.events.in.patterns0.0040.0000.004
as.events.in.sample0.0050.0000.005
as.gene0.0040.0000.004
as.genes0.0020.0000.002
as.genes.in.patterns0.0040.0000.004
as.genotypes0.0090.0000.009
as.hypotheses0.0020.0000.002
as.joint.probs0.0070.0000.007
as.kfold.eloss0.0770.0000.077
as.kfold.posterr0.0980.0000.098
as.kfold.prederr0.0890.0120.101
as.marginal.probs0.0040.0000.003
as.models0.0080.0040.013
as.parameters0.0030.0000.003
as.pathway0.0060.0000.006
as.patterns0.0020.0000.002
as.samples0.0020.0000.002
as.selective.advantage.relations0.0750.0120.088
as.stages0.0090.0000.009
as.types0.0020.0000.001
as.types.in.patterns0.0020.0030.004
change.color0.0010.0010.002
consolidate.data0.0470.0040.050
delete.event0.0050.0000.004
delete.gene0.0050.0000.004
delete.hypothesis0.0260.0040.030
delete.model0.0030.0000.003
delete.pattern0.0080.0040.012
delete.samples0.0030.0000.003
delete.type0.0040.0000.004
duplicates0.0020.0000.001
enforce.numeric0.0000.0030.003
enforce.string0.0030.0000.003
events.selection0.0040.0000.004
export.graphml0.1310.0200.153
export.mutex0.0100.0000.011
has.duplicates0.0000.0020.002
has.model0.0020.0010.002
has.stages0.0080.0000.008
import.GISTIC0.0060.0000.006
import.MAF0.0700.0160.086
intersect.datasets0.0010.0000.001
is.compliant0.0020.0000.002
join.events0.0040.0000.004
join.types0.0710.0040.074
keysToNames0.0050.0000.004
nameToKey0.0020.0000.003
nevents0.0020.0000.002
ngenes0.0020.0000.002
nhypotheses0.0020.0000.002
npatterns0.0000.0020.001
nsamples0.0000.0010.002
ntypes0.0020.0000.002
oncoprint.cbio0.0070.0000.008
order.frequency0.0070.0000.007
pheatmap0.0490.0000.050
rank.recurrents0.0040.0000.005
rename.gene0.0020.0000.002
rename.type0.0020.0000.002
samples.selection0.0030.0000.004
trim0.0030.0000.004
tronco.bootstrap 0.126 0.00112.088
tronco.caprese0.2190.0010.219
tronco.capri2.5060.0712.583
tronco.chowliu1.9360.0361.975
tronco.edmonds1.6560.0081.668
tronco.gabow1.5840.0161.602
tronco.kfold.eloss0.1150.0120.128
tronco.kfold.posterr0.1330.0204.424
tronco.kfold.prederr0.0970.0214.100
tronco.plot0.1860.0120.199
tronco.prim2.8910.1123.010
view0.0040.0000.005
which.samples0.0030.0000.004