| Back to Multiple platform build/check report for BioC 3.22: simplified long |
|
This page was generated on 2025-11-12 11:58 -0500 (Wed, 12 Nov 2025).
| Hostname | OS | Arch (*) | R version | Installed pkgs |
|---|---|---|---|---|
| nebbiolo2 | Linux (Ubuntu 24.04.3 LTS) | x86_64 | 4.5.1 Patched (2025-08-23 r88802) -- "Great Square Root" | 4902 |
| taishan | Linux (openEuler 24.03 LTS) | aarch64 | 4.5.0 (2025-04-11) -- "How About a Twenty-Six" | 4668 |
| Click on any hostname to see more info about the system (e.g. compilers) (*) as reported by 'uname -p', except on Windows and Mac OS X | ||||
| Package 2188/2361 | Hostname | OS / Arch | INSTALL | BUILD | CHECK | BUILD BIN | ||||||||
| TBSignatureProfiler 1.22.0 (landing page) Kiloni Quiles
| nebbiolo2 | Linux (Ubuntu 24.04.3 LTS) / x86_64 | OK | OK | OK | |||||||||
| taishan | Linux (openEuler 24.03 LTS) / aarch64 | OK | OK | OK | ||||||||||
|
To the developers/maintainers of the TBSignatureProfiler package: - Allow up to 24 hours (and sometimes 48 hours) for your latest push to git@git.bioconductor.org:packages/TBSignatureProfiler.git to reflect on this report. See Troubleshooting Build Report for more information. - Use the following Renviron settings to reproduce errors and warnings. - If 'R CMD check' started to fail recently on the Linux builder(s) over a missing dependency, add the missing dependency to 'Suggests:' in your DESCRIPTION file. See Renviron.bioc for more information. - See Martin Grigorov's blog post for how to debug Linux ARM64 related issues on a x86_64 host. |
| Package: TBSignatureProfiler |
| Version: 1.22.0 |
| Command: /home/biocbuild/R/R/bin/R CMD check --install=check:TBSignatureProfiler.install-out.txt --library=/home/biocbuild/R/R/site-library --no-vignettes --timings TBSignatureProfiler_1.22.0.tar.gz |
| StartedAt: 2025-11-11 15:44:43 -0000 (Tue, 11 Nov 2025) |
| EndedAt: 2025-11-11 15:47:57 -0000 (Tue, 11 Nov 2025) |
| EllapsedTime: 194.4 seconds |
| RetCode: 0 |
| Status: OK |
| CheckDir: TBSignatureProfiler.Rcheck |
| Warnings: 0 |
##############################################################################
##############################################################################
###
### Running command:
###
### /home/biocbuild/R/R/bin/R CMD check --install=check:TBSignatureProfiler.install-out.txt --library=/home/biocbuild/R/R/site-library --no-vignettes --timings TBSignatureProfiler_1.22.0.tar.gz
###
##############################################################################
##############################################################################
* using log directory ‘/home/biocbuild/bbs-3.22-bioc/meat/TBSignatureProfiler.Rcheck’
* using R version 4.5.0 (2025-04-11)
* using platform: aarch64-unknown-linux-gnu
* R was compiled by
aarch64-unknown-linux-gnu-gcc (GCC) 14.2.0
GNU Fortran (GCC) 14.2.0
* running under: openEuler 24.03 (LTS)
* using session charset: UTF-8
* using option ‘--no-vignettes’
* checking for file ‘TBSignatureProfiler/DESCRIPTION’ ... OK
* this is package ‘TBSignatureProfiler’ version ‘1.22.0’
* package encoding: UTF-8
* checking package namespace information ... OK
* checking package dependencies ... OK
* checking if this is a source package ... OK
* checking if there is a namespace ... OK
* checking for hidden files and directories ... OK
* checking for portable file names ... OK
* checking for sufficient/correct file permissions ... OK
* checking whether package ‘TBSignatureProfiler’ can be installed ... OK
* checking installed package size ... OK
* checking package directory ... OK
* checking ‘build’ directory ... OK
* checking DESCRIPTION meta-information ... OK
* checking top-level files ... OK
* checking for left-over files ... OK
* checking index information ... OK
* checking package subdirectories ... OK
* checking code files for non-ASCII characters ... OK
* checking R files for syntax errors ... OK
* checking whether the package can be loaded ... OK
* checking whether the package can be loaded with stated dependencies ... OK
* checking whether the package can be unloaded cleanly ... OK
* checking whether the namespace can be loaded with stated dependencies ... OK
* checking whether the namespace can be unloaded cleanly ... OK
* checking loading without being on the library search path ... OK
* checking dependencies in R code ... OK
* checking S3 generic/method consistency ... OK
* checking replacement functions ... OK
* checking foreign function calls ... OK
* checking R code for possible problems ... OK
* checking Rd files ... OK
* checking Rd metadata ... OK
* checking Rd cross-references ... OK
* checking for missing documentation entries ... OK
* checking for code/documentation mismatches ... OK
* checking Rd \usage sections ... OK
* checking Rd contents ... OK
* checking for unstated dependencies in examples ... OK
* checking contents of ‘data’ directory ... OK
* checking data for non-ASCII characters ... OK
* checking LazyData ... OK
* checking data for ASCII and uncompressed saves ... OK
* checking files in ‘vignettes’ ... OK
* checking examples ... OK
Examples with CPU (user + system) or elapsed time > 5s
user system elapsed
bootstrapAUC 13.766 0.486 14.313
signatureROCplot_CI 7.458 0.048 7.526
SignatureQuantitative 5.560 0.233 5.818
signatureGeneHeatmap 5.681 0.016 5.714
* checking for unstated dependencies in ‘tests’ ... OK
* checking tests ...
Running ‘packagecoverage.R’
Running ‘spelling.R’
Running ‘testthat.R’
OK
* checking for unstated dependencies in vignettes ... OK
* checking package vignettes ... OK
* checking running R code from vignettes ... SKIPPED
* checking re-building of vignette outputs ... SKIPPED
* checking PDF version of manual ... OK
* DONE
Status: OK
TBSignatureProfiler.Rcheck/00install.out
############################################################################## ############################################################################## ### ### Running command: ### ### /home/biocbuild/R/R/bin/R CMD INSTALL TBSignatureProfiler ### ############################################################################## ############################################################################## * installing to library ‘/home/biocbuild/R/R-4.5.0/site-library’ * installing *source* package ‘TBSignatureProfiler’ ... ** this is package ‘TBSignatureProfiler’ version ‘1.22.0’ ** using staged installation ** R ** data *** moving datasets to lazyload DB ** inst ** byte-compile and prepare package for lazy loading ** help *** installing help indices ** building package indices ** installing vignettes ** testing if installed package can be loaded from temporary location ** testing if installed package can be loaded from final location ** testing if installed package keeps a record of temporary installation path * DONE (TBSignatureProfiler)
TBSignatureProfiler.Rcheck/tests/packagecoverage.Rout
R version 4.5.0 (2025-04-11) -- "How About a Twenty-Six"
Copyright (C) 2025 The R Foundation for Statistical Computing
Platform: aarch64-unknown-linux-gnu
R is free software and comes with ABSOLUTELY NO WARRANTY.
You are welcome to redistribute it under certain conditions.
Type 'license()' or 'licence()' for distribution details.
R is a collaborative project with many contributors.
Type 'contributors()' for more information and
'citation()' on how to cite R or R packages in publications.
Type 'demo()' for some demos, 'help()' for on-line help, or
'help.start()' for an HTML browser interface to help.
Type 'q()' to quit R.
> # Coverage Script
> # Run tests and generate Code Coverage Report
>
> # Look at a specific script ---------------------------------------------------
> #test_for_me <- function(codefile, testfile) {
> # test_file(testfile)
> # res <- covr::file_coverage(codefile, testfile)
> # print(res)
> # covr::report(res)
> #}
>
> #test_for_me("R/evaluate.R", "tests/testthat/test-evaluate.R")
> # Look at whole package -------------------------------------------------------
> # Gets percent coverage for entire package, by script
> #covr::package_coverage()
> #
> # Report with gui (probably the best here)
> #covr::report()
>
> proc.time()
user system elapsed
0.189 0.034 0.224
TBSignatureProfiler.Rcheck/tests/spelling.Rout
R version 4.5.0 (2025-04-11) -- "How About a Twenty-Six"
Copyright (C) 2025 The R Foundation for Statistical Computing
Platform: aarch64-unknown-linux-gnu
R is free software and comes with ABSOLUTELY NO WARRANTY.
You are welcome to redistribute it under certain conditions.
Type 'license()' or 'licence()' for distribution details.
R is a collaborative project with many contributors.
Type 'contributors()' for more information and
'citation()' on how to cite R or R packages in publications.
Type 'demo()' for some demos, 'help()' for on-line help, or
'help.start()' for an HTML browser interface to help.
Type 'q()' to quit R.
> if (requireNamespace("spelling", quietly = TRUE))
+ spelling::spell_check_test(vignettes = TRUE, error = FALSE,
+ skip_on_cran = TRUE)
All Done!
>
> proc.time()
user system elapsed
0.208 0.024 0.217
TBSignatureProfiler.Rcheck/tests/testthat.Rout
R version 4.5.0 (2025-04-11) -- "How About a Twenty-Six"
Copyright (C) 2025 The R Foundation for Statistical Computing
Platform: aarch64-unknown-linux-gnu
R is free software and comes with ABSOLUTELY NO WARRANTY.
You are welcome to redistribute it under certain conditions.
Type 'license()' or 'licence()' for distribution details.
R is a collaborative project with many contributors.
Type 'contributors()' for more information and
'citation()' on how to cite R or R packages in publications.
Type 'demo()' for some demos, 'help()' for on-line help, or
'help.start()' for an HTML browser interface to help.
Type 'q()' to quit R.
> library(testthat)
> library(TBSignatureProfiler)
>
> test_check("TBSignatureProfiler")
|
| | 0%
|
|======================================================================| 100%
|
| | 0%
|
|======================================================================| 100%
|
| | 0%
|
|======================================================================| 100%
|
| | 0%
|
|======================================================================| 100%
|
| | 0%
|
|======================================================================| 100%
|
| | 0%
|
|======================================================================| 100%
|
| | 0%
|
|======================================================================| 100%
|
| | 0%
|
|======================================================================| 100%
|
| | 0%
|
|======================================================================| 100%
|
| | 0%
|
|======================================================================| 100%
|
| | 0%
|
|======================================================================| 100%
|
| | 0%
|
|======================================================================| 100%
|
| | 0%
|
|======================================================================| 100%
|
| | 0%
|
|======================================================================| 100%
|
| | 0%
|
|======================================================================| 100%
================================================================================
================================================================================
================================================================================
================================================================================
================================================================================
[ FAIL 0 | WARN 8 | SKIP 0 | PASS 136 ]
[ FAIL 0 | WARN 8 | SKIP 0 | PASS 136 ]
>
> proc.time()
user system elapsed
80.573 1.095 81.911
TBSignatureProfiler.Rcheck/TBSignatureProfiler-Ex.timings
| name | user | system | elapsed | |
| COVIDsignatures | 0.014 | 0.004 | 0.018 | |
| OriginalTrainingData | 0.001 | 0.000 | 0.001 | |
| SignatureQuantitative | 5.560 | 0.233 | 5.818 | |
| TBSPapp | 0 | 0 | 0 | |
| TB_hiv | 0.002 | 0.000 | 0.001 | |
| TB_indian | 0.000 | 0.001 | 0.001 | |
| TBcommon | 0.000 | 0.001 | 0.001 | |
| TBsignatures | 0.000 | 0.000 | 0.001 | |
| TBsignaturesSplit | 0.001 | 0.000 | 0.001 | |
| addTBsignature | 0.01 | 0.00 | 0.01 | |
| bootstrapAUC | 13.766 | 0.486 | 14.313 | |
| common_sigAnnotData | 0.001 | 0.000 | 0.001 | |
| compareAlgs | 3.151 | 0.112 | 3.270 | |
| compareBoxplots | 1.357 | 0.068 | 1.428 | |
| deseq2_norm_rle | 0.339 | 0.012 | 0.351 | |
| distinctColors | 0.002 | 0.000 | 0.002 | |
| evaluateOriginalModel | 0.353 | 0.020 | 0.374 | |
| mkAssay | 3.310 | 0.048 | 3.366 | |
| plotQuantitative | 2.675 | 0.000 | 2.682 | |
| runTBsigProfiler | 0.710 | 0.004 | 0.716 | |
| sigAnnotData | 0.001 | 0.000 | 0.000 | |
| signatureBoxplot | 1.329 | 0.008 | 1.341 | |
| signatureGeneHeatmap | 5.681 | 0.016 | 5.714 | |
| signatureHeatmap | 1.115 | 0.008 | 1.126 | |
| signatureROCplot | 1.450 | 0.000 | 1.455 | |
| signatureROCplot_CI | 7.458 | 0.048 | 7.526 | |
| tableAUC | 0.792 | 0.022 | 0.827 | |