| Back to Multiple platform build/check report for BioC 3.22: simplified long |
|
This page was generated on 2025-11-11 12:02 -0500 (Tue, 11 Nov 2025).
| Hostname | OS | Arch (*) | R version | Installed pkgs |
|---|---|---|---|---|
| nebbiolo2 | Linux (Ubuntu 24.04.3 LTS) | x86_64 | 4.5.1 Patched (2025-08-23 r88802) -- "Great Square Root" | 4902 |
| kjohnson3 | macOS 13.7.7 Ventura | arm64 | 4.5.1 Patched (2025-09-10 r88807) -- "Great Square Root" | 4638 |
| Click on any hostname to see more info about the system (e.g. compilers) (*) as reported by 'uname -p', except on Windows and Mac OS X | ||||
| Package 2066/2361 | Hostname | OS / Arch | INSTALL | BUILD | CHECK | BUILD BIN | ||||||||
| SpaceTrooper 1.0.0 (landing page) Dario Righelli
| nebbiolo2 | Linux (Ubuntu 24.04.3 LTS) / x86_64 | OK | OK | OK | |||||||||
| kjohnson3 | macOS 13.7.7 Ventura / arm64 | OK | OK | OK | OK | |||||||||
|
To the developers/maintainers of the SpaceTrooper package: - Allow up to 24 hours (and sometimes 48 hours) for your latest push to git@git.bioconductor.org:packages/SpaceTrooper.git to reflect on this report. See Troubleshooting Build Report for more information. - Use the following Renviron settings to reproduce errors and warnings. - If 'R CMD check' started to fail recently on the Linux builder(s) over a missing dependency, add the missing dependency to 'Suggests:' in your DESCRIPTION file. See Renviron.bioc for more information. |
| Package: SpaceTrooper |
| Version: 1.0.0 |
| Command: /home/biocbuild/bbs-3.22-bioc/R/bin/R CMD check --install=check:SpaceTrooper.install-out.txt --library=/home/biocbuild/bbs-3.22-bioc/R/site-library --timings SpaceTrooper_1.0.0.tar.gz |
| StartedAt: 2025-11-11 04:29:39 -0500 (Tue, 11 Nov 2025) |
| EndedAt: 2025-11-11 04:36:04 -0500 (Tue, 11 Nov 2025) |
| EllapsedTime: 385.3 seconds |
| RetCode: 0 |
| Status: OK |
| CheckDir: SpaceTrooper.Rcheck |
| Warnings: 0 |
##############################################################################
##############################################################################
###
### Running command:
###
### /home/biocbuild/bbs-3.22-bioc/R/bin/R CMD check --install=check:SpaceTrooper.install-out.txt --library=/home/biocbuild/bbs-3.22-bioc/R/site-library --timings SpaceTrooper_1.0.0.tar.gz
###
##############################################################################
##############################################################################
* using log directory ‘/home/biocbuild/bbs-3.22-bioc/meat/SpaceTrooper.Rcheck’
* using R version 4.5.1 Patched (2025-08-23 r88802)
* using platform: x86_64-pc-linux-gnu
* R was compiled by
gcc (Ubuntu 13.3.0-6ubuntu2~24.04) 13.3.0
GNU Fortran (Ubuntu 13.3.0-6ubuntu2~24.04) 13.3.0
* running under: Ubuntu 24.04.3 LTS
* using session charset: UTF-8
* checking for file ‘SpaceTrooper/DESCRIPTION’ ... OK
* checking extension type ... Package
* this is package ‘SpaceTrooper’ version ‘1.0.0’
* package encoding: UTF-8
* checking package namespace information ... OK
* checking package dependencies ... OK
* checking if this is a source package ... OK
* checking if there is a namespace ... OK
* checking for hidden files and directories ... OK
* checking for portable file names ... OK
* checking for sufficient/correct file permissions ... OK
* checking whether package ‘SpaceTrooper’ can be installed ... OK
* checking installed package size ... INFO
installed size is 7.6Mb
sub-directories of 1Mb or more:
extdata 7.2Mb
* checking package directory ... OK
* checking ‘build’ directory ... OK
* checking DESCRIPTION meta-information ... OK
* checking top-level files ... OK
* checking for left-over files ... OK
* checking index information ... OK
* checking package subdirectories ... OK
* checking code files for non-ASCII characters ... OK
* checking R files for syntax errors ... OK
* checking whether the package can be loaded ... OK
* checking whether the package can be loaded with stated dependencies ... OK
* checking whether the package can be unloaded cleanly ... OK
* checking whether the namespace can be loaded with stated dependencies ... OK
* checking whether the namespace can be unloaded cleanly ... OK
* checking loading without being on the library search path ... OK
* checking dependencies in R code ... OK
* checking S3 generic/method consistency ... OK
* checking replacement functions ... OK
* checking foreign function calls ... OK
* checking R code for possible problems ... OK
* checking Rd files ... OK
* checking Rd metadata ... OK
* checking Rd cross-references ... OK
* checking for missing documentation entries ... OK
* checking for code/documentation mismatches ... OK
* checking Rd \usage sections ... OK
* checking Rd contents ... OK
* checking for unstated dependencies in examples ... OK
* checking files in ‘vignettes’ ... OK
* checking examples ... OK
* checking for unstated dependencies in ‘tests’ ... OK
* checking tests ...
Running ‘testthat.R’
OK
* checking for unstated dependencies in vignettes ... OK
* checking package vignettes ... OK
* checking re-building of vignette outputs ... OK
* checking PDF version of manual ... OK
* DONE
Status: OK
SpaceTrooper.Rcheck/00install.out
############################################################################## ############################################################################## ### ### Running command: ### ### /home/biocbuild/bbs-3.22-bioc/R/bin/R CMD INSTALL SpaceTrooper ### ############################################################################## ############################################################################## * installing to library ‘/home/biocbuild/bbs-3.22-bioc/R/site-library’ * installing *source* package ‘SpaceTrooper’ ... ** this is package ‘SpaceTrooper’ version ‘1.0.0’ ** using staged installation ** R ** inst ** byte-compile and prepare package for lazy loading ** help *** installing help indices ** building package indices ** installing vignettes ** testing if installed package can be loaded from temporary location ** testing if installed package can be loaded from final location ** testing if installed package keeps a record of temporary installation path * DONE (SpaceTrooper)
SpaceTrooper.Rcheck/tests/testthat.Rout
R version 4.5.1 Patched (2025-08-23 r88802) -- "Great Square Root"
Copyright (C) 2025 The R Foundation for Statistical Computing
Platform: x86_64-pc-linux-gnu
R is free software and comes with ABSOLUTELY NO WARRANTY.
You are welcome to redistribute it under certain conditions.
Type 'license()' or 'licence()' for distribution details.
R is a collaborative project with many contributors.
Type 'contributors()' for more information and
'citation()' on how to cite R or R packages in publications.
Type 'demo()' for some demos, 'help()' for on-line help, or
'help.start()' for an HTML browser interface to help.
Type 'q()' to quit R.
> # This file is part of the standard setup for testthat.
> # It is recommended that you do not modify it.
> #
> # Where should you do additional test configuration?
> # Learn more about the roles of various files in:
> # * https://r-pkgs.org/testing-design.html#sec-tests-files-overview
> # * https://testthat.r-lib.org/articles/special-files.html
>
> library(testthat)
> library(SpaceTrooper)
Loading required package: SpatialExperiment
Loading required package: SingleCellExperiment
Loading required package: SummarizedExperiment
Loading required package: MatrixGenerics
Loading required package: matrixStats
Attaching package: 'MatrixGenerics'
The following objects are masked from 'package:matrixStats':
colAlls, colAnyNAs, colAnys, colAvgsPerRowSet, colCollapse,
colCounts, colCummaxs, colCummins, colCumprods, colCumsums,
colDiffs, colIQRDiffs, colIQRs, colLogSumExps, colMadDiffs,
colMads, colMaxs, colMeans2, colMedians, colMins, colOrderStats,
colProds, colQuantiles, colRanges, colRanks, colSdDiffs, colSds,
colSums2, colTabulates, colVarDiffs, colVars, colWeightedMads,
colWeightedMeans, colWeightedMedians, colWeightedSds,
colWeightedVars, rowAlls, rowAnyNAs, rowAnys, rowAvgsPerColSet,
rowCollapse, rowCounts, rowCummaxs, rowCummins, rowCumprods,
rowCumsums, rowDiffs, rowIQRDiffs, rowIQRs, rowLogSumExps,
rowMadDiffs, rowMads, rowMaxs, rowMeans2, rowMedians, rowMins,
rowOrderStats, rowProds, rowQuantiles, rowRanges, rowRanks,
rowSdDiffs, rowSds, rowSums2, rowTabulates, rowVarDiffs, rowVars,
rowWeightedMads, rowWeightedMeans, rowWeightedMedians,
rowWeightedSds, rowWeightedVars
Loading required package: GenomicRanges
Loading required package: stats4
Loading required package: BiocGenerics
Loading required package: generics
Attaching package: 'generics'
The following objects are masked from 'package:base':
as.difftime, as.factor, as.ordered, intersect, is.element, setdiff,
setequal, union
Attaching package: 'BiocGenerics'
The following objects are masked from 'package:stats':
IQR, mad, sd, var, xtabs
The following objects are masked from 'package:base':
Filter, Find, Map, Position, Reduce, anyDuplicated, aperm, append,
as.data.frame, basename, cbind, colnames, dirname, do.call,
duplicated, eval, evalq, get, grep, grepl, is.unsorted, lapply,
mapply, match, mget, order, paste, pmax, pmax.int, pmin, pmin.int,
rank, rbind, rownames, sapply, saveRDS, table, tapply, unique,
unsplit, which.max, which.min
Loading required package: S4Vectors
Attaching package: 'S4Vectors'
The following object is masked from 'package:utils':
findMatches
The following objects are masked from 'package:base':
I, expand.grid, unname
Loading required package: IRanges
Loading required package: Seqinfo
Loading required package: Biobase
Welcome to Bioconductor
Vignettes contain introductory material; view with
'browseVignettes()'. To cite Bioconductor, see
'citation("Biobase")', and for packages 'citation("pkgname")'.
Attaching package: 'Biobase'
The following object is masked from 'package:MatrixGenerics':
rowMedians
The following objects are masked from 'package:matrixStats':
anyMissing, rowMedians
>
> test_check("SpaceTrooper")
rdCSPE> cospath <- system.file(file.path("extdata", "CosMx_DBKero_Tiny"),
rdCSPE+ package="SpaceTrooper")
rdCSPE> spe <- readCosmxSPE(cospath, sampleName="DBKero_Tiny")
Removing 1 cells with 0 counts!
Removing 1 cells with 0 counts!
Removing 1 cells with 0 counts!
Removing 1 cells with 0 counts!
[ FAIL 0 | WARN 0 | SKIP 0 | PASS 16 ]
>
> proc.time()
user system elapsed
17.243 0.940 18.172
SpaceTrooper.Rcheck/SpaceTrooper-Ex.timings
| name | user | system | elapsed | |
| addPolygonsToSPE | 0.695 | 0.026 | 0.727 | |
| checkOutliers | 1.375 | 0.084 | 1.459 | |
| computeAreaFromPolygons | 0.248 | 0.056 | 0.306 | |
| computeAspectRatioFromPolygons | 0.236 | 0.002 | 0.238 | |
| computeCenterFromPolygons | 0.232 | 0.002 | 0.232 | |
| computeLambda | 1.527 | 0.034 | 1.561 | |
| computeMissingMetricsMerfish | 0.237 | 0.002 | 0.238 | |
| computeMissingMetricsXenium | 0.502 | 0.003 | 0.505 | |
| computeOutliersQCScore | 1.292 | 0.021 | 1.314 | |
| computeQCScore | 2.359 | 0.093 | 2.452 | |
| computeQCScoreFlags | 1.682 | 0.036 | 1.717 | |
| computeSpatialOutlier | 0.979 | 0.036 | 1.014 | |
| computeThresholdFlags | 0.973 | 0.041 | 1.014 | |
| computeTrainDF | 1.342 | 0.009 | 1.351 | |
| dot-getActiveGeometryName | 0.366 | 0.018 | 0.383 | |
| dot-renameGeometry | 0.391 | 0.007 | 0.397 | |
| dot-setActiveGeometry | 0.395 | 0.005 | 0.399 | |
| getFencesOutlier | 0.965 | 0.007 | 0.972 | |
| getModelFormula | 1.311 | 0.001 | 1.313 | |
| plotCellsFovs | 0.529 | 0.001 | 0.531 | |
| plotCentroids | 0.740 | 0.002 | 0.744 | |
| plotMetricHist | 0.524 | 0.001 | 0.525 | |
| plotPolygons | 0.951 | 0.023 | 0.974 | |
| plotQScoreTerms | 2.367 | 0.010 | 2.377 | |
| plotZoomFovsMap | 1.317 | 0.027 | 1.344 | |
| qcFlagPlots | 2.893 | 0.020 | 2.912 | |
| readAndAddPolygonsToSPE | 0.548 | 0.014 | 0.563 | |
| readCosmxSPE | 0.265 | 0.000 | 0.265 | |
| readMerfishSPE | 0.188 | 0.010 | 0.198 | |
| readPolygons | 0.386 | 0.006 | 0.391 | |
| readPolygonsCosmx | 0.375 | 0.003 | 0.378 | |
| readPolygonsMerfish | 0.213 | 0.001 | 0.213 | |
| readPolygonsXenium | 0.424 | 0.005 | 0.429 | |
| readXeniumSPE | 0.411 | 0.004 | 0.416 | |
| spatialPerCellQC | 0.962 | 0.041 | 1.003 | |
| trainModel | 1.448 | 0.033 | 1.482 | |
| updateCosmxProteinSPE | 0.273 | 0.007 | 0.283 | |
| updateCosmxSPE | 0.441 | 0.003 | 0.444 | |
| updateXeniumSPE | 0.428 | 0.000 | 0.429 | |